BEGIN:VCALENDAR
VERSION:2.0
PRODID:-//Gee Whiz Labs, Inc//Keep&Share Calendar  //EN
METHOD:PUBLISH
CALSCALE:GREGORIAN
X-WR-CALNAME:RCStaff -Trips
X-WR-TIMEZONE:America/Denver
BEGIN:VTIMEZONE
TZID:America/Denver
BEGIN:DAYLIGHT
DTSTART:20260308T020000
TZOFFSETFROM:-0700
TZOFFSETTO:-0600
TZNAME:MDT
END:DAYLIGHT
BEGIN:STANDARD
DTSTART:20261101T020000
TZOFFSETFROM:-0600
TZOFFSETTO:-0700
TZNAME:MST
END:STANDARD
END:VTIMEZONE
BEGIN:VEVENT
DTSTAMP:20211210T191655Z
DTSTART;VALUE=DATE:20260310
DTEND;VALUE=DATE:20260312
TRANSP:OPAQUE
RRULE:FREQ=MONTHLY;UNTIL=20991231;INTERVAL=1;BYDAY=2TU
SUMMARY:@@2nd Tuesday of Month - Quarterly Review in LA - Day Trip 'Chuck Roper & Danielle'
UID:de2eec0ab457d75b1a523cc1a01ffd40@keepandshare.com
EXDATE;VALUE=DATE:20150908
EXDATE;VALUE=DATE:20190709
EXDATE;VALUE=DATE:20210810
EXDATE;VALUE=DATE:20190108
EXDATE;VALUE=DATE:20230314
EXDATE;VALUE=DATE:20170214
EXDATE;VALUE=DATE:20170215
EXDATE;VALUE=DATE:20161108
EXDATE;VALUE=DATE:20160913
EXDATE;VALUE=DATE:20151110
EXDATE;VALUE=DATE:20160412
EXDATE;VALUE=DATE:20151208
EXDATE;VALUE=DATE:20200310
SEQUENCE:0
END:VEVENT
BEGIN:VEVENT
DTSTAMP:20190123T184242Z
DTSTART;VALUE=DATE:20260228
DTEND;VALUE=DATE:20260303
TRANSP:OPAQUE
RRULE:FREQ=MONTHLY;BYMONTHDAY=28;UNTIL=20991231;INTERVAL=1
SUMMARY:Client review in Columbus office
UID:9b68cb5cecccdf5cf059f5a86da3b972@keepandshare.com
EXDATE;VALUE=DATE:20190729
SEQUENCE:0
END:VEVENT
END:VCALENDAR

