BEGIN:VCALENDAR
VERSION:2.0
PRODID:-//Gee Whiz Labs, Inc//Keep&Share Calendar  //EN
METHOD:PUBLISH
CALSCALE:GREGORIAN
X-WR-CALNAME:KCWS
X-WR-TIMEZONE:America/Chicago
BEGIN:VTIMEZONE
TZID:America/Chicago
BEGIN:DAYLIGHT
DTSTART:20260308T020000
TZOFFSETFROM:-0600
TZOFFSETTO:-0500
TZNAME:CDT
END:DAYLIGHT
BEGIN:STANDARD
DTSTART:20261101T020000
TZOFFSETFROM:-0500
TZOFFSETTO:-0600
TZNAME:CST
END:STANDARD
END:VTIMEZONE
BEGIN:VEVENT
DTSTAMP:20250625T021327Z
DTSTART;TZID=America/Chicago:20260315T150000
DTEND;TZID=America/Chicago:20260315T163000
TRANSP:OPAQUE
SUMMARY:KCWS Concert #4
UID:18ecc73561aee832db2a9519d17c3159@keepandshare.com
SEQUENCE:0
END:VEVENT
BEGIN:VEVENT
DTSTAMP:20260325T173735Z
DTSTART;TZID=America/Chicago:20260405T190000
DTEND;TZID=America/Chicago:20260405T210000
TRANSP:OPAQUE
SUMMARY:NO KCWS Rehearsal
UID:0a9885c907300eb1cb089feff0354c5e@keepandshare.com
SEQUENCE:0
END:VEVENT
BEGIN:VEVENT
DTSTAMP:20250625T021505Z
DTSTART;TZID=America/Chicago:20260426T190000
DTEND;TZID=America/Chicago:20260426T203000
TRANSP:OPAQUE
SUMMARY:KCWS Concert #5
UID:4a944772f67c0c01bfd5d074a3a90a45@keepandshare.com
SEQUENCE:0
END:VEVENT
BEGIN:VEVENT
DTSTAMP:20250625T021246Z
DTSTART;TZID=America/Chicago:20260301T190000
DTEND;TZID=America/Chicago:20260301T210000
TRANSP:OPAQUE
RRULE:FREQ=WEEKLY;BYDAY=SU;UNTIL=20260309T020000Z;INTERVAL=1
SUMMARY:KCWS Rehearsal
UID:44e0a9748fe1e89c68ad8d581106bf2d@keepandshare.com
SEQUENCE:0
END:VEVENT
BEGIN:VEVENT
DTSTAMP:20250625T021444Z
DTSTART;TZID=America/Chicago:20260322T190000
DTEND;TZID=America/Chicago:20260322T210000
TRANSP:OPAQUE
RRULE:FREQ=WEEKLY;BYDAY=SU;UNTIL=20260420T020000Z;INTERVAL=1
SUMMARY:KCWS Rehearsal
UID:2e6b5d0e787eb185db4048bfe784842d@keepandshare.com
EXDATE;VALUE=DATE-TIME;TZID=America/Chicago:20260405T190000
SEQUENCE:0
END:VEVENT
END:VCALENDAR

