Workbook

Sheet ❄️ SD-WIN-BBALL ⚾
A1: STATUS | C1: FY24 | D1: FY25 | E1: Camp Code | F1: Site Name | G1: Facility Name | H1: Site address | I1: Site city | J1: State | K1: Zip | L1: Email | M1: First Name | N1: Last name | O1: Director address | P1: Director city | Q1: State | R1: Zip | S1: Home # | T1: Cell # | U1: Work # | W1: START | X1: END | Y1: COR. DATES | Z1: COR. TIMES | AA1: CFM DATES | AB1: CFM TIMES | AC1: Notes | AE1: MAX | AF1: LY$ | AG1: S$ | AH1: DP$ | AJ1: USBA LANDING PAGE | AN1: NEW | AO1: SUM | AP1: 2ND | AQ1: RET | AS1: 45996 | AT1: 45632 | AU1: 26v25# | AV1: 26v25% | AX1: 46005 | AY1: 45640 | AZ1: 26v25# | BA1: 26v25% | BC1: 46016 | BD1: 46015 | BE1: 26v25# | BF1: 26v25% | BH1: 46022 | BI1: 45658 | BJ1: 26v25# | BK1: 26v25% | BM1: 46028 | BN1: 45664 | BO1: 26v25# | BP1: 26v25% | BR1: 45684 | BS1: 45685
A2: A-NEW | C2: x | E2: USBDBP | F2: Baseball Plus (Feb./Mar. Sessions) | H2: 400 Duffy Ave | I2: Hicksville | J2: NY | K2: 11801 | L2: thebaseballwhisperer@gmail.com | M2: Roger | N2: Mischel | T2: 347-992-1736 | W2: 227 | X2: 320 | AA2: Fridays: Feb. 27; Mar. 6, 13, 20 | AB2: 6pm-9pm | AP2: X | AX2: 1 | BC2: 7 | BH2: 10 | BM2: 13 | BR2: 15
A3: A-NEW | E3: USBDCHCA | F3: Cincinnati Hills Christian Academy (Upper School) | H3: 11525 Snider Rd | I3: Cincinnati | J3: OH | K3: 45249 | L3: tony.schulz@chca-oh.org | M3: Tony | N3: Schulz | T3: 513-638-1463 | U3: 513-247-0900 #218 | W3: 118 | X3: 419 | AA3: Sundays: Jan. 18, 25 (PPD); Feb. 1, 15; Mar. 7 (PPD), 14 (PPD); Apr. 19 (M/U) | AB3: 2pm-6:30pm | AJ3: https://usbaseballacademy.com/cincinnati-baseball-camp/ | AL3: =H3&" "&I3&","&" "&J3&" "&K3 -> 11525 Snider Rd Cincinnati, OH 45249 | AN3: X | AS3: 5 | AX3: 11 | BC3: 29 | BH3: 54 | BM3: 68 | BR3: 81
A4: A-NEW | E4: USBDCIC | F4: Citrus College | H4: 1000 W Foothill Blvd | I4: Glendora | J4: CA | K4: 91741 | L4: asmith@citruscollege.edu | M4: Andy | N4: Smith | T4: 702-523-1578 | W4: 111 | X4: 201 | AA4: Sundays: Jan. 11, 18, 25; Feb. 1 | AB4: 9am-1:30pm | AJ4: https://usbaseballacademy.com/glendora-baseball-camp/ | AL4: =H4&" "&I4&","&" "&J4&" "&K4 -> 1000 W Foothill Blvd Glendora, CA 91741 | AN4: X | AS4: 86 | AX4: 150 | BC4: 169 | BH4: 179 | BM4: 193 | BR4: 186
A5: A-NEW | E5: USBDCOC | F5: Coalinga College | H5: 300 W Cherry Lane | I5: Coalinga | J5: CA | K5: 93210 | L5: jacobcastro8025@my.whccd.edu | M5: Jacob | N5: Castro | T5: 909-472-9495 | W5: 111 | X5: 201 | AA5: Sundays: Jan. 11, 18, 25; Feb. 1 | AB5: Noon-4:30pm | AJ5: https://usbaseballacademy.com/coalinga-baseball-camp/ | AL5: =H5&" "&I5&","&" "&J5&" "&K5 -> 300 W Cherry Lane Coalinga, CA 93210 | AN5: X | AS5: 19 | AX5: 22 | BC5: 30 | BH5: 28 | BM5: 29 | BR5: 32
A6: A-NEW | E6: USBDCBC | F6: Columbia Basin College | H6: 2600 N 20th Ave | I6: Pasco | J6: WA | K6: 99301 | L6: smcgovern@columbiabasin.edu | M6: Stefan | N6: McGovern | T6: 415-377-7794 | W6: 118 | X6: 301 | AA6: Sundays: Jan. 18, 25 (PPD); Feb. 1, 8; Mar. 1 (M/U) | AB6: 10am-2:30pm | AJ6: https://usbaseballacademy.com/pasco-baseball-camp/ | AL6: =H6&" "&I6&","&" "&J6&" "&K6 -> 2600 N 20th Ave Pasco, WA 99301 | AN6: X | AS6: 53 | AX6: 64 | BC6: 74 | BH6: 76 | BM6: 82 | BR6: 85
A7: A-NEW | E7: USBDCCC | F7: Community Christian College | G7: The Packing House | H7: 27165 San Bernardino Ave | I7: Redlands | J7: CA | K7: 92374 | L7: mbugarin@cccollege.edu | M7: Marcos | N7: Bugarin | T7: 626-222-3588 | W7: 21 | X7: 111 | AA7: Sundays: Dec. 21, 28; Jan. 4, 11 | AB7: 9am-1:30pm | AJ7: https://usbaseballacademy.com/redlands-baseball-camp/ | AL7: =H7&" "&I7&","&" "&J7&" "&K7 -> 27165 San Bernardino Ave Redlands, CA 92374 | AN7: X | AS7: 47 | AX7: 64 | BC7: 73 | BH7: 73 | BM7: 73 | BR7: 70
A8: A-NEW | C8: x | E8: USBDDG | F8: Dave Griffin's Sports Complex (Feb/Mar Sessions) | H8: 1200 W Main St | I8: Griffith | J8: IN | K8: 46319 | L8: david.griffin@pnw.edu | M8: Dave | N8: Griffin | O8: 8332 Wyman Dr | P8: St. John | Q8: IN | R8: 46373 | T8: 219-765-6242 | U8: 219-989-8018 | W8: 215 | X8: 308 | AA8: Sundays: Feb. 15, 22; Mar. 1, 8 | AB8: 2pm-6:30pm | AJ8: https://usbaseballacademy.com/hammond-baseball-camp/ | AL8: =H8&" "&I8&","&" "&J8&" "&K8 -> 1200 W Main St Griffith, IN 46319 | AP8: X | AS8: 0 | AX8: 1 | BC8: 3 | BH8: 10 | BM8: 16 | BR8: 42
A9: A-NEW | E9: USBDDCA | F9: Destiny Chrisitan Academy | H9: 3401 Mayhew Rd | I9: Sacramento | J9: CA | K9: 95827 | L9: jesse.russell@dcasac.org | M9: Jesse | N9: Russell | T9: 916-675-2526 | W9: 110 | X9: 131 | AA9: Saturdays: Jan. 10, 17, 24, 31 | AB9: 9am-1:30pm | AJ9: https://usbaseballacademy.com/sacramento-baseball-camp-2/ | AL9: =H9&" "&I9&","&" "&J9&" "&K9 -> 3401 Mayhew Rd Sacramento, CA 95827 | AN9: X | AS9: 21 | AX9: 28 | BC9: 35 | BH9: 38 | BM9: 38 | BR9: 40
A10: A-NEW | E10: USBDELS | F10: Elsik HS | H10: 12601 High Star | I10: Houston | J10: TX | K10: 77072 | L10: chuckmcelroysports16@yahoo.com | M10: Chuck | N10: McElroy | O10: 238 S Egret Bay Blvd #153 | P10: League City | Q10: TX | R10: 77573 | T10: 832-731-8306 | W10: 103 | X10: 111 | AA10: Sat./Sun.: Jan. 3, 4, 10, 11 | AB10: 9am-1:30pm | AJ10: https://usbaseballacademy.com/houston-baseball-camp/ | AL10: =H10&" "&I10&","&" "&J10&" "&K10 -> 12601 High Star Houston, TX 77072 | AN10: X | AS10: 19 | AX10: 24 | BC10: 27 | BH10: 29 | BM10: 22 | BR10: 22
A11: A-NEW | E11: USBDEHC | F11: Ezell Harding Christian School | H11: 574 Bell Rd | I11: Antioch | J11: TN | K11: 37013 | L11: jackson.austin11@gmail.com | M11: Austin | N11: Jackson | O11: 20 Beech Forge Dr | P11: Antioch | Q11: TN | R11: 37013 | T11: 615-306-3758 | W11: 104 | X11: 208 | AA11: Sundays: Jan. 4, 11, 18, 25 (PPD); Feb. 8 (M/U) | AB11: 9am-1:30pm | AJ11: https://usbaseballacademy.com/antioch-tn-baseball-camp/ | AL11: =H11&" "&I11&","&" "&J11&" "&K11 -> 574 Bell Rd Antioch, TN 37013 | AO11: X | AS11: 31 | AX11: 31 | BC11: 36 | BH11: 42 | BM11: 31 | BR11: 30
A12: A-NEW | B12: X | E12: USBDFTH | F12: Foothill HS | H12: 5000 McCloud Dr | I12: Sacramento | J12: CA | K12: 95842 | L12: cflbear@yahoo.com | M12: Mike | N12: Heller | T12: 510-529-1975 | V12: X | W12: 104 | X12: 125 | AA12: Sundays: Jan. 4, 11, 18, 25 | AB12: 1pm-5:30pm | AD12: X | AI12: X | AJ12: https://usbaseballacademy.com/sacramento-baseball-camp/ | AK12: X | AL12: =H12&" "&I12&","&" "&J12&" "&K12 -> 5000 McCloud Dr Sacramento, CA 95842 | AM12: X | AN12: X | AR12: X | AS12: 15 | AW12: X | AX12: 18 | BB12: X | BC12: 34 | BG12: X | BH12: 37 | BL12: X | BM12: 45 | BQ12: X | BR12: 45
A13: A-NEW | E13: USBDFC | F13: Franklin Central HS | H13: 6215 S. Franklin Rd | I13: Indianapolis | J13: IN | K13: 46259 | L13: garyvaught6@gmail.com | M13: Gary | N13: Vaught | O13: 241 Rooses Dr. | P13: Indianapolis | Q13: IN | R13: 46217 | T13: 317-752-6791 | W13: 118 | X13: 222 | AA13: Sundays: Jan. 18; Feb. 1, 8, 22 | AB13: 9am-1:30pm | AC13: Door N11 | AJ13: https://usbaseballacademy.com/indianapolis-baseball-camp-2/ | AL13: =H13&" "&I13&","&" "&J13&" "&K13 -> 6215 S. Franklin Rd Indianapolis, IN 46259 | AO13: X | AS13: 10 | AX13: 23 | BC13: 60 | BH13: 77 | BM13: 89 | BR13: 92
A14: A-NEW | E14: USBDHEM | F14: Hemet HS | H14: 41701 Stetson Ave | I14: Hemet | J14: CA | K14: 92544 | L14: sbrown1@hemetusd.org | M14: Steven | N14: Brown | T14: 951-490-5772 | W14: 110 | X14: 228 | AA14: Saturdays: Jan. 10, 24; Feb. 14, 28 | AB14: 9am-1:30pm | AJ14: https://usbaseballacademy.com/hemet-baseball-camp/ | AL14: =H14&" "&I14&","&" "&J14&" "&K14 -> 41701 Stetson Ave Hemet, CA 92544 | AN14: X | AS14: 34 | AX14: 44 | BC14: 51 | BH14: 52 | BM14: 55 | BR14: 60
A15: A-NEW | B15: X | E15: USBDHG | F15: Honey Grove HS | H15: 1208 17th St | I15: Honey Grove | J15: TX | K15: 75446 | L15: rddaniels@hgisd.net | M15: Don | N15: Daniels | T15: 903-267-3684 | V15: X | W15: 110 | X15: 207 | AA15: Saturdays: Jan. 10, 17, 24 (PPD), 31; Feb. 7 (M/U) | AB15: Noon-4:30pm | AD15: X | AI15: X | AJ15: https://usbaseballacademy.com/honey-grove-baseball-camp/ | AK15: X | AL15: =H15&" "&I15&","&" "&J15&" "&K15 -> 1208 17th St Honey Grove, TX 75446 | AM15: X | AN15: X | AR15: X | AS15: 12 | AW15: X | AX15: 15 | BB15: X | BC15: 19 | BG15: X | BH15: 19 | BL15: X | BM15: 19 | BQ15: X | BR15: 20
A16: A-NEW | E16: USBDKAN | F16: Kankakee CC | H16: 100 College Dr | I16: Kankakee | J16: IL | K16: 60901 | L16: bshafer@kcc.edu | M16: Bryce | N16: Shafer | T16: 815-370-5851 | W16: 104 | X16: 201 | AA16: Sundays: Jan. 4, 11, 18, 25 (PPD); Feb. 1 (M/U) | AB16: Noon-4:30pm | AJ16: https://usbaseballacademy.com/kankakee-baseball-camp/ | AL16: =H16&" "&I16&","&" "&J16&" "&K16 -> 100 College Dr Kankakee, IL 60901 | AN16: X | AS16: 63 | AX16: 77 | BC16: 93 | BH16: 101 | BM16: 100 | BR16: 98
A17: A-NEW | B17: X | E17: USBDMER | F17: Merced HS - WINTER BREAK | H17: 205 W. Olive Ave | I17: Merced | J17: CA | K17: 95348 | L17: pryschuk.n@monet.k12.ca.us | M17: Nick | N17: Pryschuk | O17: 329 Leffler Place | P17: Turlock | Q17: CA | R17: 95382 | T17: 209-534-5354 | V17: X | W17: 19 | X17: 22 | AA17: Fri.-Mon.: December 19, 20, 21, 22 | AB17: 9am-1:30pm | AD17: X | AI17: X | AK17: X | AL17: =H17&" "&I17&","&" "&J17&" "&K17 -> 205 W. Olive Ave Merced, CA 95348 | AM17: X | AN17: X | AR17: X | AS17: 11 | AT17: 4 | AU17: =AS17-AT17 -> 7 | AV17: =AS17/AT17-1 -> 1.75 | AW17: X | AX17: 15 | AY17: 10 | AZ17: =AX17-AY17 -> 5 | BA17: =AX17/AY17-1 -> 0.5 | BB17: X | BC17: 19 | BD17: 7 | BE17: =BC17-BD17 -> 12 | BF17: =BC17/BD17-1 -> 1.7142857 | BG17: X | BH17: 18 | BL17: X | BM17: 18 | BN17: 0 | BO17: =BM17-BN17 -> 18 | BP17: =BM17/BN17-1 -> #DIV/0! | BQ17: X | BR17: 18 | BS17: 0 | BT17: =BR17-BS17 -> 18
A18: A-NEW | E18: USBDMFS | F18: Moorestown Friends School | H18: 110 E. Main St | I18: Moorestown | J18: NJ | K18: 08057 | L18: jspencerlinzie@mfriends.org | M18: Justin | N18: Spencer-Linzie | T18: 609-902-7762 | W18: 103 | X18: 131 | AA18: Saturdays: Jan. 3, 10, 24, 31 | AB18: 11am-3:30pm | AJ18: https://usbaseballacademy.com/moorestown-baseball-camp/ | AL18: =H18&" "&I18&","&" "&J18&" "&K18 -> 110 E. Main St Moorestown, NJ 08057 | AN18: X | AS18: 61 | AX18: 82 | BC18: 85 | BH18: 101 | BM18: 102 | BR18: 100
A19: A-NEW | E19: USBDMOP | F19: Moorpark HS | H19: 4500 Tierra Rejada Rd | I19: Moorpark | J19: CA | K19: 93021 | L19: moorparkbsbl@gmail.com | M19: Aaron | N19: Garcia | T19: 805-390-7193 | W19: 104 | X19: 201 | AA19: Sundays: Jan. 4 (PPD), 11, 18, 25; Feb. 1 (M/U) | AB19: Noon-4:30pm | AJ19: https://usbaseballacademy.com/moorpark-baseball-camp/ | AL19: =H19&" "&I19&","&" "&J19&" "&K19 -> 4500 Tierra Rejada Rd Moorpark, CA 93021 | AN19: X | AS19: 46 | AX19: 46 | BC19: 50 | BH19: 53 | BM19: 55 | BR19: 55
A20: A-NEW | E20: USBDNCU | F20: North Country Union HS | H20: 209 Veterans Ave | I20: Newport | J20: VT | K20: 05855 | L20: mclacourse@gmail.com | M20: Mike | N20: LaCourse | T20: 802-279-9034 | W20: 125 | X20: 215 | AA20: Sundays: Jan. 25; Feb. 1, 8, 15 | AB20: 11am-3:30pm | AJ20: https://usbaseballacademy.com/newport-vt-baseball-camp/ | AL20: =H20&" "&I20&","&" "&J20&" "&K20 -> 209 Veterans Ave Newport, VT 05855 | AN20: X | AS20: 18 | AX20: 23 | BC20: 28 | BH20: 33 | BM20: 41 | BR20: 44
A21: A-NEW | E21: USBDPER | F21: Perry HS | H21: 1 Success Blvd | I21: Perry | J21: OH | K21: 44081 | L21: plattm@perry-lake.org | M21: Matt | N21: Platt | T21: 440-669-0712 | W21: 117 | X21: 214 | AA21: Saturdays: Jan. 17, 31; Feb. 7, 14 | AB21: 9am-1:30pm | AJ21: https://usbaseballacademy.com/perry-baseball-camp/ | AL21: =H21&" "&I21&","&" "&J21&" "&K21 -> 1 Success Blvd Perry, OH 44081 | AN21: X | AS21: 80 | AX21: 87 | BC21: 98 | BH21: 104 | BM21: 104 | BR21: 115
A22: A-NEW | E22: USBDPCS | F22: Plumstead Christian School | H22: 5765 Old Easton Rd | I22: Plumsteadville | J22: PA | K22: 18949 | L22: wbrown@plumsteadchristian.org | M22: Wes | N22: Brown | T22: 215 962-9290 | W22: 124 | X22: 221 | AA22: Saturdays: Jan. 24, 31; Feb. 7, 21 | AB22: 9am-1:30pm | AJ22: https://usbaseballacademy.com/plumsteadville-baseball-camp/ | AL22: =H22&" "&I22&","&" "&J22&" "&K22 -> 5765 Old Easton Rd Plumsteadville, PA 18949 | AN22: X | AS22: 0 | AX22: 0 | BC22: 1 | BH22: 0 | BM22: 21 | BR22: 51
A23: A-NEW | C23: x | E23: USBDBAY | F23: Queensborough CC (Feb/Mar Sessions) | H23: 222-05 56th Ave | I23: Queens | J23: NY | K23: 11364 | L23: info@pegsbaseball.com | M23: Roger | N23: Mischel | O23: 19 Forge Lane | P23: Levittown | Q23: NY | R23: 11756 | T23: 347-992-1736 | W23: 215 | X23: 315 | AA23: Sundays: Feb. 15, 22 (PPD); Mar. 1, 8, 15 (M/U) | AB23: 1pm-5:30pm | AJ23: https://usbaseballacademy.com/queens-baseball-camp/ | AL23: =H23&" "&I23&","&" "&J23&" "&K23 -> 222-05 56th Ave Queens, NY 11364 | AP23: X | AS23: 4 | AX23: 13 | BC23: 35 | BH23: 40 | BM23: 51 | BR23: 83
A24: A-NEW | E24: USBDROO | F24: Roosevelt HS | H24: 4029 28th Ave S | I24: Minneapolis | J24: MN | K24: 55406 | L24: timerickson5@gmail.com | M24: Tim | N24: Erickson | O24: 5325 Woodlawn Blvd | P24: Minneapolis | Q24: MN | R24: 55417 | T24: 952-451-2273 | W24: 104 | X24: 125 | AA24: Sundays: Jan. 4, 11, 18, 25 | AB24: Noon-4:30pm | AJ24: https://usbaseballacademy.com/minneapolis-baseball-camp/ | AL24: =H24&" "&I24&","&" "&J24&" "&K24 -> 4029 28th Ave S Minneapolis, MN 55406 | AN24: X | AS24: 75 | AX24: 78 | BC24: 81 | BH24: 84 | BM24: 81 | BR24: 78
A25: A-NEW | E25: USBDSAC | F25: Santiam Christian HS | H25: 7220 NE Arnold Ave | I25: Adair Village | J25: OR | K25: 97330 | L25: nosackm@santiam.org | M25: Matt | N25: Nosack | T25: 541-231-5683 | W25: 207 | X25: 228 | AA25: Saturdays: Feb. 7, 14, 21, 28 | AB25: 9am-1:30pm | AJ25: https://usbaseballacademy.com/adair-village-baseball-camp/ | AL25: =H25&" "&I25&","&" "&J25&" "&K25 -> 7220 NE Arnold Ave Adair Village, OR 97330 | AN25: X | AS25: 38 | AX25: 53 | BC25: 57 | BH25: 70 | BM25: 78 | BR25: 101
A26: A-NEW | E26: USBDSW | F26: Southwestern HS - WINTER BREAK | H26: 167 S. Maincross St | I26: Hanover | J26: IN | K26: 47243 | L26: dthurston@swjcs.us | M26: Dan | N26: Thurston | T26: 812-701-5343 | W26: 20 | X26: 23 | AA26: Sat.-Tues.: Dec. 20, 21, 22, 23 | AB26: 9am-1:30pm | AJ26: https://usbaseballacademy.com/hanover-baseball-camp/ | AL26: =H26&" "&I26&","&" "&J26&" "&K26 -> 167 S. Maincross St Hanover, IN 47243 | AN26: X | AS26: 57 | AX26: 57 | BC26: 58 | BH26: 58 | BM26: 58 | BR26: 58
A27: A-NEW | E27: USBDSCT | F27: St. Cloud Technical CC | G27: Sartell HS | H27: 3101 Pine Cone Rd N | I27: Sartell | J27: MN | K27: 56377 | L27: alex.haapajoki@minnesotanorth.edu | M27: Alex | N27: Haapajoki | T27: 218-839-7893 | W27: 118 | X27: 215 | AA27: Sundays: Jan. 18, 25; Feb. 8, 15 | AB27: 8:30am-1pm | AJ27: https://usbaseballacademy.com/sartell-baseball-camp/ | AL27: =H27&" "&I27&","&" "&J27&" "&K27 -> 3101 Pine Cone Rd N Sartell, MN 56377 | AN27: X | AS27: 25 | AX27: 27 | BC27: 31 | BH27: 42 | BM27: 53 | BR27: 52
A28: A-NEW | E28: USBDSEU | F28: St. Elizabeth University | H28: 2 Convent Rd | I28: Morristown | J28: NJ | K28: 7960 | L28: dfurbeck@steu.edu | M28: Daniel | N28: Furbeck | T28: 973-747-7274 | W28: 125 | X28: 322 | AA28: Sundays: Jan. 25 (PPD); Feb. 1, 8, 15, 22 (M/U) (PPD), March 8 (PPD), 22 (M/U) | AB28: 1pm-5:30pm | AJ28: https://usbaseballacademy.com/morristown-baseball-camp/ | AL28: =H28&" "&I28&","&" "&J28&" "&K28 -> 2 Convent Rd Morristown, NJ 7960 | AN28: X | AS28: 2 | AX28: 9 | BC28: 49 | BH28: 67 | BM28: 77 | BR28: 101
A29: A-NEW | C29: x | E29: USBDTA | F29: Stolen Bases Academy (March Sessions) | H29: 600 E. Western Ave | I29: Lombard | J29: IL | K29: 60148 | L29: dccoach@hotmail.com | M29: Sean | N29: Bieterman | O29: 343 Elm | P29: Villa Park | Q29: IL | R29: 60181 | T29: 630-334-7326 | W29: 301 | X29: 322 | AA29: Sundays: Mar. 1, 8, 15, 22 | AB29: 1pm-5:30pm | AJ29: https://usbaseballacademy.com/lombard-baseball-camp/ | AL29: =H29&" "&I29&","&" "&J29&" "&K29 -> 600 E. Western Ave Lombard, IL 60148 | AP29: X | AS29: 0 | AX29: 13 | BC29: 16 | BH29: 21 | BM29: 37 | BR29: 41
A30: A-NEW | C30: x | E30: USBDSZ | F30: Strike Zone Academy (March Sessions) | H30: 2900 South 110th St | I30: Omaha | J30: NE | K30: 68144 | L30: jsiwa@strikezoneomaha.com | M30: Joe | N30: Siwa | O30: 5101 South 82nd St | P30: Ralston | Q30: NE | R30: 68127 | S30: 402-398-1238 | T30: 402-669-2892 | W30: 308 | X30: 329 | AA30: Sundays: Mar. 8, 15, 22, 29 | AB30: 8am-11am | AC30: H&P Only | AJ30: https://usbaseballacademy.com/omaha-baseball-camp/ | AL30: =H30&" "&I30&","&" "&J30&" "&K30 -> 2900 South 110th St Omaha, NE 68144 | AP30: X | AS30: 0 | AX30: 1 | BC30: 8 | BH30: 8 | BM30: 7 | BR30: 16
A31: A-NEW | E31: USBDTC | F31: Tri Central HS | H31: 2115 W 500 N | I31: Sharpsville | J31: IN | K31: 46068 | L31: sarnold@tccs.k12.in.us | M31: Shane | N31: Arnold | T31: 765-776-2618 | W31: 222 | X31: 315 | AA31: Sundays: Feb. 22; Mar. 1, 8, 15 | AB31: 9am-1:30pm | AJ31: https://usbaseballacademy.com/sharpsville-baseball-camp/ | AL31: =H31&" "&I31&","&" "&J31&" "&K31 -> 2115 W 500 N Sharpsville, IN 46068 | AN31: X | AS31: 42 | AX31: 44 | BC31: 47 | BH31: 49 | BM31: 46 | BR31: 77
A32: A-NEW | E32: USBDUNI | F32: University HS | H32: 4771 Campus Dr | I32: Irvine | J32: CA | K32: 92612 | L32: pitching2469@gmail.com | M32: Jesse | N32: Anderson | T32: 949-500-9198 | W32: 215 | X32: 308 | AA32: Sundays: Feb. 15, 22; Mar. 1, 8 | AB32: 11am-3:30pm | AJ32: https://usbaseballacademy.com/orange-county-irvine-baseball-camp/ | AL32: =H32&" "&I32&","&" "&J32&" "&K32 -> 4771 Campus Dr Irvine, CA 92612 | AN32: X | AS32: 67 | AX32: 67 | BC32: 83 | BH32: 88 | BM32: 95 | BR32: 104
A33: A-NEW | C33: x | E33: USBDQUE | F33: USBA Bellerose | G33: Padavan-Preller Field | H33: 236-02 Hillside Ave | I33: Queens Village | J33: NY | K33: 11427 | L33: thebaseballwhisperer@gmail.com | M33: Roger | N33: Mischel | T33: 347-992-1736 | W33: 406 | X33: 409 | AA33: Mon.-Thurs.: Apr. 6, 7, 8, 9 | AB33: 9am-3pm | AJ33: https://usbaseballacademy.com/spring-break-baseball-camp-in-queens-village/ | AL33: =H33&" "&I33&","&" "&J33&" "&K33 -> 236-02 Hillside Ave Queens Village, NY 11427 | AP33: X | BR33: 1
A34: A-NEW | E34: USBDUSCO | F34: USBA Columbia | G34: Jefferson Middle School | H34: 13 Rogers St | I34: Columbia | J34: MO | K34: 65201 | L34: thman58@gmail.com | M34: Thaddues | N34: Hamilton | T34: 573-999-3591 | W34: 118 | X34: 215 | AA34: Sundays: Jan. 18, 25 (PPD); Feb. 1, 8, 15 (M/U) | AB34: 9am-1:30pm | AJ34: https://usbaseballacademy.com/columbia-baseball-camp/ | AL34: =H34&" "&I34&","&" "&J34&" "&K34 -> 13 Rogers St Columbia, MO 65201 | AN34: X | AS34: 6 | AX34: 16 | BC34: 42 | BH34: 47 | BM34: 58 | BR34: 62
A35: A-NEW | E35: USBDUKIS | F35: USBA Kissimmee | G35: Cypress Creek HS | H35: 101 Bear Crossing Dr | I35: Orlando | J35: FL | K35: 32824 | L35: jesusrivera1622@yahoo.com | M35: Jesus | N35: Rivera | T35: 407-508-5333 | W35: 117 | X35: 207 | AA35: Saturdays: Jan. 17, 24, 31; Feb. 7 | AB35: 9am-1:30pm | AJ35: https://usbaseballacademy.com/orlando-kissimmee-baseball-camp/ | AL35: =H35&" "&I35&","&" "&J35&" "&K35 -> 101 Bear Crossing Dr Orlando, FL 32824 | AN35: X | AS35: 16 | AX35: 24 | BC35: 24 | BH35: 26 | BM35: 26 | BR35: 28
A36: A-NEW | E36: USBDLIC | F36: USBA Long Island City | G36: Elite Per4ormance | H36: 34-01 38th Ave | I36: Long Island City | J36: NY | K36: 11101 | L36: leftyedgarolmos@gmail.com | M36: Edgar | N36: Olmos | T36: 818-317-9449 | W36: 207 | X36: 228 | AA36: Saturdays: Feb. 7, 14, 21, 28 | AB36: 9am-12pm | AC36: H&P Only | AJ36: https://usbaseballacademy.com/long-island-city-baseball-camp/ | AL36: =H36&" "&I36&","&" "&J36&" "&K36 -> 34-01 38th Ave Long Island City, NY 11101 | AN36: X | AS36: 15 | AX36: 30 | BC36: 32 | BH36: 34 | BM36: 33 | BR36: 31
A37: A-NEW | E37: USBDWL | F37: Warren Local HS | H37: 130 Warrior Dr | I37: Vincent | J37: OH | K37: 45784 | L37: chad.porter@warrenlocal.org | M37: Chad | N37: Porter | O37: 1 Woodberry Circle | P37: Parkersburg | Q37: WV | R37: 26104 | T37: 304-482-9611 | W37: 222 | X37: 322 | AA37: Sundays: Feb. 22; Mar. 1, 8, 22 | AB37: 1pm-5:30pm | AL37: =H37&" "&I37&","&" "&J37&" "&K37 -> 130 Warrior Dr Vincent, OH 45784 | AN37: X | BC37: 0 | BH37: 0 | BM37: 1 | BR37: 21
A38: A-NEW-WINTER BREAK | E38: USBDHF | F38: Hitting Factory - WINTER BREAK | H38: 7870 N Leilani Lane | I38: Marana | J38: AZ | K38: 85743 | L38: hitman44@hotmail.com | M38: Chad | N38: Chop | T38: 925-785-1736 | W38: 29 | X38: 101 | AA38: Mon.-Thurs.: Dec. 29, 30, 31; January 1 | AB38: 9am-3pm | AJ38: https://usbaseballacademy.com/winter-break-baseball-camp-in-marana/ | AL38: =H38&" "&I38&","&" "&J38&" "&K38 -> 7870 N Leilani Lane Marana, AZ 85743 | AN38: X | AS38: 36 | AX38: 38 | BC38: 43 | BH38: 43 | BM38: 41 | BR38: 41
A39: B-RET | B39: X | C39: 166 | D39: 94 | E39: USBDAC | F39: Adrian College | H39: 110 South Madison St | I39: Adrian | J39: MI | K39: 49221 | L39: crainey@adrian.edu | M39: Craig | N39: Rainey | O39: 770 Lakeshire Trail 201W | P39: Adrian | Q39: MI | R39: 49221 | T39: 517-902-1986 | U39: 517-264-3977 | V39: X | W39: 118 | X39: 208 | AA39: Sundays: Jan 18, 25; Feb. 1, 8 | AB39: 10am-1pm | AC39: 10am H&P; 1130 FBC | AD39: X | AF39: 139 | AG39: =AF39+20 -> 159 | AH39: =AG39+20 -> 179 | AI39: X | AJ39: https://usbaseballacademy.com/adrian-baseball-camp/ | AK39: X | AL39: =H39&" "&I39&","&" "&J39&" "&K39 -> 110 South Madison St Adrian, MI 49221 | AM39: X | AQ39: X | AR39: X | AS39: 51 | AT39: 41 | AU39: =AS39-AT39 -> 10 | AV39: =AS39/AT39-1 -> 0.24390244 | AW39: X | AX39: 67 | AY39: 73 | AZ39: =AX39-AY39 -> -6 | BA39: =AX39/AY39-1 -> -0.082191781 | BB39: X | BC39: 71 | BD39: 84 | BE39: =BC39-BD39 -> -13 | BF39: =BC39/BD39-1 -> -0.1547619 | BG39: X | BH39: 77 | BL39: X | BM39: 74 | BN39: 89 | BO39: =BM39-BN39 -> -15 | BP39: =BM39/BN39-1 -> -0.16853933 | BQ39: X | BR39: 86 | BS39: 94 | BT39: =BR39-BS39 -> -8
A40: B-RET | B40: X | C40: 67 | D40: 157 | E40: USBDALL | F40: Alliance HS | H40: 400 Glamorgan St. | I40: Alliance | J40: OH | K40: 44601 | L40: grafficeje@alliancecityschools.org | M40: Jeff | N40: Graffice | O40: 1540 Northwood Ave | P40: Alliance | Q40: OH | R40: 44601 | T40: 330-581-3361 | V40: X | W40: 201 | X40: 222 | AA40: Sundays: Feb. 1, 8, 15, 22 | AB40: 11am-3:30pm | AD40: X | AF40: 139 | AG40: =AF40+20 -> 159 | AH40: =AG40+20 -> 179 | AI40: X | AJ40: https://usbaseballacademy.com/alliance-baseball-camp/ | AK40: X | AL40: =H40&" "&I40&","&" "&J40&" "&K40 -> 400 Glamorgan St. Alliance, OH 44601 | AM40: X | AQ40: X | AR40: X | AS40: 47 | AT40: 32 | AU40: =AS40-AT40 -> 15 | AV40: =AS40/AT40-1 -> 0.46875 | AW40: X | AX40: 54 | AY40: 54 | AZ40: =AX40-AY40 -> 0 | BA40: =AX40/AY40-1 -> 0 | BB40: X | BC40: 61 | BD40: 47 | BE40: =BC40-BD40 -> 14 | BF40: =BC40/BD40-1 -> 0.29787234 | BG40: X | BH40: 74 | BL40: X | BM40: 86 | BN40: 124 | BO40: =BM40-BN40 -> -38 | BP40: =BM40/BN40-1 -> -0.30645161 | BQ40: X | BR40: 96 | BS40: 157 | BT40: =BR40-BS40 -> -61
...

Sheet WIN_TRKNG_BBALL
A1: STATUS | B1: CAMP CODE | C1: Camp Name | D1: Facility | E1: Address | F1: First Name | G1: Last Name | H1: Email | J1: Dates | K1: Times | M1: SD Updated | N1: Website | O1: USBA Landing Page | P1: Craft Landing Page | Q1: Contract Sent | R1: Contract Rec | S1: Flyer | T1: Flyer Sent | U1: FB Ads Launched | V1: COI Rec | W1: Coaches DB CXT | X1: Final Details | Y1: BG Check Sent | Z1: BG Check Complete | AA1: Roster Email | AB1: Director Email | AC1: T-Shirts | AD1: Payment
A2: =_xlfn.XLOOKUP(C2, '❄️ SD-WIN-BBALL ⚾'!$F$3:$F$336, '❄️ SD-WIN-BBALL ⚾'!$A$3:$A$336) -> B-RET | B2: =_xlfn.XLOOKUP(C2, '❄️ SD-WIN-BBALL ⚾'!$F$3:$F$336, '❄️ SD-WIN-BBALL ⚾'!$E$3:$E$336) -> USBDAC | C2: Adrian College | D2: =IF(_xlfn.XLOOKUP(C2, '❄️ SD-WIN-BBALL ⚾'!$F$3:$F$336, '❄️ SD-WIN-BBALL ⚾'!$G$3:$G$336)=0, " ", _xlfn.XLOOKUP(C2, '❄️ SD-WIN-BBALL ⚾'!$F$3:$F$336, '❄️ SD-WIN-BBALL ⚾'!$G$3:$G$336)) | E2: =_xlfn.XLOOKUP(C2, '❄️ SD-WIN-BBALL ⚾'!$F$3:$F$336, '❄️ SD-WIN-BBALL ⚾'!$AL$3:$AL$336) -> 110 South Madison St Adrian, MI 49221 | F2: =_xlfn.XLOOKUP(C2, '❄️ SD-WIN-BBALL ⚾'!$F$3:$F$336,'❄️ SD-WIN-BBALL ⚾'!$M$3:$M$336) -> Craig | G2: =_xlfn.XLOOKUP(C2, '❄️ SD-WIN-BBALL ⚾'!$F$3:$F$336,'❄️ SD-WIN-BBALL ⚾'!$N$3:$N$336) -> Rainey | H2: =_xlfn.XLOOKUP(C2, '❄️ SD-WIN-BBALL ⚾'!$F$3:$F$336,'❄️ SD-WIN-BBALL ⚾'!$T$3:$T$336) -> 517-902-1986 | I2: =_xlfn.XLOOKUP(C2, '❄️ SD-WIN-BBALL ⚾'!$F$3:$F$336,'❄️ SD-WIN-BBALL ⚾'!$W$3:$W$336) -> 118 | J2: =IF(_xlfn.XLOOKUP(C2, '❄️ SD-WIN-BBALL ⚾'!$F$3:$F$336, '❄️ SD-WIN-BBALL ⚾'!$AA$3:$AA$336)=0, "TBD", _xlfn.XLOOKUP(C2, '❄️ SD-WIN-BBALL ⚾'!$F$3:$F$336, '❄️ SD-WIN-BBALL ⚾'!$AA$3:$AA$336)) -> Sundays: Jan 18, 25; Feb. 1, 8 | K2: =IF(_xlfn.XLOOKUP(C2, '❄️ SD-WIN-BBALL ⚾'!$F$3:$F$336, '❄️ SD-WIN-BBALL ⚾'!$AB$3:$AB$336)=0, "TBD", _xlfn.XLOOKUP(C2, '❄️ SD-WIN-BBALL ⚾'!$F$3:$F$336, '❄️ SD-WIN-BBALL ⚾'!$AB$3:$AB$336)) -> 10am-1pm | M2: TRUE | N2: TRUE | O2: TRUE | P2: FALSE | Q2: FALSE | R2: FALSE | S2: TRUE | T2: TRUE | U2: FALSE | V2: FALSE | W2: TRUE | X2: TRUE | Y2: FALSE | Z2: FALSE | AA2: FALSE | AB2: FALSE | AC2: FALSE | AD2: FALSE
A3: =_xlfn.XLOOKUP(C3, '❄️ SD-WIN-BBALL ⚾'!$F$3:$F$336, '❄️ SD-WIN-BBALL ⚾'!$A$3:$A$336) -> B-RET | B3: =_xlfn.XLOOKUP(C3, '❄️ SD-WIN-BBALL ⚾'!$F$3:$F$336, '❄️ SD-WIN-BBALL ⚾'!$E$3:$E$336) -> USBDALL | C3: Alliance HS | D3: =IF(_xlfn.XLOOKUP(C3, '❄️ SD-WIN-BBALL ⚾'!$F$3:$F$336, '❄️ SD-WIN-BBALL ⚾'!$G$3:$G$336)=0, " ", _xlfn.XLOOKUP(C3, '❄️ SD-WIN-BBALL ⚾'!$F$3:$F$336, '❄️ SD-WIN-BBALL ⚾'!$G$3:$G$336)) | E3: =_xlfn.XLOOKUP(C3, '❄️ SD-WIN-BBALL ⚾'!$F$3:$F$336, '❄️ SD-WIN-BBALL ⚾'!$AL$3:$AL$336) -> 400 Glamorgan St. Alliance, OH 44601 | F3: =_xlfn.XLOOKUP(C3, '❄️ SD-WIN-BBALL ⚾'!$F$3:$F$336,'❄️ SD-WIN-BBALL ⚾'!$M$3:$M$336) -> Jeff | G3: =_xlfn.XLOOKUP(C3, '❄️ SD-WIN-BBALL ⚾'!$F$3:$F$336,'❄️ SD-WIN-BBALL ⚾'!$N$3:$N$336) -> Graffice | H3: =_xlfn.XLOOKUP(C3, '❄️ SD-WIN-BBALL ⚾'!$F$3:$F$336,'❄️ SD-WIN-BBALL ⚾'!$T$3:$T$336) -> 330-581-3361 | I3: =_xlfn.XLOOKUP(C3, '❄️ SD-WIN-BBALL ⚾'!$F$3:$F$336,'❄️ SD-WIN-BBALL ⚾'!$W$3:$W$336) -> 201 | J3: =IF(_xlfn.XLOOKUP(C3, '❄️ SD-WIN-BBALL ⚾'!$F$3:$F$336, '❄️ SD-WIN-BBALL ⚾'!$AA$3:$AA$336)=0, "TBD", _xlfn.XLOOKUP(C3, '❄️ SD-WIN-BBALL ⚾'!$F$3:$F$336, '❄️ SD-WIN-BBALL ⚾'!$AA$3:$AA$336)) -> Sundays: Feb. 1, 8, 15, 22 | K3: =IF(_xlfn.XLOOKUP(C3, '❄️ SD-WIN-BBALL ⚾'!$F$3:$F$336, '❄️ SD-WIN-BBALL ⚾'!$AB$3:$AB$336)=0, "TBD", _xlfn.XLOOKUP(C3, '❄️ SD-WIN-BBALL ⚾'!$F$3:$F$336, '❄️ SD-WIN-BBALL ⚾'!$AB$3:$AB$336)) -> 11am-3:30pm | M3: TRUE | N3: TRUE | O3: TRUE | P3: FALSE | Q3: FALSE | R3: FALSE | S3: TRUE | T3: TRUE | U3: FALSE | V3: FALSE | W3: TRUE | X3: TRUE | Y3: FALSE | Z3: FALSE | AA3: FALSE | AB3: FALSE | AC3: FALSE | AD3: FALSE
A4: =_xlfn.XLOOKUP(C4, '❄️ SD-WIN-BBALL ⚾'!$F$3:$F$336, '❄️ SD-WIN-BBALL ⚾'!$A$3:$A$336) -> B-RET | B4: =_xlfn.XLOOKUP(C4, '❄️ SD-WIN-BBALL ⚾'!$F$3:$F$336, '❄️ SD-WIN-BBALL ⚾'!$E$3:$E$336) -> USBDAR | C4: Anoka-Ramsey CC | D4: =IF(_xlfn.XLOOKUP(C4, '❄️ SD-WIN-BBALL ⚾'!$F$3:$F$336, '❄️ SD-WIN-BBALL ⚾'!$G$3:$G$336)=0, " ", _xlfn.XLOOKUP(C4, '❄️ SD-WIN-BBALL ⚾'!$F$3:$F$336, '❄️ SD-WIN-BBALL ⚾'!$G$3:$G$336)) | E4: =_xlfn.XLOOKUP(C4, '❄️ SD-WIN-BBALL ⚾'!$F$3:$F$336, '❄️ SD-WIN-BBALL ⚾'!$AL$3:$AL$336) -> 11200 Mississippi Blvd NW Coon Rapids, MN 55433 | F4: =_xlfn.XLOOKUP(C4, '❄️ SD-WIN-BBALL ⚾'!$F$3:$F$336,'❄️ SD-WIN-BBALL ⚾'!$M$3:$M$336) -> Ryan | G4: =_xlfn.XLOOKUP(C4, '❄️ SD-WIN-BBALL ⚾'!$F$3:$F$336,'❄️ SD-WIN-BBALL ⚾'!$N$3:$N$336) -> Holmgren | H4: =_xlfn.XLOOKUP(C4, '❄️ SD-WIN-BBALL ⚾'!$F$3:$F$336,'❄️ SD-WIN-BBALL ⚾'!$T$3:$T$336) -> 651-308-1652 | I4: =_xlfn.XLOOKUP(C4, '❄️ SD-WIN-BBALL ⚾'!$F$3:$F$336,'❄️ SD-WIN-BBALL ⚾'!$W$3:$W$336) -> 201 | J4: =IF(_xlfn.XLOOKUP(C4, '❄️ SD-WIN-BBALL ⚾'!$F$3:$F$336, '❄️ SD-WIN-BBALL ⚾'!$AA$3:$AA$336)=0, "TBD", _xlfn.XLOOKUP(C4, '❄️ SD-WIN-BBALL ⚾'!$F$3:$F$336, '❄️ SD-WIN-BBALL ⚾'!$AA$3:$AA$336)) -> Sundays: Feb. 1, 8, 15, 22 | K4: =IF(_xlfn.XLOOKUP(C4, '❄️ SD-WIN-BBALL ⚾'!$F$3:$F$336, '❄️ SD-WIN-BBALL ⚾'!$AB$3:$AB$336)=0, "TBD", _xlfn.XLOOKUP(C4, '❄️ SD-WIN-BBALL ⚾'!$F$3:$F$336, '❄️ SD-WIN-BBALL ⚾'!$AB$3:$AB$336)) -> 10am-2:30pm | M4: TRUE | N4: TRUE | O4: TRUE | P4: FALSE | Q4: FALSE | R4: FALSE | S4: TRUE | T4: TRUE | U4: FALSE | V4: FALSE | W4: TRUE | X4: TRUE | Y4: FALSE | Z4: FALSE | AA4: FALSE | AB4: FALSE | AC4: FALSE | AD4: FALSE
A5: =_xlfn.XLOOKUP(C5, '❄️ SD-WIN-BBALL ⚾'!$F$3:$F$336, '❄️ SD-WIN-BBALL ⚾'!$A$3:$A$336) -> B-RET | B5: =_xlfn.XLOOKUP(C5, '❄️ SD-WIN-BBALL ⚾'!$F$3:$F$336, '❄️ SD-WIN-BBALL ⚾'!$E$3:$E$336) -> USBDARC | C5: Arcadia HS | D5: =IF(_xlfn.XLOOKUP(C5, '❄️ SD-WIN-BBALL ⚾'!$F$3:$F$336, '❄️ SD-WIN-BBALL ⚾'!$G$3:$G$336)=0, " ", _xlfn.XLOOKUP(C5, '❄️ SD-WIN-BBALL ⚾'!$F$3:$F$336, '❄️ SD-WIN-BBALL ⚾'!$G$3:$G$336)) | E5: =_xlfn.XLOOKUP(C5, '❄️ SD-WIN-BBALL ⚾'!$F$3:$F$336, '❄️ SD-WIN-BBALL ⚾'!$AL$3:$AL$336) -> 756 Raider Dr. Arcadia, WI 54612 | F5: =_xlfn.XLOOKUP(C5, '❄️ SD-WIN-BBALL ⚾'!$F$3:$F$336,'❄️ SD-WIN-BBALL ⚾'!$M$3:$M$336) -> Nate | G5: =_xlfn.XLOOKUP(C5, '❄️ SD-WIN-BBALL ⚾'!$F$3:$F$336,'❄️ SD-WIN-BBALL ⚾'!$N$3:$N$336) -> Pronschinske | H5: =_xlfn.XLOOKUP(C5, '❄️ SD-WIN-BBALL ⚾'!$F$3:$F$336,'❄️ SD-WIN-BBALL ⚾'!$T$3:$T$336) -> 715-533-8319 | I5: =_xlfn.XLOOKUP(C5, '❄️ SD-WIN-BBALL ⚾'!$F$3:$F$336,'❄️ SD-WIN-BBALL ⚾'!$W$3:$W$336) -> 201 | J5: =IF(_xlfn.XLOOKUP(C5, '❄️ SD-WIN-BBALL ⚾'!$F$3:$F$336, '❄️ SD-WIN-BBALL ⚾'!$AA$3:$AA$336)=0, "TBD", _xlfn.XLOOKUP(C5, '❄️ SD-WIN-BBALL ⚾'!$F$3:$F$336, '❄️ SD-WIN-BBALL ⚾'!$AA$3:$AA$336)) -> Sundays: Feb. 1, 8, 15, 22 | K5: =IF(_xlfn.XLOOKUP(C5, '❄️ SD-WIN-BBALL ⚾'!$F$3:$F$336, '❄️ SD-WIN-BBALL ⚾'!$AB$3:$AB$336)=0, "TBD", _xlfn.XLOOKUP(C5, '❄️ SD-WIN-BBALL ⚾'!$F$3:$F$336, '❄️ SD-WIN-BBALL ⚾'!$AB$3:$AB$336)) -> 11am-3:30pm | M5: TRUE | N5: TRUE | O5: TRUE | P5: FALSE | Q5: FALSE | R5: FALSE | S5: TRUE | T5: TRUE | U5: FALSE | V5: FALSE | W5: TRUE | X5: TRUE | Y5: FALSE | Z5: FALSE | AA5: FALSE | AB5: FALSE | AC5: FALSE | AD5: FALSE
A6: =_xlfn.XLOOKUP(C6, '❄️ SD-WIN-BBALL ⚾'!$F$3:$F$336, '❄️ SD-WIN-BBALL ⚾'!$A$3:$A$336) -> B-RET | B6: =_xlfn.XLOOKUP(C6, '❄️ SD-WIN-BBALL ⚾'!$F$3:$F$336, '❄️ SD-WIN-BBALL ⚾'!$E$3:$E$336) -> USBDARH | C6: Arcata HS | D6: =IF(_xlfn.XLOOKUP(C6, '❄️ SD-WIN-BBALL ⚾'!$F$3:$F$336, '❄️ SD-WIN-BBALL ⚾'!$G$3:$G$336)=0, " ", _xlfn.XLOOKUP(C6, '❄️ SD-WIN-BBALL ⚾'!$F$3:$F$336, '❄️ SD-WIN-BBALL ⚾'!$G$3:$G$336)) | E6: =_xlfn.XLOOKUP(C6, '❄️ SD-WIN-BBALL ⚾'!$F$3:$F$336, '❄️ SD-WIN-BBALL ⚾'!$AL$3:$AL$336) -> 1720 M St Arcata, CA 95521 | F6: =_xlfn.XLOOKUP(C6, '❄️ SD-WIN-BBALL ⚾'!$F$3:$F$336,'❄️ SD-WIN-BBALL ⚾'!$M$3:$M$336) -> Troy | G6: =_xlfn.XLOOKUP(C6, '❄️ SD-WIN-BBALL ⚾'!$F$3:$F$336,'❄️ SD-WIN-BBALL ⚾'!$N$3:$N$336) -> Ghisetti | H6: =_xlfn.XLOOKUP(C6, '❄️ SD-WIN-BBALL ⚾'!$F$3:$F$336,'❄️ SD-WIN-BBALL ⚾'!$T$3:$T$336) -> 707-845-4846 | I6: =_xlfn.XLOOKUP(C6, '❄️ SD-WIN-BBALL ⚾'!$F$3:$F$336,'❄️ SD-WIN-BBALL ⚾'!$W$3:$W$336) -> 208 | J6: =IF(_xlfn.XLOOKUP(C6, '❄️ SD-WIN-BBALL ⚾'!$F$3:$F$336, '❄️ SD-WIN-BBALL ⚾'!$AA$3:$AA$336)=0, "TBD", _xlfn.XLOOKUP(C6, '❄️ SD-WIN-BBALL ⚾'!$F$3:$F$336, '❄️ SD-WIN-BBALL ⚾'!$AA$3:$AA$336)) -> Sundays: Feb. 8, 15, 22; Mar. 1 | K6: =IF(_xlfn.XLOOKUP(C6, '❄️ SD-WIN-BBALL ⚾'!$F$3:$F$336, '❄️ SD-WIN-BBALL ⚾'!$AB$3:$AB$336)=0, "TBD", _xlfn.XLOOKUP(C6, '❄️ SD-WIN-BBALL ⚾'!$F$3:$F$336, '❄️ SD-WIN-BBALL ⚾'!$AB$3:$AB$336)) -> Noon-4:30pm | M6: TRUE | N6: TRUE | O6: TRUE | P6: FALSE | Q6: FALSE | R6: FALSE | S6: TRUE | T6: TRUE | U6: FALSE | V6: FALSE | W6: TRUE | X6: TRUE | Y6: FALSE | Z6: FALSE | AA6: FALSE | AB6: FALSE | AC6: FALSE | AD6: FALSE
A7: =_xlfn.XLOOKUP(C7, '❄️ SD-WIN-BBALL ⚾'!$F$3:$F$336, '❄️ SD-WIN-BBALL ⚾'!$A$3:$A$336) -> B-RET | B7: =_xlfn.XLOOKUP(C7, '❄️ SD-WIN-BBALL ⚾'!$F$3:$F$336, '❄️ SD-WIN-BBALL ⚾'!$E$3:$E$336) -> USBDALA | C7: Ascend Leadership Academy | D7: =IF(_xlfn.XLOOKUP(C7, '❄️ SD-WIN-BBALL ⚾'!$F$3:$F$336, '❄️ SD-WIN-BBALL ⚾'!$G$3:$G$336)=0, " ", _xlfn.XLOOKUP(C7, '❄️ SD-WIN-BBALL ⚾'!$F$3:$F$336, '❄️ SD-WIN-BBALL ⚾'!$G$3:$G$336)) -> Southern Lee HS Field #2 | E7: =_xlfn.XLOOKUP(C7, '❄️ SD-WIN-BBALL ⚾'!$F$3:$F$336, '❄️ SD-WIN-BBALL ⚾'!$AL$3:$AL$336) -> 2303 Tramway Park Rd. Sanford, NC 27332 | F7: =_xlfn.XLOOKUP(C7, '❄️ SD-WIN-BBALL ⚾'!$F$3:$F$336,'❄️ SD-WIN-BBALL ⚾'!$M$3:$M$336) -> Morgan | G7: =_xlfn.XLOOKUP(C7, '❄️ SD-WIN-BBALL ⚾'!$F$3:$F$336,'❄️ SD-WIN-BBALL ⚾'!$N$3:$N$336) -> Counter | H7: =_xlfn.XLOOKUP(C7, '❄️ SD-WIN-BBALL ⚾'!$F$3:$F$336,'❄️ SD-WIN-BBALL ⚾'!$T$3:$T$336) -> 919-897-4541 | I7: =_xlfn.XLOOKUP(C7, '❄️ SD-WIN-BBALL ⚾'!$F$3:$F$336,'❄️ SD-WIN-BBALL ⚾'!$W$3:$W$336) -> 110 | J7: =IF(_xlfn.XLOOKUP(C7, '❄️ SD-WIN-BBALL ⚾'!$F$3:$F$336, '❄️ SD-WIN-BBALL ⚾'!$AA$3:$AA$336)=0, "TBD", _xlfn.XLOOKUP(C7, '❄️ SD-WIN-BBALL ⚾'!$F$3:$F$336, '❄️ SD-WIN-BBALL ⚾'!$AA$3:$AA$336)) -> Saturdays: Jan. 10 (PPD), 17 (PPD) 24 (PPD), 31 (PPD); Feb. 7, 14 (M/U), 21 (M/U), 28 (M/U) | K7: =IF(_xlfn.XLOOKUP(C7, '❄️ SD-WIN-BBALL ⚾'!$F$3:$F$336, '❄️ SD-WIN-BBALL ⚾'!$AB$3:$AB$336)=0, "TBD", _xlfn.XLOOKUP(C7, '❄️ SD-WIN-BBALL ⚾'!$F$3:$F$336, '❄️ SD-WIN-BBALL ⚾'!$AB$3:$AB$336)) -> 9am-1:30pm | M7: TRUE | N7: TRUE | O7: TRUE | P7: FALSE | Q7: FALSE | R7: FALSE | S7: TRUE | T7: TRUE | U7: FALSE | V7: FALSE | W7: TRUE | X7: TRUE | Y7: FALSE | Z7: FALSE | AA7: FALSE | AB7: FALSE | AC7: FALSE | AD7: FALSE
A8: =_xlfn.XLOOKUP(C8, '❄️ SD-WIN-BBALL ⚾'!$F$3:$F$336, '❄️ SD-WIN-BBALL ⚾'!$A$3:$A$336) -> B-RET | B8: =_xlfn.XLOOKUP(C8, '❄️ SD-WIN-BBALL ⚾'!$F$3:$F$336, '❄️ SD-WIN-BBALL ⚾'!$E$3:$E$336) -> USBDACC | C8: Aurora Central Catholic HS | D8: =IF(_xlfn.XLOOKUP(C8, '❄️ SD-WIN-BBALL ⚾'!$F$3:$F$336, '❄️ SD-WIN-BBALL ⚾'!$G$3:$G$336)=0, " ", _xlfn.XLOOKUP(C8, '❄️ SD-WIN-BBALL ⚾'!$F$3:$F$336, '❄️ SD-WIN-BBALL ⚾'!$G$3:$G$336)) | E8: =_xlfn.XLOOKUP(C8, '❄️ SD-WIN-BBALL ⚾'!$F$3:$F$336, '❄️ SD-WIN-BBALL ⚾'!$AL$3:$AL$336) -> 1255 Edgelawn Dr Aurora, IL 60506 | F8: =_xlfn.XLOOKUP(C8, '❄️ SD-WIN-BBALL ⚾'!$F$3:$F$336,'❄️ SD-WIN-BBALL ⚾'!$M$3:$M$336) -> Rich | G8: =_xlfn.XLOOKUP(C8, '❄️ SD-WIN-BBALL ⚾'!$F$3:$F$336,'❄️ SD-WIN-BBALL ⚾'!$N$3:$N$336) -> Swann | H8: =_xlfn.XLOOKUP(C8, '❄️ SD-WIN-BBALL ⚾'!$F$3:$F$336,'❄️ SD-WIN-BBALL ⚾'!$T$3:$T$336) -> 630-945-0110 | I8: =_xlfn.XLOOKUP(C8, '❄️ SD-WIN-BBALL ⚾'!$F$3:$F$336,'❄️ SD-WIN-BBALL ⚾'!$W$3:$W$336) -> 215 | J8: =IF(_xlfn.XLOOKUP(C8, '❄️ SD-WIN-BBALL ⚾'!$F$3:$F$336, '❄️ SD-WIN-BBALL ⚾'!$AA$3:$AA$336)=0, "TBD", _xlfn.XLOOKUP(C8, '❄️ SD-WIN-BBALL ⚾'!$F$3:$F$336, '❄️ SD-WIN-BBALL ⚾'!$AA$3:$AA$336)) -> Sundays: Feb. 15, 22; Mar. 1, 8 | K8: =IF(_xlfn.XLOOKUP(C8, '❄️ SD-WIN-BBALL ⚾'!$F$3:$F$336, '❄️ SD-WIN-BBALL ⚾'!$AB$3:$AB$336)=0, "TBD", _xlfn.XLOOKUP(C8, '❄️ SD-WIN-BBALL ⚾'!$F$3:$F$336, '❄️ SD-WIN-BBALL ⚾'!$AB$3:$AB$336)) -> 1pm-5:30pm | M8: TRUE | N8: TRUE | O8: TRUE | P8: FALSE | Q8: FALSE | R8: FALSE | S8: TRUE | T8: TRUE | U8: FALSE | V8: FALSE | W8: TRUE | X8: TRUE | Y8: FALSE | Z8: FALSE | AA8: FALSE | AB8: FALSE | AC8: FALSE | AD8: FALSE
A9: =_xlfn.XLOOKUP(C9, '❄️ SD-WIN-BBALL ⚾'!$F$3:$F$336, '❄️ SD-WIN-BBALL ⚾'!$A$3:$A$336) -> B-RET | B9: =_xlfn.XLOOKUP(C9, '❄️ SD-WIN-BBALL ⚾'!$F$3:$F$336, '❄️ SD-WIN-BBALL ⚾'!$E$3:$E$336) -> USBDBBA | C9: Ballistic Baseball Academy | D9: =IF(_xlfn.XLOOKUP(C9, '❄️ SD-WIN-BBALL ⚾'!$F$3:$F$336, '❄️ SD-WIN-BBALL ⚾'!$G$3:$G$336)=0, " ", _xlfn.XLOOKUP(C9, '❄️ SD-WIN-BBALL ⚾'!$F$3:$F$336, '❄️ SD-WIN-BBALL ⚾'!$G$3:$G$336)) | E9: =_xlfn.XLOOKUP(C9, '❄️ SD-WIN-BBALL ⚾'!$F$3:$F$336, '❄️ SD-WIN-BBALL ⚾'!$AL$3:$AL$336) -> 200 McClurg Rd Boardman, OH 44512 | F9: =_xlfn.XLOOKUP(C9, '❄️ SD-WIN-BBALL ⚾'!$F$3:$F$336,'❄️ SD-WIN-BBALL ⚾'!$M$3:$M$336) -> Chris | G9: =_xlfn.XLOOKUP(C9, '❄️ SD-WIN-BBALL ⚾'!$F$3:$F$336,'❄️ SD-WIN-BBALL ⚾'!$N$3:$N$336) -> Cosentino | H9: =_xlfn.XLOOKUP(C9, '❄️ SD-WIN-BBALL ⚾'!$F$3:$F$336,'❄️ SD-WIN-BBALL ⚾'!$T$3:$T$336) -> 330-502-3367 | I9: =_xlfn.XLOOKUP(C9, '❄️ SD-WIN-BBALL ⚾'!$F$3:$F$336,'❄️ SD-WIN-BBALL ⚾'!$W$3:$W$336) -> 117 | J9: =IF(_xlfn.XLOOKUP(C9, '❄️ SD-WIN-BBALL ⚾'!$F$3:$F$336, '❄️ SD-WIN-BBALL ⚾'!$AA$3:$AA$336)=0, "TBD", _xlfn.XLOOKUP(C9, '❄️ SD-WIN-BBALL ⚾'!$F$3:$F$336, '❄️ SD-WIN-BBALL ⚾'!$AA$3:$AA$336)) -> Saturdays: Jan. 17, 24, 31; Feb. 7 | K9: =IF(_xlfn.XLOOKUP(C9, '❄️ SD-WIN-BBALL ⚾'!$F$3:$F$336, '❄️ SD-WIN-BBALL ⚾'!$AB$3:$AB$336)=0, "TBD", _xlfn.XLOOKUP(C9, '❄️ SD-WIN-BBALL ⚾'!$F$3:$F$336, '❄️ SD-WIN-BBALL ⚾'!$AB$3:$AB$336)) -> Noon-4:30pm | M9: TRUE | N9: TRUE | O9: TRUE | P9: FALSE | Q9: FALSE | R9: FALSE | S9: TRUE | T9: TRUE | U9: FALSE | V9: FALSE | W9: TRUE | X9: TRUE | Y9: FALSE | Z9: FALSE | AA9: FALSE | AB9: FALSE | AC9: FALSE | AD9: FALSE
A10: =_xlfn.XLOOKUP(C10, '❄️ SD-WIN-BBALL ⚾'!$F$3:$F$336, '❄️ SD-WIN-BBALL ⚾'!$A$3:$A$336) -> B-RET | B10: =_xlfn.XLOOKUP(C10, '❄️ SD-WIN-BBALL ⚾'!$F$3:$F$336, '❄️ SD-WIN-BBALL ⚾'!$E$3:$E$336) -> USBDBP | C10: Baseball Plus (January Sessions) | D10: =IF(_xlfn.XLOOKUP(C10, '❄️ SD-WIN-BBALL ⚾'!$F$3:$F$336, '❄️ SD-WIN-BBALL ⚾'!$G$3:$G$336)=0, " ", _xlfn.XLOOKUP(C10, '❄️ SD-WIN-BBALL ⚾'!$F$3:$F$336, '❄️ SD-WIN-BBALL ⚾'!$G$3:$G$336)) | E10: =_xlfn.XLOOKUP(C10, '❄️ SD-WIN-BBALL ⚾'!$F$3:$F$336, '❄️ SD-WIN-BBALL ⚾'!$AL$3:$AL$336) -> 400 Duffy Ave Hicksville, NY 11801 | F10: =_xlfn.XLOOKUP(C10, '❄️ SD-WIN-BBALL ⚾'!$F$3:$F$336,'❄️ SD-WIN-BBALL ⚾'!$M$3:$M$336) -> Roger | G10: =_xlfn.XLOOKUP(C10, '❄️ SD-WIN-BBALL ⚾'!$F$3:$F$336,'❄️ SD-WIN-BBALL ⚾'!$N$3:$N$336) -> Mischel | H10: =_xlfn.XLOOKUP(C10, '❄️ SD-WIN-BBALL ⚾'!$F$3:$F$336,'❄️ SD-WIN-BBALL ⚾'!$T$3:$T$336) -> 347-992-1736 | I10: =_xlfn.XLOOKUP(C10, '❄️ SD-WIN-BBALL ⚾'!$F$3:$F$336,'❄️ SD-WIN-BBALL ⚾'!$W$3:$W$336) -> 109 | J10: =IF(_xlfn.XLOOKUP(C10, '❄️ SD-WIN-BBALL ⚾'!$F$3:$F$336, '❄️ SD-WIN-BBALL ⚾'!$AA$3:$AA$336)=0, "TBD", _xlfn.XLOOKUP(C10, '❄️ SD-WIN-BBALL ⚾'!$F$3:$F$336, '❄️ SD-WIN-BBALL ⚾'!$AA$3:$AA$336)) -> Fridays: Jan. 9, 16, 23, 30 | K10: =IF(_xlfn.XLOOKUP(C10, '❄️ SD-WIN-BBALL ⚾'!$F$3:$F$336, '❄️ SD-WIN-BBALL ⚾'!$AB$3:$AB$336)=0, "TBD", _xlfn.XLOOKUP(C10, '❄️ SD-WIN-BBALL ⚾'!$F$3:$F$336, '❄️ SD-WIN-BBALL ⚾'!$AB$3:$AB$336)) -> 6pm-9pm | M10: TRUE | N10: TRUE | O10: TRUE | P10: FALSE | Q10: FALSE | R10: FALSE | S10: TRUE | T10: TRUE | U10: FALSE | V10: FALSE | W10: TRUE | X10: TRUE | Y10: FALSE | Z10: FALSE | AA10: FALSE | AB10: FALSE | AC10: FALSE | AD10: TRUE
A11: =_xlfn.XLOOKUP(C11, '❄️ SD-WIN-BBALL ⚾'!$F$3:$F$336, '❄️ SD-WIN-BBALL ⚾'!$A$3:$A$336) -> B-RET | B11: =_xlfn.XLOOKUP(C11, '❄️ SD-WIN-BBALL ⚾'!$F$3:$F$336, '❄️ SD-WIN-BBALL ⚾'!$E$3:$E$336) -> USBDBELL | C11: Bellbrook HS | D11: =IF(_xlfn.XLOOKUP(C11, '❄️ SD-WIN-BBALL ⚾'!$F$3:$F$336, '❄️ SD-WIN-BBALL ⚾'!$G$3:$G$336)=0, " ", _xlfn.XLOOKUP(C11, '❄️ SD-WIN-BBALL ⚾'!$F$3:$F$336, '❄️ SD-WIN-BBALL ⚾'!$G$3:$G$336)) | E11: =_xlfn.XLOOKUP(C11, '❄️ SD-WIN-BBALL ⚾'!$F$3:$F$336, '❄️ SD-WIN-BBALL ⚾'!$AL$3:$AL$336) -> 3737 Upper Bellbrook Rd Bellbrook, OH 45305 | F11: =_xlfn.XLOOKUP(C11, '❄️ SD-WIN-BBALL ⚾'!$F$3:$F$336,'❄️ SD-WIN-BBALL ⚾'!$M$3:$M$336) -> Jon | G11: =_xlfn.XLOOKUP(C11, '❄️ SD-WIN-BBALL ⚾'!$F$3:$F$336,'❄️ SD-WIN-BBALL ⚾'!$N$3:$N$336) -> Venters | H11: =_xlfn.XLOOKUP(C11, '❄️ SD-WIN-BBALL ⚾'!$F$3:$F$336,'❄️ SD-WIN-BBALL ⚾'!$T$3:$T$336) -> 937-768-0219 | I11: =_xlfn.XLOOKUP(C11, '❄️ SD-WIN-BBALL ⚾'!$F$3:$F$336,'❄️ SD-WIN-BBALL ⚾'!$W$3:$W$336) -> 118 | J11: =IF(_xlfn.XLOOKUP(C11, '❄️ SD-WIN-BBALL ⚾'!$F$3:$F$336, '❄️ SD-WIN-BBALL ⚾'!$AA$3:$AA$336)=0, "TBD", _xlfn.XLOOKUP(C11, '❄️ SD-WIN-BBALL ⚾'!$F$3:$F$336, '❄️ SD-WIN-BBALL ⚾'!$AA$3:$AA$336)) -> Sundays: Jan. 18, 25 (PPD); Feb. 1, 8, 15 (M/U) | K11: =IF(_xlfn.XLOOKUP(C11, '❄️ SD-WIN-BBALL ⚾'!$F$3:$F$336, '❄️ SD-WIN-BBALL ⚾'!$AB$3:$AB$336)=0, "TBD", _xlfn.XLOOKUP(C11, '❄️ SD-WIN-BBALL ⚾'!$F$3:$F$336, '❄️ SD-WIN-BBALL ⚾'!$AB$3:$AB$336)) -> Noon-4:30pm | M11: TRUE | N11: TRUE | O11: TRUE | P11: FALSE | Q11: FALSE | R11: FALSE | S11: TRUE | T11: TRUE | U11: FALSE | V11: FALSE | W11: TRUE | X11: TRUE | Y11: FALSE | Z11: FALSE | AA11: FALSE | AB11: FALSE | AC11: FALSE | AD11: FALSE
A12: =_xlfn.XLOOKUP(C12, '❄️ SD-WIN-BBALL ⚾'!$F$3:$F$336, '❄️ SD-WIN-BBALL ⚾'!$A$3:$A$336) -> B-RET | B12: =_xlfn.XLOOKUP(C12, '❄️ SD-WIN-BBALL ⚾'!$F$3:$F$336, '❄️ SD-WIN-BBALL ⚾'!$E$3:$E$336) -> USBDBC | C12: Benedict College | D12: =IF(_xlfn.XLOOKUP(C12, '❄️ SD-WIN-BBALL ⚾'!$F$3:$F$336, '❄️ SD-WIN-BBALL ⚾'!$G$3:$G$336)=0, " ", _xlfn.XLOOKUP(C12, '❄️ SD-WIN-BBALL ⚾'!$F$3:$F$336, '❄️ SD-WIN-BBALL ⚾'!$G$3:$G$336)) | E12: =_xlfn.XLOOKUP(C12, '❄️ SD-WIN-BBALL ⚾'!$F$3:$F$336, '❄️ SD-WIN-BBALL ⚾'!$AL$3:$AL$336) -> 1703 Pinehurst Rd. Columbia, SC 29204 | F12: =_xlfn.XLOOKUP(C12, '❄️ SD-WIN-BBALL ⚾'!$F$3:$F$336,'❄️ SD-WIN-BBALL ⚾'!$M$3:$M$336) -> Selwyn | G12: =_xlfn.XLOOKUP(C12, '❄️ SD-WIN-BBALL ⚾'!$F$3:$F$336,'❄️ SD-WIN-BBALL ⚾'!$N$3:$N$336) -> Young | H12: =_xlfn.XLOOKUP(C12, '❄️ SD-WIN-BBALL ⚾'!$F$3:$F$336,'❄️ SD-WIN-BBALL ⚾'!$T$3:$T$336) -> 213-804-2456 | I12: =_xlfn.XLOOKUP(C12, '❄️ SD-WIN-BBALL ⚾'!$F$3:$F$336,'❄️ SD-WIN-BBALL ⚾'!$W$3:$W$336) -> 118 | J12: =IF(_xlfn.XLOOKUP(C12, '❄️ SD-WIN-BBALL ⚾'!$F$3:$F$336, '❄️ SD-WIN-BBALL ⚾'!$AA$3:$AA$336)=0, "TBD", _xlfn.XLOOKUP(C12, '❄️ SD-WIN-BBALL ⚾'!$F$3:$F$336, '❄️ SD-WIN-BBALL ⚾'!$AA$3:$AA$336)) -> Sundays: Jan. 18 (PPD), 24 (M/U), 25; Feb. 1, 8 | K12: =IF(_xlfn.XLOOKUP(C12, '❄️ SD-WIN-BBALL ⚾'!$F$3:$F$336, '❄️ SD-WIN-BBALL ⚾'!$AB$3:$AB$336)=0, "TBD", _xlfn.XLOOKUP(C12, '❄️ SD-WIN-BBALL ⚾'!$F$3:$F$336, '❄️ SD-WIN-BBALL ⚾'!$AB$3:$AB$336)) -> 1pm-5:30pm | M12: TRUE | N12: TRUE | O12: TRUE | P12: FALSE | Q12: FALSE | R12: FALSE | S12: TRUE | T12: TRUE | U12: FALSE | V12: FALSE | W12: TRUE | X12: TRUE | Y12: FALSE | Z12: FALSE | AA12: FALSE | AB12: FALSE | AC12: FALSE | AD12: FALSE
A13: =_xlfn.XLOOKUP(C13, '❄️ SD-WIN-BBALL ⚾'!$F$3:$F$336, '❄️ SD-WIN-BBALL ⚾'!$A$3:$A$336) -> B-RET | B13: =_xlfn.XLOOKUP(C13, '❄️ SD-WIN-BBALL ⚾'!$F$3:$F$336, '❄️ SD-WIN-BBALL ⚾'!$E$3:$E$336) -> USBDBET | C13: Bethel HS | D13: =IF(_xlfn.XLOOKUP(C13, '❄️ SD-WIN-BBALL ⚾'!$F$3:$F$336, '❄️ SD-WIN-BBALL ⚾'!$G$3:$G$336)=0, " ", _xlfn.XLOOKUP(C13, '❄️ SD-WIN-BBALL ⚾'!$F$3:$F$336, '❄️ SD-WIN-BBALL ⚾'!$G$3:$G$336)) | E13: =_xlfn.XLOOKUP(C13, '❄️ SD-WIN-BBALL ⚾'!$F$3:$F$336, '❄️ SD-WIN-BBALL ⚾'!$AL$3:$AL$336) -> 36000 Clearpond Rd. Shawnee, OK 74801 | F13: =_xlfn.XLOOKUP(C13, '❄️ SD-WIN-BBALL ⚾'!$F$3:$F$336,'❄️ SD-WIN-BBALL ⚾'!$M$3:$M$336) -> Gary | G13: =_xlfn.XLOOKUP(C13, '❄️ SD-WIN-BBALL ⚾'!$F$3:$F$336,'❄️ SD-WIN-BBALL ⚾'!$N$3:$N$336) -> Bandy | H13: =_xlfn.XLOOKUP(C13, '❄️ SD-WIN-BBALL ⚾'!$F$3:$F$336,'❄️ SD-WIN-BBALL ⚾'!$T$3:$T$336) -> 402-710-0445 | I13: =_xlfn.XLOOKUP(C13, '❄️ SD-WIN-BBALL ⚾'!$F$3:$F$336,'❄️ SD-WIN-BBALL ⚾'!$W$3:$W$336) -> 104 | J13: =IF(_xlfn.XLOOKUP(C13, '❄️ SD-WIN-BBALL ⚾'!$F$3:$F$336, '❄️ SD-WIN-BBALL ⚾'!$AA$3:$AA$336)=0, "TBD", _xlfn.XLOOKUP(C13, '❄️ SD-WIN-BBALL ⚾'!$F$3:$F$336, '❄️ SD-WIN-BBALL ⚾'!$AA$3:$AA$336)) -> Sundays: Jan. 4, 11, 25 (PPD); Feb. 1, 8 (M/U) | K13: =IF(_xlfn.XLOOKUP(C13, '❄️ SD-WIN-BBALL ⚾'!$F$3:$F$336, '❄️ SD-WIN-BBALL ⚾'!$AB$3:$AB$336)=0, "TBD", _xlfn.XLOOKUP(C13, '❄️ SD-WIN-BBALL ⚾'!$F$3:$F$336, '❄️ SD-WIN-BBALL ⚾'!$AB$3:$AB$336)) -> Noon-4:30pm | M13: TRUE | N13: TRUE | O13: TRUE | P13: FALSE | Q13: FALSE | R13: FALSE | S13: TRUE | T13: TRUE | U13: FALSE | V13: FALSE | W13: TRUE | X13: TRUE | Y13: FALSE | Z13: FALSE | AA13: TRUE | AB13: TRUE | AC13: FALSE | AD13: FALSE
... A161: =_xlfn.XLOOKUP(C161, '❄️ SD-WIN-BBALL ⚾'!$F$3:$F$336, '❄️ SD-WIN-BBALL ⚾'!$A$3:$A$336) -> B-RET | B161: =_xlfn.XLOOKUP(C161, '❄️ SD-WIN-BBALL ⚾'!$F$3:$F$336, '❄️ SD-WIN-BBALL ⚾'!$E$3:$E$336) -> USBDYK | C161: York HS | D161: =IF(_xlfn.XLOOKUP(C161, '❄️ SD-WIN-BBALL ⚾'!$F$3:$F$336, '❄️ SD-WIN-BBALL ⚾'!$G$3:$G$336)=0, " ", _xlfn.XLOOKUP(C161, '❄️ SD-WIN-BBALL ⚾'!$F$3:$F$336, '❄️ SD-WIN-BBALL ⚾'!$G$3:$G$336)) | E161: =_xlfn.XLOOKUP(C161, '❄️ SD-WIN-BBALL ⚾'!$F$3:$F$336, '❄️ SD-WIN-BBALL ⚾'!$AL$3:$AL$336) -> 9300 George Washington Mem Hwy Yorktown, VA 23692 | F161: =_xlfn.XLOOKUP(C161, '❄️ SD-WIN-BBALL ⚾'!$F$3:$F$336,'❄️ SD-WIN-BBALL ⚾'!$M$3:$M$336) -> Nick | G161: =_xlfn.XLOOKUP(C161, '❄️ SD-WIN-BBALL ⚾'!$F$3:$F$336,'❄️ SD-WIN-BBALL ⚾'!$N$3:$N$336) -> Ham | H161: =_xlfn.XLOOKUP(C161, '❄️ SD-WIN-BBALL ⚾'!$F$3:$F$336,'❄️ SD-WIN-BBALL ⚾'!$T$3:$T$336) -> 757-968-9131 | I161: =_xlfn.XLOOKUP(C161, '❄️ SD-WIN-BBALL ⚾'!$F$3:$F$336,'❄️ SD-WIN-BBALL ⚾'!$W$3:$W$336) -> 215 | J161: =IF(_xlfn.XLOOKUP(C161, '❄️ SD-WIN-BBALL ⚾'!$F$3:$F$336, '❄️ SD-WIN-BBALL ⚾'!$AA$3:$AA$336)=0, "TBD", _xlfn.XLOOKUP(C161, '❄️ SD-WIN-BBALL ⚾'!$F$3:$F$336, '❄️ SD-WIN-BBALL ⚾'!$AA$3:$AA$336)) -> Sundays: Feb. 15 (PPD), 22; Mar. 1, 8, 15 (M/U) | K161: =IF(_xlfn.XLOOKUP(C161, '❄️ SD-WIN-BBALL ⚾'!$F$3:$F$336, '❄️ SD-WIN-BBALL ⚾'!$AB$3:$AB$336)=0, "TBD", _xlfn.XLOOKUP(C161, '❄️ SD-WIN-BBALL ⚾'!$F$3:$F$336, '❄️ SD-WIN-BBALL ⚾'!$AB$3:$AB$336)) -> Noon-4:30pm | M161: TRUE | N161: TRUE | O161: TRUE | P161: FALSE | Q161: FALSE | R161: FALSE | S161: TRUE | T161: TRUE | U161: FALSE | V161: FALSE | W161: TRUE | X161: TRUE | Y161: FALSE | Z161: FALSE | AA161: FALSE | AB161: FALSE | AC161: FALSE | AD161: FALSE
A162: zzzzz | I162: 999999

Sheet ❄️ SD-WIN-SBALL 🥎
A1: STATUS | C1: FY25 | D1: Camp Code | E1: SITE | F1: Facility Name | G1: Site address | H1: Site city | I1: State | J1: Zip | K1: Email | M1: First Name | N1: Last name | O1: Director address | P1: Director city | Q1: State | R1: Zip | S1: Home # | T1: Cell # | U1: Work # | W1: START | X1: END | Y1: COR. DATES | Z1: COR. TIMES | AA1: CFM DATES | AB1: CFM TIMES | AD1: MAX | AE1: LY$ | AF1: S$ | AG1: DP$ | AP1: 46009 | AQ1: 45645 | AR1: 26v25# | AS1: 26v25%
A2: A-NEW | D2: USBDALAS | E2: American Leadership Academy Ironwood | G2: 850 W Combs Rd. | H2: Queen Creek | I2: AZ | J2: 85140 | K2: aurelia.edina@gmail.com | M2: Aurelia | N2: Bailey | O2: 39501 N George Ave | P2: Queen Creek | Q2: AZ | R2: 85140 | T2: 432-556-6456 | W2: 110 | X2: 131 | AA2: Saturdays: Jan. 10, 17, 24, 31 | AB2: Noon-4:30pm | AI2: https://ussoftballacademy.com/queen-creek-softball-camp/ | AK2: =G2&" "&H2&","&" "&I2&" "&J2 -> 850 W Combs Rd. Queen Creek, AZ 85140
A3: A-NEW | D3: USBDBMS | E3: Brick Memorial HS | G3: 2001 Lanes Mill Rd. | H3: Brick | I3: NJ | J3: O8724 | K3: crodriguez1@brickschools.org | M3: Christina | N3: Rodriguez | O3: 1428 Davidson Avenue | P3: Brick | Q3: NJ | R3: O8724 | T3: 908-910-0564 | W3: 201 | X3: 301 | AA3: Sundays: Feb 1, 8, 22; March 1 | AB3: 8am-12:30pm | AI3: https://ussoftballacademy.com/brick-softball-camp/ | AK3: =G3&" "&H3&","&" "&I3&" "&J3 -> 2001 Lanes Mill Rd. Brick, NJ O8724
A4: A-NEW | D4: USBDBHLS | E4: Burnt Hills-Ballston Lake HS | F4: O'Rourke Middle School | G4: 173 Lake Hill Rd | H4: Burnt Hills | I4: NY | J4: 12027 | K4: CMcDaniel@bhbl.org | M4: Caitlyn | N4: McDaniel | O4: 69 Charlton Rd. | P4: Ballston Lake | Q4: NY | R4: 12019 | T4: 518-281-2267 | W4: 124 | X4: 214 | AA4: Saturdays: Jan. 24, 31; Feb. 7, 14 | AB4: 8am-11am | AI4: https://ussoftballacademy.com/burnt-hills-softball-camp/ | AK4: =G4&" "&H4&","&" "&I4&" "&J4 -> 173 Lake Hill Rd Burnt Hills, NY 12027
A5: A-NEW | D5: USBDGCS | E5: Gibault Catholic HS | F5: Fr. Edwin Hustedde Gymnasium | G5: 501 Columbia Ave. | H5: Waterloo | I5: IL | J5: 62298 | K5: bollonem@outlook.com | M5: Maggie | N5: Bollone | O5: 6920 Bluffside Rd. | P5: Columbia | Q5: IL | R5: 62236 | T5: 618-410-0509 | W5: 215 | X5: 308 | AA5: Sundays: Feb. 15, 22; March 1, 8 | AB5: Noon-4:30pm | AI5: https://ussoftballacademy.com/waterloo-softball-camp/ | AK5: =G5&" "&H5&","&" "&I5&" "&J5 -> 501 Columbia Ave. Waterloo, IL 62298
A6: A-NEW | D6: USBDMAFS | E6: Marco Antonio Firebaugh HS | F6: Softball Field | G6: 5246 Martin Luther King Jr Blvd | H6: Lynwood | I6: CA | J6: 90262 | K6: calcorta1@yahoo.com | M6: Chris | N6: Alcorta | O6: 11656 Lugo Park Ave | P6: Lynwood | Q6: CA | R6: 90262 | T6: 323-944-9403 | W6: 111 | X6: 201 | AA6: Sundays: Jan. 11, 18, 25; Feb. 1 | AB6: Noon-4:30pm | AI6: https://ussoftballacademy.com/lynwood-softball-camp/ | AK6: =G6&" "&H6&","&" "&I6&" "&J6 -> 5246 Martin Luther King Jr Blvd Lynwood, CA 90262
A7: A-NEW | D7: USBDNDCS | E7: Notre Dame Cathedral Latin School | G7: 13000 Auburn Rd. | H7: Chardon | I7: OH | J7: 44024 | K7: tiger.alexander@ndcl.org | M7: Tiger | N7: Alexander | O7: 70 Sanford St. | P7: Painesville | Q7: OH | R7: 44077 | T7: 440-497-7583 | W7: 208 | X7: 301 | AA7: Sundays: Feb. 8, 15, 22; March 1 | AB7: 1pm-5:30pm | AI7: https://ussoftballacademy.com/chardon-softball-camp/ | AK7: =G7&" "&H7&","&" "&I7&" "&J7 -> 13000 Auburn Rd. Chardon, OH 44024
A8: A-NEW | D8: USBDPSUS | E8: Penn State University-New Kensington | F8: Athletic Center | G8: 3550 7th St Rd. | H8: New Kensington | I8: PA | J8: 15068 | K8: ecm149@psu.edu | M8: Eric | N8: Marlo | O8: 13 Driftwood Dr | P8: Pittsburgh | Q8: PA | R8: 15238 | T8: 203-252-1530 | W8: 118 | X8: 215 | AA8: Sundays: Jan. 18, 25(PPD); Feb. 1, 8, 15 (M/U) | AB8: Noon-4:30pm | AI8: https://ussoftballacademy.com/new-kensington-softball-camp/ | AK8: =G8&" "&H8&","&" "&I8&" "&J8 -> 3550 7th St Rd. New Kensington, PA 15068
A9: A-NEW | D9: USBDROYS | E9: Royal HS | G9: 34499 Royal Rd. | H9: Brookshire | I9: TX | J9: 77423 | K9: algarcia@royal-isd.net | M9: Alyssa | N9: Garcia | T9: 281-904-5306 | W9: 301 | X9: 322 | AA9: Sundays: March 1, 8, 15, 22 | AB9: Noon-4:30pm | AI9: https://ussoftballacademy.com/brookshire-softball-camp/ | AK9: =G9&" "&H9&","&" "&I9&" "&J9 -> 34499 Royal Rd. Brookshire, TX 77423
A10: A-NEW | D10: USBDSCS | E10: Sand Creek HS | G10: 7005 N Carefree Cir. | H10: Colorado Springs | I10: CO | J10: 80922 | K10: Dalyfitness@ymail.com | M10: Tyler | N10: Daly | O10: 5362 Statute Dr | P10: Colorado Springs | Q10: CO | R10: 80922 | T10: 719-287-5367 | W10: 111 | X10: 201 | AA10: Sundays: Jan. 11, 18, 25; Feb. 1 | AB10: 9am-1:30pm | AI10: https://ussoftballacademy.com/colorado-springs-softball-camp/ | AK10: =G10&" "&H10&","&" "&I10&" "&J10 -> 7005 N Carefree Cir. Colorado Springs, CO 80922
A11: A-NEW | D11: USBDSOS | E11: Sluggers of Ohio Inc. | G11: 9862 South Ave. | H11: Youngstown | I11: OH | J11: 44514 | K11: bill.amero@gmail.com | M11: Bill | N11: Amero | O11: 9862 South Ave. | P11: Poland | Q11: OH | R11: 44514 | T11: 330-501-7506 | W11: 404 | X11: 425 | AA11: Saturdays: April 4, 11, 18, 25 | AB11: 9am-Noon | AI11: https://ussoftballacademy.com/youngstown-softball-camp/ | AK11: =G11&" "&H11&","&" "&I11&" "&J11 -> 9862 South Ave. Youngstown, OH 44514
A12: A-NEW | D12: USBDTAS | E12: Stolen Bases Academy | G12: 600 E. Western Ave. | H12: Lombard | I12: IL | J12: 60148 | K12: dccoach@hotmail.com | L12: X | M12: Sean | N12: Bieterman | O12: 343 Elm St. | P12: Villa Park | Q12: IL | R12: 60181 | T12: 630-334-7326 | W12: 221 | X12: 314 | AA12: Saturdays: Feb. 21, 28; March 7, 14 | AB12: 12:30pm-5pm | AI12: https://ussoftballacademy.com/lombard-softball-camp/ | AK12: =G12&" "&H12&","&" "&I12&" "&J12 -> 600 E. Western Ave. Lombard, IL 60148
A13: A-NEW | D13: USBDATLS | E13: USSA Atlanta | F13: Skelton Softball & Tennis Center | G13: Fischer Rd. | H13: Newnan | I13: GA | J13: 30265 | K13: carleigh.baker@cowetaschools.net | M13: Carleigh | N13: Baker | O13: 40 Mcintosh Estates Court | P13: Sharpsburg | Q13: GA | R13: 30277 | T13: 678-416-0081 | W13: 222 | X13: 315 | AA13: Sundays: Feb. 15 (PPD), 22; March 1, 8, 15 (M/U) | AB13: Noon-4:30pm | AI13: https://ussoftballacademy.com/newnan-softball-camp/ | AK13: =G13&" "&H13&","&" "&I13&" "&J13 -> Fischer Rd. Newnan, GA 30265
A14: A-NEW | D14: USBDDPTS | E14: USSA Davenport | F14: Davenport HS | G14: 4525 County Road 547 N | H14: Davenport | I14: FL | J14: 33837 | K14: amenmusic33@gmail.com | M14: Gus | N14: Mendoza | O14: 3451 Cortland Dr. | P14: Davenport | Q14: FL | R14: 33837 | T14: 281-889-8876 | W14: 110 | X14: 221 | AA14: Saturdays: Jan. 10, 17, 31(PPD); Feb. 7, 21 (M/U) | AB14: 10:30am-3pm | AI14: https://ussoftballacademy.com/davenport-softball-camp/ | AK14: =G14&" "&H14&","&" "&I14&" "&J14 -> 4525 County Road 547 N Davenport, FL 33837
A15: A-NEW | D15: USBDCPS | E15: USSA Racine | F15: St. Catherine's HS | G15: 1200 Park Ave. | H15: Racine | I15: WI | J15: 53403 | K15: zprideaux@sienacatholicschools.org | M15: Zach | N15: Prideaux | O15: 1200 Park Ave. | P15: Racine | Q15: WI | R15: 53403 | T15: 262-989-8087 | W15: 207 | X15: 228 | AA15: Saturdays: Feb. 7, 14, 21, 28 | AB15: 10am-2:30pm | AI15: https://ussoftballacademy.com/racine-softball-camp/ | AK15: =G15&" "&H15&","&" "&I15&" "&J15 -> 1200 Park Ave. Racine, WI 53403
A16: A-NEW | D16: USBDVSUS | E16: Vermont State University - Castleton | F16: Spartan Athletic Complex – SHAPE Gymnasium | G16: 190 University Dr. | H16: Castleton | I16: VT | J16: O5735 | K16: eric.kraut@vermontstate.edu | M16: Eric | N16: Kraut | O16: 315 Maple hill Rd | P16: Belmont | Q16: VT | R16: O5730 | T16: 952-452-0513 | W16: 201 | X16: 301 | AA16: Sundays: Jan. 25(PPD); Feb. 1, 8, 15 (M/U), 22 (PPD); March 1 (M/U) | AB16: Noon-4:30pm | AI16: https://ussoftballacademy.com/castleton-softball-camp/ | AK16: =G16&" "&H16&","&" "&I16&" "&J16 -> 190 University Dr. Castleton, VT O5735
A17: A-NEW | D17: USBDWUS | E17: Washington Union HS | G17: 404 W Lincoln Ave | H17: Fresno | I17: CA | J17: 93706 | K17: victoria.hildebrandt@wusd.ws | M17: Tori | N17: Hildebrandt | O17: 6041 S Elm Ave | P17: Fresno | Q17: CA | R17: 93706 | T17: 559-289-3633 | W17: 125 | X17: 222 | AA17: Sundays: Jan. 25; Feb. 1, 15, 22 | AB17: Noon-4:30pm | AI17: https://ussoftballacademy.com/fresno-softball-camp/ | AK17: =G17&" "&H17&","&" "&I17&" "&J17 -> 404 W Lincoln Ave Fresno, CA 93706
A18: B-RET | B18: X | C18: 76 | D18: USBDDCCS | E18: Bishop Dunne Catholic School (NEW SITE) | G18: 3900 Rugged Dr. | H18: Dallas | I18: TX | J18: 75224 | K18: taneshiaburgess@gmail.com | L18: X | M18: Taneshia | N18: Burgess | O18: 2819 Silkwood St | P18: Dallas | Q18: TX | R18: 75215 | T18: 214-533-1386 | V18: X | W18: 104 | X18: 215 | AA18: Sundays: Jan. 4, 11, 18(PPD), 25(PPD); Feb. 1 (M/U), 15 (M/U) | AB18: Noon-4:30pm | AC18: X | AH18: X | AI18: https://ussoftballacademy.com/dallas-softball-camp/ | AJ18: X | AK18: =G18&" "&H18&","&" "&I18&" "&J18 -> 3900 Rugged Dr. Dallas, TX 75224 | AO18: X | AT18: X
A19: B-RET | B19: X | C19: 77 | D19: USBDCUS | E19: Capital University | F19: The Capital Center | G19: 2360 E Mound St. | H19: Bexley | I19: OH | J19: 43209 | K19: akirk2@capital.edu, Bpope@capital.edu | L19: X | M19: Anna | N19: Kirk-Hamilton | O19: 8409 Eldorado Dr. | P19: Powell | Q19: OH | R19: 43065 | T19: 614-580-9396 | V19: X | W19: 111 | X19: 201 | AA19: Sundays: Jan. 11, 18; Feb. 1, 8 | AB19: 9am-Noon | AC19: X | AF19: 129 | AH19: X | AI19: https://ussoftballacademy.com/bexley-softball-camp/ | AJ19: X | AK19: =G19&" "&H19&","&" "&I19&" "&J19 -> 2360 E Mound St. Bexley, OH 43209 | AO19: X | AT19: X
A20: B-RET | B20: X | C20: 51 | D20: USBDCSHS | E20: Chippewa Senior HS | F20: Chippewa Intermediate School | G20: 100 Valley View Rd. | H20: Doylestown | I20: OH | J20: 44230 | K20: gregan@south-central.org | L20: X | M20: Glenn | N20: Regan | O20: 615 Church St. | P20: Doylestown | Q20: OH | R20: 44230 | T20: 330-715-2828 | V20: X | W20: 111 | X20: 208 | AA20: Sundays: Jan. 11, 18, 25 (PPD); Feb. 1, 8 (M/U) | AB20: 1pm-5:30pm | AC20: X | AF20: 129 | AH20: X | AI20: https://ussoftballacademy.com/doylestown-softball-camp/ | AJ20: X | AK20: =G20&" "&H20&","&" "&I20&" "&J20 -> 100 Valley View Rd. Doylestown, OH 44230 | AO20: X | AT20: X
A21: B-RET | B21: X | C21: 76 | D21: USBDCVS | E21: Crestview HS | F21: Crestview Middle School | G21: 1575 State Route 96 | H21: Ashland | I21: OH | J21: 44805 | K21: cunninghamtruckrepair@gmail.com | L21: X | M21: Josh | N21: Cunningham | O21: SOFTBALL- 1575 State Route 96 | P21: Ashland | Q21: OH | R21: 44805 | T21: 419-961-4076 | V21: X | W21: 118 | X21: 215 | AA21: Sundays: Jan. 18, 25 (PPD); Feb. 1, 8, 15 (M/U) | AB21: 2pm-6:30pm | AC21: X | AE21: 149 | AF21: 129 | AH21: X | AI21: https://ussoftballacademy.com/ashland-softball-camp/ | AJ21: X | AK21: =G21&" "&H21&","&" "&I21&" "&J21 -> 1575 State Route 96 Ashland, OH 44805 | AO21: X | AT21: X
A22: B-RET | B22: X | C22: 39 | D22: USBDDYS | E22: Dysart HS | G22: 11425 N Dysart Rd. | H22: El Mirage | I22: AZ | J22: 85335 | K22: bobbrumbaugh602@gmail.com | L22: X | M22: Bob | N22: Brumbaugh | O22: 13316 W Statler St. | P22: Surprise | Q22: AZ | R22: 85374 | T22: 602-706-7052 | V22: X | W22: 103 | X22: 207 | AA22: Saturdays: Jan. 3, 10 (PPD), 17, 24; Feb. 7 (M/U) | AB22: 10am-2:30pm | AC22: X | AE22: 149 | AF22: 129 | AH22: X | AI22: https://ussoftballacademy.com/el-mirage-softball-camp/ | AJ22: X | AK22: =G22&" "&H22&","&" "&I22&" "&J22 -> 11425 N Dysart Rd. El Mirage, AZ 85335 | AO22: X | AT22: X
A23: B-RET | B23: X | C23: 53 | D23: USBDJCS | E23: Johnson Creek HS | G23: 455 Atzalan St. | H23: Johnson Creek | I23: WI | J23: 53038 | K23: loganpeot@johnsoncreekschools.org | L23: X | M23: Logan | N23: Peot | O23: 136 N Maple Terrace | P23: Oconomowoc | Q23: WI | R23: 53066 | T23: 920-660-1761 | V23: X | W23: 118 | X23: 215 | AA23: Sundays: Jan. 11 (PPD), 18, 25; Feb. 1, 15 (M/U) | AB23: Noon-4:30pm | AC23: X | AE23: 149 | AF23: 129 | AH23: X | AI23: https://ussoftballacademy.com/johnson-creek-softball-camp/ | AJ23: X | AK23: =G23&" "&H23&","&" "&I23&" "&J23 -> 455 Atzalan St. Johnson Creek, WI 53038 | AO23: X | AT23: X
A24: B-RET | B24: X | C24: 77 | D24: USBDMSCS | E24: Mount Saint Charles Academy | G24: 800 Logee St. | H24: Woonsocket | I24: RI | J24: 2895 | K24: robertsasso@me.com | L24: X | M24: Bob | N24: Sasso | O24: 52 Thurber Blvd. | P24: Smithfield | Q24: RI | R24: 2917 | T24: 401-743-5771 | V24: X | W24: 301 | X24: 329 | AA24: Sundays: March 1, 8, 22, 29 | AB24: 1pm-5:30pm | AC24: X | AF24: 129 | AH24: X | AI24: https://ussoftballacademy.com/woonsocket-softball-camp/ | AJ24: X | AK24: =G24&" "&H24&","&" "&I24&" "&J24 -> 800 Logee St. Woonsocket, RI 2895 | AO24: X | AT24: X
A25: B-RET | B25: X | C25: 33 | D25: USBDMBCS | E25: Mt. Bethel Christian Academy | G25: 2509 Post Oak Tritt Rd | H25: Marietta | I25: GA | J25: 30062 | K25: coach9ball@gmail.com | L25: X | M25: Jason | N25: Eller | O25: 12140 Wildwood Springs Dr | P25: Roswell | Q25: GA | R25: 30075 | T25: 404-405-1215 | V25: X | W25: 222 | X25: 329 | AA25: Sundays: Feb. 22; March 1, 8 (PPD), 15, 22 (M/U) (PPD), 29 (M/U) | AB25: 1pm-5:30pm | AC25: X | AF25: 129 | AH25: X | AI25: https://ussoftballacademy.com/marietta-softball-camp/ | AJ25: X | AK25: =G25&" "&H25&","&" "&I25&" "&J25 -> 2509 Post Oak Tritt Rd Marietta, GA 30062 | AO25: X | AT25: X
A26: B-RET | B26: X | C26: 77 | D26: USBDNHS | E26: North HS | G26: 34050 Glen Dr. | H26: Eastlake | I26: OH | J26: 44095 | K26: remof7@gmail.com | L26: X | M26: Mike | N26: Ferrari | O26: 1387 Brooks Dr. | P26: Willoughby | Q26: OH | R26: 44094 | T26: 440-478-4563 | V26: X | W26: 111 | X26: 208 | AA26: Sundays: Jan. 11, 18, 25(PPD); Feb. 1, 8 (M/U) | AB26: 9am-1:30pm | AC26: X | AE26: 149 | AF26: 129 | AH26: X | AI26: https://ussoftballacademy.com/eastlake-softball-camp/ | AJ26: X | AK26: =G26&" "&H26&","&" "&I26&" "&J26 -> 34050 Glen Dr. Eastlake, OH 44095 | AO26: X | AT26: X
A27: B-RET | B27: X | C27: 238 | D27: USBDNPUS | E27: North Park University | F27: Helwig Rec Center | G27: 3205 W Carmen Ave. | H27: Chicago | I27: IL | J27: 60625 | K27: kanderson5@northpark.edu | L27: X | M27: Katie | N27: Anderson | O27: 6875 N Northwest HWY 2 C | P27: Chicago | Q27: IL | R27: 60631 | T27: 847-840-7765 | V27: X | W27: 215 | X27: 315 | AA27: Sundays: Feb. 15, 22; March 1, 15 | AB27: 9am-1:30pm | AC27: X | AE27: 149 | AF27: 129 | AH27: X | AI27: https://ussoftballacademy.com/chicago-softball-camp/ | AJ27: X | AK27: =G27&" "&H27&","&" "&I27&" "&J27 -> 3205 W Carmen Ave. Chicago, IL 60625 | AO27: X | AT27: X
A28: B-RET | B28: X | C28: 26 | D28: USBDSGTS | E28: Red Lion Christian Academy | F28: Lions Den @ RLCA | G28: 1390 Red Lion Rd | H28: Bear | I28: DE | J28: 19701 | K28: allaboutsoftball7@gmail.com | L28: X | M28: Tim | N28: Wampler | O28: 303 Bank St | P28: Chesapeake City | Q28: MD | R28: 21915 | T28: 302-218-3336 | V28: X | W28: 215 | X28: 308 | AA28: Sundays: Feb. 15, 22; March 1, 8 | AB28: Noon-4:30pm | AC28: X | AE28: 149 | AF28: 129 | AH28: X | AI28: https://ussoftballacademy.com/bear-softball-camp/ | AJ28: X | AK28: =G28&" "&H28&","&" "&I28&" "&J28 -> 1390 Red Lion Rd Bear, DE 19701 | AO28: X | AT28: X
