Workbook

Sheet ❄️ SD-WIN-BBALL ⚾
A1: STATUS | B1: PH | C1: SU | D1: FY24 | E1: FY25-C | F1: FYREG | G1: Camp Code | I1: SITE | J1: Facility Name | K1: Site address | L1: Site city | M1: State | N1: Zip | O1: Email | P1: PH | Q1: First Name | R1: Last name | S1: Director address | T1: Director city | U1: State | V1: Zip | W1: Home # | X1: Cell # | Y1: Work # | AA1: START | AB1: END | AC1: COR. DATES | AD1: COR. TIMES | AE1: CFM DATES | AF1: CFM TIMES | AH1: MAX | AI1: LY$ | AJ1: S$ | AK1: DP$ | AM1: USBA LANDING PAGE | AO1: 12.3.24:REG | AP1: 12.3.24:PD | AR1: 12.10.24:REG | AS1: 12.10.24:PD | AW1: 12.17.24:REG | AX1: 12.17.24:PD | BE1: 12.24.24:REG | BF1: 12.24.24:PD | BM1: 12.31.24:REG | BN1: 12.31.24:PD | BS1: 1.6.25:REG | BT1: 1.6.25:PD | BW1: 1.13.25:REG | BX1: 1.13.25:PD | CA1: 1.20.25:REG | CB1: 1.20.25:PD | CE1: 1.27.25:REG | CF1: 1.27.25:PD | CI1: 2.3.25:REG | CJ1: 2.3.25:PD | CL1: 2.17.25:REG | CM1: 2.17.25:PD | CO1: 2.24.25:REG | CP1: 2.24.25:PD
A2: A-NEW | E2: 23 | F2: 46 | G2: USBDARD | I2: Ardmore HS | K2: 701 Veterans Blvd | L2: Ardmore | M2: OK | N2: 73401 | O2: cjkennedy@ardmoreschools.org | Q2: CJ | R2: Kennedy | X2: 903-522-2034 | AA2: 202 | AB2: 223 | AE2: Sundays: Feb. 2, 9, 16, 23 | AF2: 1pm-5:30pm | AI2: 139 | AJ2: =AI2+20 -> 159 | AK2: =AJ2+20 -> 179 | AM2: https://usbaseballacademy.com/ardmore-baseball-camp/ | AO2: 18 | AP2: 13 | AR2: 23 | AS2: 20 | AW2: 28 | AX2: 22 | BE2: 29 | BF2: 26 | BM2: 29 | BN2: 26 | BS2: 28 | BT2: 28 | BW2: 31 | BX2: 31 | CA2: 40 | CB2: 34 | CE2: 46 | CF2: 42 | CI2: 44 | CJ2: 44 | CL2: 46 | CM2: 46 | CO2: 46 | CP2: 46
A3: A-NEW | E3: 29 | F3: 63 | G3: USBDALA | I3: Ascend Leadership Academy | J3: Southern Lee HS Field #2 | K3: 2303 Tramway Park Rd. | L3: Sanford | M3: NC | N3: 27332 | O3: mcounter@alaschoolsnc.org | Q3: Morgan | R3: Counter | S3: 129 Beautiful Lane | T3: Sanford | U3: NC | V3: 27332 | X3: 919-897-4541 | AA3: 111 | AB3: 215 | AE3: Saturdays: Jan. 11, 18; Feb. 8, 15 | AF3: 9am-1:30pm | AI3: 139 | AJ3: =AI3+20 -> 159 | AK3: =AJ3+20 -> 179 | AM3: https://usbaseballacademy.com/sanford-baseball-camp/ | AO3: 31 | AP3: 29 | AR3: 45 | AS3: 34 | AW3: 62 | AX3: 43 | BE3: 63 | BF3: 46 | BM3: 56 | BN3: 46 | BS3: 63 | BT3: 58 | BW3: 63 | BX3: 61 | CA3: 61 | CB3: 61 | CE3: 63 | CF3: 63 | CI3: 63 | CJ3: 63 | CL3: 63 | CM3: 63 | CO3: 63 | CP3: 63
A4: A-NEW | E4: 16 | F4: 35 | G4: USBDBET | I4: Bethel HS | K4: 36000 Clearpond Rd. | L4: Shawnee | M4: OK | N4: 74801 | O4: bandyg@bethel.k12.ok.us | Q4: Gary | R4: Bandy | S4: 3900 Low Meadow | T4: Edmond | U4: OK | V4: 73003 | X4: 402-710-0445 | AA4: 112 | AB4: 209 | AE4: Sundays: Jan. 12, 26; Feb. 2, 9 | AF4: 1pm-5:30pm | AI4: 139 | AJ4: =AI4+20 -> 159 | AK4: =AJ4+20 -> 179 | AM4: https://usbaseballacademy.com/shawnee-baseball-camp/ | AO4: 27 | AP4: 10 | AR4: 33 | AS4: 10 | AW4: 31 | AX4: 10 | BE4: 23 | BF4: 15 | BM4: 21 | BN4: 15 | BS4: 38 | BT4: 23 | BW4: 34 | BX4: 34 | CA4: 35 | CB4: 35 | CE4: 35 | CF4: 35 | CI4: 35 | CJ4: 35 | CL4: 35 | CM4: 35 | CO4: 35 | CP4: 35
A5: A-NEW | E5: 46 | F5: 97 | G5: USBDBUS | I5: Bushnell University | K5: 828 E. 11th Ave | L5: Eugene | M5: OR | N5: 97401 | O5: jawomack@bushnell.edu | Q5: Jamie | R5: Womack | X5: 541-731-3011 | AA5: 104 | AB5: 125 | AE5: Saturdays: Jan. 4, 11, 18, 25 | AF5: Noon-4:30pm | AI5: 149 | AJ5: =AI5+20 -> 169 | AK5: =AJ5+20 -> 189 | AM5: https://usbaseballacademy.com/eugene-baseball-camp/ | AO5: 75 | AP5: 60 | AR5: 89 | AS5: 77 | AW5: 82 | AX5: 77 | BE5: 94 | BF5: 89 | BM5: 91 | BN5: 88 | BS5: 99 | BT5: 98 | BW5: 100 | BX5: 100 | CA5: 100 | CB5: 100 | CE5: 97 | CF5: 97 | CI5: 97 | CJ5: 97 | CL5: 97 | CM5: 97 | CO5: 97 | CP5: 97
A6: A-NEW | E6: 25 | F6: 53 | G6: USBDCHS | I6: Century HS | K6: 2000 SE Century Blvd | L6: Hillsboro | M6: OR | N6: 97123 | O6: kondok@hsd.k12.or.us | Q6: Keean | R6: Kondo | X6: 707-372-4683 | AA6: 112 | AB6: 209 | AE6: Sundays: Jan. 12, 19, 26; Feb. 9 | AF6: 11am-3:30pm | AI6: 149 | AJ6: =AI6+20 -> 169 | AK6: =AJ6+20 -> 189 | AM6: https://usbaseballacademy.com/hillsboro-baseball-camp/ | AO6: 34 | AP6: 34 | AR6: 42 | AS6: 36 | AW6: 49 | AX6: 46 | BE6: 54 | BF6: 48 | BM6: 51 | BN6: 48 | BS6: 66 | BT6: 56 | BW6: 53 | BX6: 53 | CA6: 54 | CB6: 53 | CE6: 53 | CF6: 53 | CI6: 53 | CJ6: 53 | CL6: 53 | CM6: 53 | CO6: 53 | CP6: 53
A7: A-NEW | E7: 13 | F7: 26 | G7: USBDCLA | I7: Clarke County HS | K7: 151 South Church St | L7: Grove Hill | M7: AL | N7: 36451 | O7: wbuford@clarkecountyschools.org | Q7: Will | R7: Buford | S7: 1220 Travis St. | T7: Thomasville | U7: AL | V7: 36784 | X7: 334-830-7132 | AA7: 105 | AB7: 126 | AE7: Sundays: Jan. 5, 12, 19, 26 | AF7: 1pm-5:30pm | AI7: 139 | AJ7: =AI7+20 -> 159 | AK7: =AJ7+20 -> 179 | AM7: https://usbaseballacademy.com/grove-hill-baseball-camp/ | AO7: 28 | AP7: 18 | AR7: 32 | AS7: 20 | AW7: 25 | AX7: 19 | BE7: 23 | BF7: 20 | BM7: 21 | BN7: 20 | BS7: 26 | BT7: 26 | BW7: 26 | BX7: 26 | CA7: 26 | CB7: 26 | CE7: 26 | CF7: 26 | CI7: 26 | CJ7: 26 | CL7: 26 | CM7: 26 | CO7: 26 | CP7: 26
A8: A-NEW | E8: 20 | F8: 50 | G8: USBDDOD | I8: Dodge City CC NO | K8: 2501 N 14th Ave | L8: Dodge City | M8: KS | N8: 67801 | O8: jkelly@dc3.edu | Q8: JM | R8: Kelly | S8: 11292 River Rd | T8: Dodge City | U8: KS | V8: 67801 | X8: 409-679-1815 | AA8: 105 | AB8: 126 | AE8: Sundays: Jan. 5, 12, 19, 26 | AF8: 1pm-5:30pm | AI8: 139 | AJ8: =AI8+20 -> 159 | AK8: =AJ8+20 -> 179 | AM8: https://usbaseballacademy.com/dodge-city-baseball-camp/ | AO8: 41 | AP8: 35 | AR8: 53 | AS8: 42 | AW8: 47 | AX8: 44 | BE8: 47 | BF8: 44 | BM8: 44 | BN8: 44 | BS8: 44 | BT8: 44 | BW8: 47 | BX8: 47 | CA8: 50 | CB8: 47 | CE8: 50 | CF8: 50 | CI8: 50 | CJ8: 50 | CL8: 50 | CM8: 50 | CO8: 50 | CP8: 50
A9: A-NEW | E9: 41 | F9: 76 | G9: USBDDRY | I9: Dryden HS | K9: 118 Freeville Rd | L9: Dryden | M9: NY | N9: 13053 | O9: jpascarella75@live.com | Q9: John | R9: Pascarella | X9: 607-339-9432 | AA9: 216 | AB9: 316 | AE9: Sundays: Feb. 16, 23; Mar. 2, 16 | AF9: Noon-4:30pm | AI9: 139 | AJ9: 159 | AK9: 179 | AM9: https://usbaseballacademy.com/dryden-baseball-camp/ | AO9: 0 | AP9: 0 | AR9: 0 | AS9: 0 | AW9: 30 | AX9: 14 | BE9: 41 | BF9: 30 | BM9: 44 | BN9: 30 | BS9: 61 | BT9: 44 | BW9: 62 | BX9: 47 | CA9: 66 | CB9: 54 | CE9: 55 | CF9: 55 | CI9: 58 | CJ9: 55 | CL9: 74 | CM9: 74 | CO9: 76 | CP9: 76
A10: A-NEW | E10: 17 | F10: 35 | G10: USBDECT | I10: East Central HS | K10: 7173 FM 1628 | L10: San Antonio | M10: TX | N10: 78263 | O10: hector.delgadillo@ecisd.net | Q10: Hector | R10: Delgadillo | S10: 212 W Theo Ave | T10: San Antonio | U10: TX | V10: 78214 | X10: 210-347-5935 | AA10: 302 | AB10: 323 | AE10: Sundays: Mar. 2, 9, 16, 23 | AF10: Noon-4:30pm | AI10: 139 | AJ10: =AI10+20 -> 159 | AK10: =AJ10+20 -> 179 | AM10: https://usbaseballacademy.com/san-antonio-baseball-camp-ech/ | AO10: 11 | AP10: 2 | AR10: 13 | AS10: 4 | AW10: 23 | AX10: 14 | BE10: 17 | BF10: 14 | BM10: 19 | BN10: 14 | BS10: 16 | BT10: 14 | BW10: 27 | BX10: 19 | CA10: 35 | CB10: 23 | CE10: 37 | CF10: 24 | CI10: 28 | CJ10: 24 | CL10: 40 | CM10: 30 | CO10: 39 | CP10: 32
A11: A-NEW | E11: 36 | F11: 67 | G11: USBDEPG | I11: El Paso-Gridley HS | J11: El Paso Gridley Middle School | K11: 403 S. McLean St. | L11: Gridley | M11: IL | N11: 61744 | O11: stephenkrominga@gmail.com | Q11: Stephen | R11: Krominga | S11: 997 Grant St | T11: El Paso | U11: IL | V11: 61738 | X11: 815-674-9702 | AA11: 208 | AB11: 308 | AE11: Saturdays: Feb. 8, 22; Mar. 1, 8 | AF11: 1pm-5:30pm | AI11: 139 | AJ11: 159 | AK11: 179 | AM11: https://usbaseballacademy.com/gridley-baseball-camp/ | AO11: 0 | AP11: 0 | AR11: 0 | AS11: 0 | AW11: 20 | AX11: 13 | BE11: 48 | BF11: 36 | BM11: 50 | BN11: 37 | BS11: 49 | BT11: 41 | BW11: 45 | BX11: 41 | CA11: 60 | CB11: 55 | CE11: 66 | CF11: 65 | CI11: 70 | CJ11: 70 | CL11: 70 | CM11: 70 | CO11: 67 | CP11: 67
A12: A-NEW | C12: X | E12: 44 | F12: 90 | G12: USBDEXC | I12: Excelsior Charter School | J12: Victorville CC Field | K12: 18422 Bear Valley Rd | L12: Victorville | M12: CA | N12: 92392 | O12: fthomas340@gmail.com | Q12: Fernando | R12: Thomas | S12: 11142 Blue Mesa Ave | T12: Adelanto | U12: CA | V12: 92301 | X12: 626-205-0430 | AA12: 104 | AB12: 125 | AE12: Saturdays: Jan. 4, 11, 18, 25 | AF12: 10am-2:30pm | AI12: 159 | AJ12: 179 | AK12: 199 | AM12: https://usbaseballacademy.com/victorville-baseball-camp/ | AO12: 89 | AP12: 70 | AR12: 105 | AS12: 76 | AW12: 109 | AX12: 84 | BE12: 99 | BF12: 89 | BM12: 96 | BN12: 88 | BS12: 89 | BT12: 89 | BW12: 90 | BX12: 90 | CA12: 90 | CB12: 90 | CE12: 90 | CF12: 90 | CI12: 90 | CJ12: 90 | CL12: 90 | CM12: 90 | CO12: 90 | CP12: 90
A13: A-NEW | E13: 56 | F13: 102 | G13: USBDFSC | I13: Fairfield Sports Complex | J13: Ouano Field | K13: 16055 Mason Rd | L13: Cypress | M13: TX | N13: 77433 | O13: harryshelton6@yahoo.com | Q13: Harry | R13: Shelton | S13: 5011 Brewcastle Lane | T13: Katy | U13: TX | V13: 77493 | X13: 407-963-6977 | AA13: 104 | AB13: 125 | AE13: Saturdays: Jan. 4, 11, 18, 25 | AF13: Noon-4:30pm | AI13: 139 | AJ13: =AI13+20 -> 159 | AK13: =AJ13+20 -> 179 | AM13: https://usbaseballacademy.com/cypress-baseball-camp/ | AO13: 57 | AP13: 46 | AR13: 108 | AS13: 93 | AW13: 117 | AX13: 104 | BE13: 123 | BF13: 117 | BM13: 122 | BN13: 114 | BS13: 109 | BT13: 109 | BW13: 102 | BX13: 102 | CA13: 102 | CB13: 102 | CE13: 102 | CF13: 102 | CI13: 102 | CJ13: 102 | CL13: 102 | CM13: 102 | CO13: 102 | CP13: 102
A14: A-NEW | E14: 60 | F14: 120 | G14: USBDFOR | I14: Forreston HS | K14: 601 E Main St | L14: Forreston | M14: IL | N14: 61030 | O14: mmcclellan@fvdistrict221.org | Q14: Mike | R14: McClellan | S14: 2526 Austin Place | T14: Beloit | U14: WI | V14: 53511 | X14: 608-289-7157 | AA14: 202 | AB14: 223 | AE14: Sundays: Feb. 2, 9, 16, 23 | AF14: Noon-4:30pm | AI14: 139 | AJ14: =AI14+20 -> 159 | AK14: =AJ14+20 -> 179 | AM14: https://usbaseballacademy.com/forreston-baseball-camp/ | AO14: 62 | AP14: 48 | AR14: 77 | AS14: 62 | AW14: 92 | AX14: 75 | BE14: 86 | BF14: 80 | BM14: 94 | BN14: 86 | BS14: 93 | BT14: 88 | BW14: 100 | BX14: 95 | CA14: 109 | CB14: 107 | CE14: 110 | CF14: 109 | CI14: 117 | CJ14: 117 | CL14: 120 | CM14: 120 | CO14: 120 | CP14: 120
A15: A-NEW | C15: X | E15: 52 | F15: 98 | G15: USBDGCU | I15: Georgian Court University | K15: 900 Lakewood Ave | L15: Lakewood | M15: NJ | N15: 8701 | O15: afreeman@georgian.edu | Q15: Arlan | R15: Freeman | S15: 181 Long Hill Rd Apt F5 | T15: Little Falls | U15: NJ | V15: O7424 | X15: 207-939-2867 | AA15: 111 | AB15: 208 | AE15: Saturdays: Jan. 11, 18; Feb. 1, 8 | AF15: 9am-1:30pm | AI15: 149 | AJ15: =AI15+20 -> 169 | AK15: =AJ15+20 -> 189 | AM15: https://usbaseballacademy.com/lakewood-baseball-camp-nj/ | AO15: 49 | AP15: 38 | AR15: 64 | AS15: 56 | AW15: 74 | AX15: 66 | BE15: 76 | BF15: 72 | BM15: 81 | BN15: 78 | BS15: 103 | BT15: 90 | BW15: 101 | BX15: 101 | CA15: 101 | CB15: 101 | CE15: 100 | CF15: 98 | CI15: 102 | CJ15: 98 | CL15: 98 | CM15: 98 | CO15: 98 | CP15: 98
A16: A-NEW | E16: 37 | F16: 72 | G16: USBDGCH | I16: Greeley Central HS | K16: 1515 14th Ave | L16: Greeley | M16: CO | N16: 80631 | O16: jrahn@greeleyschools.org | Q16: Josh | R16: Rahn | S16: 2105 74th Ave | T16: Greeley | U16: CO | V16: 80634 | X16: 708-337-3009 | AA16: 126 | AB16: 223 | AE16: Sundays: Jan. 26; Feb. 2, 16, 23 | AF16: Noon-4:30pm | AI16: 149 | AJ16: =AI16+20 -> 169 | AK16: =AJ16+20 -> 189 | AM16: https://usbaseballacademy.com/greeley-baseball-camp/ | AO16: 48 | AP16: 32 | AR16: 57 | AS16: 40 | AW16: 60 | AX16: 40 | BE16: 53 | BF16: 52 | BM16: 60 | BN16: 55 | BS16: 69 | BT16: 63 | BW16: 80 | BX16: 74 | CA16: 82 | CB16: 73 | CE16: 72 | CF16: 72 | CI16: 75 | CJ16: 72 | CL16: 72 | CM16: 72 | CO16: 72 | CP16: 72
A17: A-NEW | C17: X | E17: 68 | F17: 116 | G17: USBDHB | I17: Hilliard Bradley HS | K17: 2800 Walker Rd | L17: Hilliard | M17: OH | N17: 43026 | O17: david_starling@hboe.org | Q17: Dave | R17: Starling | S17: 7687 Godfrey Circle | T17: Reynoldsburg | U17: OH | V17: 43068 | X17: 614-563-4453 | AA17: 223 | AB17: 323 | AE17: Sundays: Feb. 23; Mar. 9, 16, 23 | AF17: 1pm-5:30pm | AI17: 139 | AJ17: =AI17+20 -> 159 | AK17: =AJ17+20 -> 179 | AM17: https://usbaseballacademy.com/hilliard-baseball-camp/ | AO17: 22 | AP17: 13 | AR17: 29 | AS17: 20 | AW17: 37 | AX17: 23 | BE17: 54 | BF17: 47 | BM17: 59 | BN17: 53 | BS17: 81 | BT17: 71 | BW17: 102 | BX17: 88 | CA17: 116 | CB17: 100 | CE17: 113 | CF17: 101 | CI17: 108 | CJ17: 103 | CL17: 108 | CM17: 106 | CO17: 116 | CP17: 116
A18: A-NEW | E18: 39 | F18: 74 | G18: USBDHC | I18: Hocking College | K18: 3301 Hocking Pkwy | L18: Nelsonville | M18: OH | N18: 45764 | O18: grovej@hocking.edu | Q18: Jared | R18: Grove | S18: 1064 Gertrude Avenue | T18: Logan | U18: OH | V18: 43138 | X18: 717-830-5496 | AA18: 112 | AB18: 209 | AE18: Sundays: Jan. 12, 19; Feb. 2, 9 | AF18: 1pm-5:30pm | AI18: 139 | AJ18: =AI18+20 -> 159 | AK18: =AJ18+20 -> 179 | AM18: https://usbaseballacademy.com/nelsonville-baseball-camp/ | AO18: 54 | AP18: 53 | AR18: 61 | AS18: 58 | AW18: 73 | AX18: 68 | BE18: 76 | BF18: 73 | BM18: 77 | BN18: 74 | BS18: 76 | BT18: 76 | BW18: 76 | BX18: 76 | CA18: 76 | CB18: 76 | CE18: 74 | CF18: 74 | CI18: 74 | CJ18: 74 | CL18: 74 | CM18: 74 | CO18: 74 | CP18: 74
A19: A-NEW | C19: X | E19: 41 | F19: 41 | G19: USBDIR | I19: Ironwood Ridge HS - WINTER BREAK | K19: 2475 W. Naranja Dr. | L19: Oro Valley | M19: AZ | N19: 85742 | O19: hitman44@hotmail.com | Q19: Chad | R19: Chop | S19: 1078 W Garden Grove Dr | T19: Oro Valley | U19: AZ | V19: 85755 | X19: 925-785-1736 | AA19: 27 | AB19: 30 | AE19: Fri.-Mon.: Dec. 27, 28, 29, 30 | AF19: 9am-3pm | AI19: 295 | AJ19: 0 | AK19: 0 | AM19: https://usbaseballacademy.com/winter-break-baseball-camp-in-oro-valley/ | AO19: 40 | AP19: 32 | AR19: 43 | AS19: 37 | AW19: 41 | AX19: 39 | BE19: 42 | BF19: 40 | BM19: 43 | BN19: 43 | BS19: 43 | BT19: 43 | BW19: 43 | BX19: 43 | CA19: 41 | CB19: 41 | CE19: 41 | CF19: 41 | CI19: 41 | CJ19: 41 | CL19: 41 | CM19: 41 | CO19: 41 | CP19: 41
A20: A-NEW | C20: X | E20: 23 | F20: 45 | G20: USBDJC | I20: Johnson County HS | J20: Pete Pavusek Memorial Stadium | K20: 290 Fairground Lane | L20: Mountain City | M20: TN | N20: 37683 | O20: premierpitchingplus@gmail.com | Q20: Nick | R20: Perkins | X20: 423-291-1701 | AA20: 125 | AB20: 215 | AE20: Saturdays: Jan. 25; Feb. 1, 8, 15 | AF20: 10am-2:30pm | AI20: 139 | AJ20: =AI20+20 -> 159 | AK20: =AJ20+20 -> 179 | AM20: https://usbaseballacademy.com/mountain-city-baseball-camp/ | AO20: 16 | AP20: 16 | AR20: 19 | AS20: 19 | AW20: 24 | AX20: 21 | BE20: 31 | BF20: 26 | BM20: 31 | BN20: 26 | BS20: 37 | BT20: 35 | BW20: 37 | BX20: 35 | CA20: 46 | CB20: 33 | CE20: 43 | CF20: 43 | CI20: 45 | CJ20: 45 | CL20: 45 | CM20: 45 | CO20: 45 | CP20: 45
A21: A-NEW | C21: X | E21: 49 | F21: 102 | G21: USBDLHS | I21: Lehman HS | K21: 1700 Lehman Rd | L21: Kyle | M21: TX | N21: 78640 | O21: Jacob.Kaase@hayscisd.net | Q21: Jacob | R21: Kaase | X21: 512-922-8841 | AA21: 112 | AB21: 202 | AE21: Sundays: Jan. 12, 19, 26; Feb. 2 | AF21: 1pm-5:30pm | AI21: 139 | AJ21: =AI21+20 -> 159 | AK21: =AJ21+20 -> 179 | AM21: https://usbaseballacademy.com/kyle-baseball-camp/ | AO21: 57 | AP21: 44 | AR21: 74 | AS21: 51 | AW21: 88 | AX21: 64 | BE21: 93 | BF21: 74 | BM21: 93 | BN21: 84 | BS21: 104 | BT21: 100 | BW21: 104 | BX21: 104 | CA21: 103 | CB21: 103 | CE21: 103 | CF21: 103 | CI21: 102 | CJ21: 102 | CL21: 102 | CM21: 102 | CO21: 102 | CP21: 102
A22: A-NEW | E22: 21 | F22: 47 | G22: USBDLIT | I22: Lithonia HS | K22: 2440 Phillips Rd | L22: Lithonia | M22: GA | N22: 30038 | O22: samuel_marion@dekalbschoolsga.org | Q22: Samuel | R22: Marion | X22: 404-908-6165 | AA22: 119 | AB22: 209 | AE22: Sundays: Jan. 19, 26; Feb. 2, 9 | AF22: 9am-1:30pm | AI22: 139 | AJ22: =AI22+20 -> 159 | AK22: =AJ22+20 -> 179 | AM22: https://usbaseballacademy.com/lithonia-baseball-camp/ | AO22: 18 | AP22: 16 | AR22: 20 | AS22: 18 | AW22: 26 | AX22: 23 | BE22: 34 | BF22: 26 | BM22: 41 | BN22: 30 | BS22: 57 | BT22: 39 | BW22: 59 | BX22: 42 | CA22: 48 | CB22: 45 | CE22: 48 | CF22: 45 | CI22: 48 | CJ22: 45 | CL22: 47 | CM22: 44 | CO22: 47 | CP22: 44
A23: A-NEW | C23: X | E23: 39 | F23: 83 | G23: USBDMJ | I23: Madison St. Joe HS | K23: 308 New Mannsdale Rd | L23: Madison | M23: MS | N23: 39110 | O23: cha100@madison-schools.com | Q23: Eddie | R23: Easley | S23: 113 Palin Dr | T23: Madison | U23: MS | V23: 39110 | X23: 601-606-0377 | AA23: 104 | AB23: 125 | AE23: Saturdays: Jan. 4, 11, 18, 25 | AF23: 1pm-5:30pm | AI23: 139 | AJ23: =AI23+20 -> 159 | AK23: =AJ23+20 -> 179 | AM23: https://usbaseballacademy.com/madison-ms-baseball-camp/ | AO23: 63 | AP23: 48 | AR23: 67 | AS23: 59 | AW23: 71 | AX23: 66 | BE23: 68 | BF23: 66 | BM23: 75 | BN23: 73 | BS23: 81 | BT23: 78 | BW23: 83 | BX23: 78 | CA23: 83 | CB23: 78 | CE23: 83 | CF23: 78 | CI23: 83 | CJ23: 78 | CL23: 83 | CM23: 78 | CO23: 83 | CP23: 78
A24: A-NEW | E24: 40 | F24: 67 | G24: USBDMAT | I24: Mattawan HS | K24: 56720 Murray St | L24: Mattawan | M24: MI | N24: 49071 | O24: brv02@aol.com | Q24: Brett | R24: Vaughn | S24: 8340 Logan Bay | T24: Kalamazoo | U24: MI | V24: 49009 | X24: 616-648-2761 | AA24: 126 | AB24: 216 | AE24: Sundays: Jan. 26; Feb. 2, 9, 16 | AF24: 9am-1:30pm | AI24: 139 | AJ24: =AI24+20 -> 159 | AK24: =AJ24+20 -> 179 | AM24: https://usbaseballacademy.com/mattawan-baseball-camp/ | AO24: 20 | AP24: 16 | AR24: 34 | AS24: 30 | AW24: 40 | AX24: 39 | BE24: 46 | BF24: 43 | BM24: 47 | BN24: 44 | BS24: 66 | BT24: 62 | BW24: 71 | BX24: 66 | CA24: 77 | CB24: 69 | CE24: 69 | CF24: 69 | CI24: 67 | CJ24: 67 | CL24: 67 | CM24: 67 | CO24: 67 | CP24: 67
A25: A-NEW | E25: 73 | F25: 140 | G25: USBDMT | I25: Morgan Township HS | K25: 299 S State Road 49 | L25: Valparaiso | M25: IN | N25: 46383 | O25: john.smith@eastporter.k12.in.us | Q25: John | R25: Smith | X25: 812-798-5663 | AA25: 201 | AB25: 222 | AE25: Saturdays: Feb. 1, 8, 15, 22 | AF25: 12:30pm-5pm | AI25: 139 | AJ25: =AI25+20 -> 159 | AK25: =AJ25+20 -> 179 | AM25: https://usbaseballacademy.com/valparaiso-baseball-camp/ | AO25: 6 | AP25: 6 | AR25: 16 | AS25: 15 | AW25: 34 | AX25: 31 | BE25: 59 | BF25: 48 | BM25: 78 | BN25: 71 | BS25: 104 | BT25: 91 | BW25: 119 | BX25: 109 | CA25: 129 | CB25: 121 | CE25: 145 | CF25: 133 | CI25: 140 | CJ25: 140 | CL25: 140 | CM25: 140 | CO25: 140 | CP25: 140
A26: A-NEW | E26: 47 | F26: 77 | G26: USBDMSC | I26: Mount Saint Charles Academy | K26: 800 Logee St | L26: Woonsocket | M26: RI | N26: 2895 | O26: liasui@mtstcharles.org | Q26: Idris | R26: Liasu | X26: 401-419-6985 | AA26: 202 | AB26: 223 | AE26: Sundays: Feb. 2, 9, 16, 23 | AF26: 1pm-5:30pm | AI26: 149 | AJ26: =AI26+20 -> 169 | AK26: =AJ26+20 -> 189 | AM26: https://usbaseballacademy.com/woonsocket-baseball-camp/ | AO26: 0 | AP26: 0 | AR26: 4 | AS26: 2 | AW26: 22 | AX26: 13 | BE26: 31 | BF26: 20 | BM26: 32 | BN26: 25 | BS26: 56 | BT26: 54 | BW26: 69 | BX26: 67 | CA26: 73 | CB26: 70 | CE26: 78 | CF26: 74 | CI26: 79 | CJ26: 79 | CL26: 79 | CM26: 79 | CO26: 77 | CP26: 77
A27: A-NEW | C27: X | E27: 11 | F27: 20 | G27: USBDBTW | I27: Norview HS | K27: 6501 Chesapeake Blvd | L27: Norfolk | M27: VA | N27: 23518 | O27: berryt1978@gmail.com | Q27: Thad | R27: Berry | S27: 8447 Chesapeake Blvd | T27: Norfolk | U27: VA | V27: 23518 | X27: 859-285-7731 | AA27: 301 | AB27: 322 | AE27: Saturdays: Mar. 1, 8, 15, 22 | AF27: 9am-1:30pm | AI27: 139 | AJ27: =AI27+20 -> 159 | AK27: =AJ27+20 -> 179 | AM27: https://usbaseballacademy.com/norfolk-baseball-camp/ | BM27: 0 | BN27: 0 | BS27: 2 | BT27: 2 | BW27: 6 | BX27: 4 | CA27: 18 | CB27: 9 | CE27: 21 | CF27: 16 | CI27: 18 | CJ27: 16 | CL27: 19 | CM27: 17 | CO27: 22 | CP27: 20
A28: A-NEW | E28: 41 | F28: 79 | G28: USBDPAC | I28: Pacific University | J28: Stoller Athletic Center | K28: 2331 Main St. | L28: Forest Grove | M28: OR | N28: 97116 | O28: upwoodjd@pacificu.edu | Q28: Jake | R28: Upwood | X28: 315-530-2631 | AA28: 119 | AB28: 209 | AE28: Sundays: Jan. 19, 26; Feb. 2, 9 | AF28: 9am-1:30pm | AI28: 139 | AJ28: =AI28+20 -> 159 | AK28: =AJ28+20 -> 179 | AM28: https://usbaseballacademy.com/forest-grove-baseball-camp/ | AO28: 37 | AP28: 34 | AR28: 48 | AS28: 43 | AW28: 50 | AX28: 49 | BE28: 51 | BF28: 50 | BM28: 53 | BN28: 53 | BS28: 61 | BT28: 60 | BW28: 65 | BX28: 64 | CA28: 80 | CB28: 79 | CE28: 79 | CF28: 79 | CI28: 79 | CJ28: 79 | CL28: 79 | CM28: 79 | CO28: 79 | CP28: 79
A29: A-NEW | E29: 30 | F29: 58 | G29: USBDPSE | I29: Percy Sutton Educational Complex | K29: 6 Edgecombe Ave FL 4 | L29: New York | M29: NY | N29: 10030 | O29: jcollins8@schools.nyc.gov | Q29: Jermel | R29: Collins | S29: 75-34 Bell Blvd. Apt LE | T29: Oakland Gardens | U29: NY | V29: 11364 | X29: 347-754-0917 | AA29: 111 | AB29: 201 | AE29: Saturdays: Jan. 11, 18, 25; Feb. 1 | AF29: 9am-1:30pm | AI29: 139 | AJ29: =AI29+20 -> 159 | AK29: =AJ29+20 -> 179 | AM29: https://usbaseballacademy.com/new-york-baseball-camp/ | AO29: 40 | AP29: 35 | AR29: 48 | AS29: 37 | AW29: 56 | AX29: 41 | BE29: 54 | BF29: 45 | BM29: 54 | BN29: 46 | BS29: 74 | BT29: 60 | BW29: 58 | BX29: 58 | CA29: 58 | CB29: 58 | CE29: 58 | CF29: 58 | CI29: 58 | CJ29: 58 | CL29: 58 | CM29: 58 | CO29: 58 | CP29: 58
A30: A-NEW | E30: 88 | F30: 170 | G30: USBDPS | I30: Plainfield East HS | K30: 12001 Napersville Rd | L30: Plainfield | M30: IL | N30: 60585 | O30: aoreel@psd202.org | Q30: Adam | R30: O'Reel | S30: 24620 W Harvester Dr | T30: Plainfield | U30: IL | V30: 60544 | X30: 815-557-3564 | AA30: 202 | AB30: 223 | AE30: Sundays: Feb. 2, 9, 16, 23 | AF30: 9am-1:30pm | AI30: 149 | AJ30: =AI30+20 -> 169 | AK30: =AJ30+20 -> 189 | AM30: https://usbaseballacademy.com/plainfield-baseball-camp/ | AO30: 102 | AP30: 93 | AR30: 115 | AS30: 106 | AW30: 152 | AX30: 132 | BE30: 147 | BF30: 137 | BM30: 153 | BN30: 143 | BS30: 156 | BT30: 151 | BW30: 160 | BX30: 153 | CA30: 166 | CB30: 161 | CE30: 168 | CF30: 166 | CI30: 170 | CJ30: 170 | CL30: 170 | CM30: 170 | CO30: 170 | CP30: 170
A31: A-NEW | E31: 62 | F31: 102 | G31: USBDSVP | I31: Saint Vincent Pallotti HS | K31: 113 Saint Marys Pl | L31: Laurel | M31: MD | N31: 20707 | O31: thorobreedworkouts@gmail.com | Q31: Derek | R31: Dixon | X31: 410-946-7730 | AA31: 202 | AB31: 223 | AE31: Sundays: Feb. 2, 9, 16, 23 | AF31: Noon-4:30pm | AI31: 149 | AJ31: 169 | AK31: 189 | AM31: https://usbaseballacademy.com/laurel-baseball-camp/ | AO31: 4 | AP31: 4 | AR31: 6 | AS31: 4 | AW31: 29 | AX31: 15 | BE31: 29 | BF31: 16 | BM31: 39 | BN31: 28 | BS31: 48 | BT31: 41 | BW31: 67 | BX31: 58 | CA31: 105 | CB31: 92 | CE31: 111 | CF31: 96 | CI31: 101 | CJ31: 101 | CL31: 102 | CM31: 102 | CO31: 102 | CP31: 102
A32: A-NEW | C32: X | E32: 91 | F32: 190 | G32: USBDSAN | I32: Sandia HS | K32: 7801 Candelaria Rd NE | L32: Albuquerque | M32: NM | N32: 87110 | O32: marc.hilton@aps.edu / giantsm@aol.com | Q32: Marc | R32: Hilton | X32: 505-907-9826 | AA32: 126 | AB32: 216 | AE32: Sundays: Jan. 26; Feb. 2, 9, 16 | AF32: 10am-2:30pm | AI32: 139 | AJ32: =AI32+20 -> 159 | AK32: =AJ32+20 -> 179 | AM32: https://usbaseballacademy.com/albuquerque-baseball-camp/ | AO32: 134 | AP32: 109 | AR32: 139 | AS32: 122 | AW32: 151 | AX32: 135 | BE32: 144 | BF32: 140 | BM32: 149 | BN32: 147 | BS32: 178 | BT32: 173 | BW32: 192 | BX32: 184 | CA32: 201 | CB32: 191 | CE32: 191 | CF32: 191 | CI32: 190 | CJ32: 190 | CL32: 190 | CM32: 190 | CO32: 190 | CP32: 190
A33: A-NEW | E33: 88 | F33: 155 | G33: USBDSFO | I33: St. Francis HS (OH) | K33: 2323 W. Bancroft St. | L33: Toledo | M33: OH | N33: 43607 | O33: redgell@sfsknights.org | Q33: Bobby | R33: Edgell | S33: 2421 Cheltenham | T33: Toledo | U33: OH | V33: 43606 | X33: 419-290-1413 | AA33: 119 | AB33: 216 | AE33: Sundays: Jan. 19; Feb. 2, 9, 16 | AF33: Noon-4:30pm | AI33: 139 | AJ33: =AI33+20 -> 159 | AK33: =AJ33+20 -> 179 | AM33: https://usbaseballacademy.com/toledo-baseball-camp/ | AO33: 95 | AP33: 69 | AR33: 101 | AS33: 83 | AW33: 107 | AX33: 86 | BE33: 102 | BF33: 94 | BM33: 105 | BN33: 100 | BS33: 134 | BT33: 121 | BW33: 161 | BX33: 140 | CA33: 154 | CB33: 154 | CE33: 155 | CF33: 155 | CI33: 155 | CJ33: 155 | CL33: 155 | CM33: 155 | CO33: 155 | CP33: 155
A34: A-NEW | E34: 20 | F34: 42 | G34: USBDSM | I34: Sunrise Mountain HS | K34: 2575 Los Feliz St. | L34: Las Vegas | M34: NV | N34: 89156 | O34: hoskibc@nv.ccsd.net | Q34: Brady | R34: Hoskins | S34: 9772 Alpine Style Dr | T34: Las Vegas | U34: NV | V34: 89166 | X34: 702-461-3088 | AA34: 104 | AB34: 125 | AE34: Saturdays: Jan. 4, 11, 18, 25 | AF34: 9am-1:30pm | AI34: 139 | AJ34: =AI34+20 -> 159 | AK34: =AJ34+20 -> 179 | AM34: https://usbaseballacademy.com/las-vegas-baseball-camp/ | AO34: 30 | AP34: 22 | AR34: 39 | AS34: 26 | AW34: 42 | AX34: 25 | BE34: 41 | BF34: 28 | BM34: 38 | BN34: 32 | BS34: 44 | BT34: 42 | BW34: 44 | BX34: 44 | CA34: 44 | CB34: 44 | CE34: 44 | CF34: 44 | CI34: 42 | CJ34: 42 | CL34: 42 | CM34: 42 | CO34: 42 | CP34: 42
A35: A-NEW | C35: X | E35: 49 | F35: 97 | G35: USBDSNY | I35: SUNY-Canton | K35: 34 Cornell Dr | L35: Canton | M35: NY | N35: 13617 | O35: stevensr@canton.edu | Q35: Ryan | R35: Stevens | X35: 607-339-1876 | AA35: 126 | AB35: 216 | AE35: Sundays: Jan. 26; Feb. 2, 9, 16 | AF35: 10am-2:30pm | AI35: 139 | AJ35: 159 | AK35: 179 | AM35: https://usbaseballacademy.com/canton-baseball-camp/ | AR35: 0 | AS35: 0 | AW35: 38 | AX35: 29 | BE35: 60 | BF35: 46 | BM35: 62 | BN35: 48 | BS35: 74 | BT35: 59 | BW35: 81 | BX35: 66 | CA35: 93 | CB35: 84 | CE35: 98 | CF35: 94 | CI35: 96 | CJ35: 96 | CL35: 97 | CM35: 97 | CO35: 97 | CP35: 97
A36: A-NEW | E36: 47 | F36: 92 | G36: USBDTWS | I36: The Walker School | K36: 700 Cobb Pkwy N | L36: Marietta | M36: GA | N36: 30062 | O36: baseball@thewalkerschool.org | Q36: Demetrius | R36: Banks | S36: 546 Oak Dr | T36: Hapeville | U36: GA | V36: 30354 | X36: 404-488-1932 | AA36: 118 | AB36: 208 | AE36: Saturdays: Jan. 18, 25; Feb. 1, 8 | AF36: Noon-4:30pm | AI36: 139 | AJ36: =AI36+20 -> 159 | AK36: =AJ36+20 -> 179 | AM36: https://usbaseballacademy.com/marietta-baseball-camp-the-walker-school/ | AO36: 32 | AP36: 28 | AR36: 37 | AS36: 32 | AW36: 48 | AX36: 42 | BE36: 47 | BF36: 40 | BM36: 46 | BN36: 42 | BS36: 66 | BT36: 54 | BW36: 69 | BX36: 62 | CA36: 72 | CB36: 68 | CE36: 75 | CF36: 75 | CI36: 78 | CJ36: 78 | CL36: 78 | CM36: 78 | CO36: 78 | CP36: 78
A37: A-NEW | C37: X | E37: 83 | F37: 149 | G37: USBDUBM | I37: USBA Bloomington | J37: MSA Batting Cages | K37: 2020 W. 98th St | L37: Bloomington | M37: MN | N37: 55431 | O37: timerickson5@gmail.com | Q37: Tim | R37: Erickson | S37: 5325 Woodlawn Blvd | T37: Minneapolis | U37: MN | V37: 55417 | X37: 952-451-2273 | AA37: 202 | AB37: 223 | AE37: Sundays: Feb. 2, 9, 16, 23 | AF37: Noon-4:30pm | AI37: 149 | AJ37: =AI37+20 -> 169 | AK37: =AJ37+20 -> 189 | AM37: https://usbaseballacademy.com/bloomington-baseball-camp/ | AO37: 90 | AP37: 88 | AR37: 110 | AS37: 107 | AW37: 126 | AX37: 123 | BE37: 142 | BF37: 137 | BM37: 143 | BN37: 138 | BS37: 166 | BT37: 155 | BW37: 175 | BX37: 165 | CA37: 166 | CB37: 165 | CE37: 166 | CF37: 165 | CI37: 151 | CJ37: 151 | CL37: 149 | CM37: 149 | CO37: 149 | CP37: 149
A38: A-NEW | E38: 39 | F38: 78 | G38: USBDDP | I38: USBA Davenport | J38: ` | K38: 4525 County Road 547 N | L38: Davenport | M38: FL | N38: 33837 | O38: troy.stevens@polk-fl.net | Q38: Troy | R38: Stevens | X38: 303-910-1832 | AA38: 112 | AB38: 202 | AE38: Sundays: Jan. 12, 19, 26; Feb. 2 | AF38: Noon-4:30pm | AI38: 139 | AJ38: =AI38+20 -> 159 | AK38: =AJ38+20 -> 179 | AM38: https://usbaseballacademy.com/davenport-baseball-camp/ | AO38: 49 | AP38: 47 | AR38: 59 | AS38: 55 | AW38: 69 | AX38: 64 | BE38: 69 | BF38: 66 | BM38: 77 | BN38: 69 | BS38: 82 | BT38: 77 | BW38: 82 | BX38: 82 | CA38: 80 | CB38: 78 | CE38: 80 | CF38: 78 | CI38: 80 | CJ38: 78 | CL38: 78 | CM38: 78 | CO38: 78 | CP38: 78
A39: A-NEW | E39: 16 | F39: 16 | G39: USBDKH | I39: USBA Kuna - WINTER BREAK | J39: Diamond Development Center | K39: 11199 W Silver Hawk Lane | L39: Kuna | M39: ID | N39: 83634 | O39: dgbouvier@kunaschools.org | Q39: Dominic | R39: Bouvier | X39: 208-899-1080 | AA39: 27 | AB39: 30 | AE39: Fri.-Mon.: Dec. 27, 28, 29, 30 | AF39: 9am-3pm | AI39: 295 | AJ39: 0 | AK39: 0 | AM39: https://usbaseballacademy.com/kuna-baseball-camp/ | AO39: 9 | AP39: 9 | AR39: 9 | AS39: 9 | AW39: 13 | AX39: 12 | BE39: 17 | BF39: 16 | BM39: 16 | BN39: 16 | BS39: 16 | BT39: 16 | BW39: 16 | BX39: 16 | CA39: 16 | CB39: 16 | CE39: 16 | CF39: 16 | CI39: 16 | CJ39: 16 | CL39: 16 | CM39: 16 | CO39: 16 | CP39: 16
A40: A-NEW | E40: 12 | F40: 25 | G40: USBDTB2 | I40: USBA Nashville (February Sessions) | J40: Lead Off Baseball Academy | K40: 6910 Stroop Lane | L40: Smyrna | M40: TN | N40: 37167 | O40: michaelrosati77@gmail.com | Q40: Michael | R40: Rosati | S40: 413 Plantation Blvd | T40: Lebanon | U40: TN | V40: 37130 | X40: 661-755-4560 | AA40: 201 | AB40: 222 | AE40: Saturdays: Feb. 1, 8, 15, 22 | AF40: 9am-1:30pm | AI40: 139 | AJ40: 159 | AK40: 179 | AM40: https://usbaseballacademy.com/nashville-mt-juliet-baseball-camp/ | AO40: 19 | AP40: 8 | AR40: 13 | AS40: 8 | AW40: 14 | AX40: 11 | BE40: 11 | BF40: 11 | BM40: 11 | BN40: 11 | BS40: 23 | BT40: 14 | BW40: 28 | BX40: 16 | CA40: 37 | CB40: 23 | CE40: 37 | CF40: 26 | CI40: 25 | CJ40: 25 | CL40: 25 | CM40: 25 | CO40: 25 | CP40: 25
...

Sheet WIN_TRKNG_BBALL
A1: STATUS | B1: Camp Code | C1: SITE | D1: START | E1: END | F1: DATES | G1: TIMES | I1: SD Updated | J1: Website | K1: USBA Landing Page | L1: Craft Landing Page | M1: Contract Sent | N1: Contract Rec | O1: Flyer | P1: Flyer Sent | Q1: FB Ads Launched | R1: COI Rec | S1: Coaches DB CXT | T1: BG Check Sent | U1: BG Check Complete | V1: Roster Email | W1: Director Email | X1: T-Shirts | Y1: Payment | AB1: BG Check ANKORED | AC1: # OF COACHES | AD1: # BG COMPLETE
A2: {=_xlfn.XLOOKUP(C2, '❄️ SD-WIN-BBALL ⚾'!$I$2:I168, '❄️ SD-WIN-BBALL ⚾'!$A$2:A169)} -> #VALUE! | B2: {=_xlfn.XLOOKUP(C2, '❄️ SD-WIN-BBALL ⚾'!$I$2:I168, '❄️ SD-WIN-BBALL ⚾'!$G$2:G168)} -> USBDROS | C2: {=_xlfn.SORTBY('❄️ SD-WIN-BBALL ⚾'!$I$2:I168, '❄️ SD-WIN-BBALL ⚾'!$I$2:I168, 1)} -> 2SP Sports Performance | D2: {=_xlfn.XLOOKUP(C2, '❄️ SD-WIN-BBALL ⚾'!$I$2:I168, '❄️ SD-WIN-BBALL ⚾'!$AA$2:AA168)} -> 405 | E2: {=_xlfn.XLOOKUP(C2, '❄️ SD-WIN-BBALL ⚾'!$I$2:I168, '❄️ SD-WIN-BBALL ⚾'!$AB$2:AB168)} -> 426 | F2: {=_xlfn.XLOOKUP(C2, '❄️ SD-WIN-BBALL ⚾'!$I$2:I168, '❄️ SD-WIN-BBALL ⚾'!$AE$2:AE168)} -> Saturdays: Apr. 5, 12, 19, 26 | G2: {=_xlfn.XLOOKUP(C2, '❄️ SD-WIN-BBALL ⚾'!$I$2:I168, '❄️ SD-WIN-BBALL ⚾'!$AF$2:AF168)} -> 10:30am-3pm | I2: TRUE | J2: TRUE | K2: TRUE | L2: TRUE | M2: TRUE | N2: TRUE | O2: TRUE | P2: TRUE | Q2: TRUE | R2: TRUE | S2: TRUE | T2: FALSE | U2: FALSE | V2: FALSE | W2: FALSE | X2: FALSE | Y2: FALSE | AB2: TRUE | AC2: 1 | AD2: 1
A3: {=_xlfn.XLOOKUP(C3, '❄️ SD-WIN-BBALL ⚾'!$I$2:I170, '❄️ SD-WIN-BBALL ⚾'!$A$2:A170)} -> Z-CNCLD-LOW ENRLMT | B3: {=_xlfn.XLOOKUP(C3, '❄️ SD-WIN-BBALL ⚾'!$I$2:I170, '❄️ SD-WIN-BBALL ⚾'!$G$2:G170)} -> USBDROS3 | C3: 2SP Sports Performance - WINTER BREAK | D3: {=_xlfn.XLOOKUP(C3, '❄️ SD-WIN-BBALL ⚾'!$I$2:I170, '❄️ SD-WIN-BBALL ⚾'!$AA$2:AA170)} -> 0 | E3: {=_xlfn.XLOOKUP(C3, '❄️ SD-WIN-BBALL ⚾'!$I$2:I170, '❄️ SD-WIN-BBALL ⚾'!$AB$2:AB170)} -> 0 | F3: {=_xlfn.XLOOKUP(C3, '❄️ SD-WIN-BBALL ⚾'!$I$2:I170, '❄️ SD-WIN-BBALL ⚾'!$AE$2:AE170)} -> 0 | G3: {=_xlfn.XLOOKUP(C3, '❄️ SD-WIN-BBALL ⚾'!$I$2:I170, '❄️ SD-WIN-BBALL ⚾'!$AF$2:AF170)} -> 0 | I3: TRUE | J3: TRUE | K3: TRUE | L3: TRUE | M3: TRUE | N3: TRUE | O3: TRUE | P3: TRUE | Q3: TRUE | R3: TRUE | S3: TRUE | T3: TRUE | U3: FALSE | V3: TRUE | W3: TRUE | X3: TRUE | Y3: TRUE | AB3: TRUE | AC3: 5 | AD3: 2
A4: {=_xlfn.XLOOKUP(C4, '❄️ SD-WIN-BBALL ⚾'!$I$2:I171, '❄️ SD-WIN-BBALL ⚾'!$A$2:A171)} -> B-RET | B4: {=_xlfn.XLOOKUP(C4, '❄️ SD-WIN-BBALL ⚾'!$I$2:I171, '❄️ SD-WIN-BBALL ⚾'!$G$2:G171)} -> USBDAC | C4: Adrian College | D4: {=_xlfn.XLOOKUP(C4, '❄️ SD-WIN-BBALL ⚾'!$I$2:I171, '❄️ SD-WIN-BBALL ⚾'!$AA$2:AA171)} -> 112 | E4: {=_xlfn.XLOOKUP(C4, '❄️ SD-WIN-BBALL ⚾'!$I$2:I171, '❄️ SD-WIN-BBALL ⚾'!$AB$2:AB171)} -> 202 | F4: {=_xlfn.XLOOKUP(C4, '❄️ SD-WIN-BBALL ⚾'!$I$2:I171, '❄️ SD-WIN-BBALL ⚾'!$AE$2:AE171)} -> Sundays: Jan. 12, 19, 26; Feb. 2 | G4: {=_xlfn.XLOOKUP(C4, '❄️ SD-WIN-BBALL ⚾'!$I$2:I171, '❄️ SD-WIN-BBALL ⚾'!$AF$2:AF171)} -> 10am-2:30pm | I4: TRUE | J4: TRUE | K4: TRUE | L4: TRUE | M4: TRUE | N4: TRUE | O4: TRUE | P4: TRUE | Q4: TRUE | R4: TRUE | S4: TRUE | T4: TRUE | U4: FALSE | V4: TRUE | W4: TRUE | X4: TRUE | Y4: FALSE | AB4: TRUE | AC4: 5 | AD4: 1
A5: {=_xlfn.XLOOKUP(C5, '❄️ SD-WIN-BBALL ⚾'!$I$2:I172, '❄️ SD-WIN-BBALL ⚾'!$A$2:A172)} -> B-RET | B5: {=_xlfn.XLOOKUP(C5, '❄️ SD-WIN-BBALL ⚾'!$I$2:I172, '❄️ SD-WIN-BBALL ⚾'!$G$2:G172)} -> USBDAI | C5: Alameda International HS | D5: {=_xlfn.XLOOKUP(C5, '❄️ SD-WIN-BBALL ⚾'!$I$2:I172, '❄️ SD-WIN-BBALL ⚾'!$AA$2:AA172)} -> 125 | E5: {=_xlfn.XLOOKUP(C5, '❄️ SD-WIN-BBALL ⚾'!$I$2:I172, '❄️ SD-WIN-BBALL ⚾'!$AB$2:AB172)} -> 222 | F5: {=_xlfn.XLOOKUP(C5, '❄️ SD-WIN-BBALL ⚾'!$I$2:I172, '❄️ SD-WIN-BBALL ⚾'!$AE$2:AE172)} -> Saturdays: Jan. 25; Feb. 1, 15, 22 | G5: {=_xlfn.XLOOKUP(C5, '❄️ SD-WIN-BBALL ⚾'!$I$2:I172, '❄️ SD-WIN-BBALL ⚾'!$AF$2:AF172)} -> 9am-1:30pm | I5: TRUE | J5: TRUE | K5: TRUE | L5: TRUE | M5: TRUE | N5: TRUE | O5: TRUE | P5: TRUE | Q5: TRUE | R5: TRUE | S5: TRUE | T5: TRUE | U5: FALSE | V5: TRUE | W5: TRUE | X5: TRUE | Y5: FALSE | AB5: TRUE | AC5: 15 | AD5: 4
A6: {=_xlfn.XLOOKUP(C6, '❄️ SD-WIN-BBALL ⚾'!$I$2:I173, '❄️ SD-WIN-BBALL ⚾'!$A$2:A173)} -> B-RET | B6: {=_xlfn.XLOOKUP(C6, '❄️ SD-WIN-BBALL ⚾'!$I$2:I173, '❄️ SD-WIN-BBALL ⚾'!$G$2:G173)} -> USBDAT | C6: Alexandria Technical CC | D6: {=_xlfn.XLOOKUP(C6, '❄️ SD-WIN-BBALL ⚾'!$I$2:I173, '❄️ SD-WIN-BBALL ⚾'!$AA$2:AA173)} -> 118 | E6: {=_xlfn.XLOOKUP(C6, '❄️ SD-WIN-BBALL ⚾'!$I$2:I173, '❄️ SD-WIN-BBALL ⚾'!$AB$2:AB173)} -> 208 | F6: {=_xlfn.XLOOKUP(C6, '❄️ SD-WIN-BBALL ⚾'!$I$2:I173, '❄️ SD-WIN-BBALL ⚾'!$AE$2:AE173)} -> Saturdays: Jan. 18, 25; Feb. 1, 8 | G6: {=_xlfn.XLOOKUP(C6, '❄️ SD-WIN-BBALL ⚾'!$I$2:I173, '❄️ SD-WIN-BBALL ⚾'!$AF$2:AF173)} -> 12:30pm-5pm | I6: TRUE | J6: TRUE | K6: TRUE | L6: TRUE | M6: TRUE | N6: TRUE | O6: TRUE | P6: TRUE | Q6: TRUE | R6: TRUE | S6: TRUE | T6: TRUE | U6: FALSE | V6: TRUE | W6: TRUE | X6: TRUE | Y6: TRUE | AB6: TRUE | AC6: 1 | AD6: 0
A7: {=_xlfn.XLOOKUP(C7, '❄️ SD-WIN-BBALL ⚾'!$I$2:I174, '❄️ SD-WIN-BBALL ⚾'!$A$2:A174)} -> B-RET | B7: {=_xlfn.XLOOKUP(C7, '❄️ SD-WIN-BBALL ⚾'!$I$2:I174, '❄️ SD-WIN-BBALL ⚾'!$G$2:G174)} -> USBDALL | C7: Alliance HS | D7: {=_xlfn.XLOOKUP(C7, '❄️ SD-WIN-BBALL ⚾'!$I$2:I174, '❄️ SD-WIN-BBALL ⚾'!$AA$2:AA174)} -> 202 | E7: {=_xlfn.XLOOKUP(C7, '❄️ SD-WIN-BBALL ⚾'!$I$2:I174, '❄️ SD-WIN-BBALL ⚾'!$AB$2:AB174)} -> 223 | F7: {=_xlfn.XLOOKUP(C7, '❄️ SD-WIN-BBALL ⚾'!$I$2:I174, '❄️ SD-WIN-BBALL ⚾'!$AE$2:AE174)} -> Sundays: Feb. 2, 9, 16, 23 | G7: {=_xlfn.XLOOKUP(C7, '❄️ SD-WIN-BBALL ⚾'!$I$2:I174, '❄️ SD-WIN-BBALL ⚾'!$AF$2:AF174)} -> Noon-4:30pm | I7: TRUE | J7: TRUE | K7: TRUE | L7: TRUE | M7: TRUE | N7: TRUE | O7: TRUE | P7: TRUE | Q7: TRUE | R7: TRUE | S7: TRUE | T7: TRUE | U7: FALSE | V7: TRUE | W7: TRUE | X7: TRUE | Y7: TRUE | AB7: TRUE | AC7: 9 | AD7: 0
A8: {=_xlfn.XLOOKUP(C8, '❄️ SD-WIN-BBALL ⚾'!$I$2:I175, '❄️ SD-WIN-BBALL ⚾'!$A$2:A175)} -> B-RET | B8: {=_xlfn.XLOOKUP(C8, '❄️ SD-WIN-BBALL ⚾'!$I$2:I175, '❄️ SD-WIN-BBALL ⚾'!$G$2:G175)} -> USBDAND | C8: Anderson County HS | D8: {=_xlfn.XLOOKUP(C8, '❄️ SD-WIN-BBALL ⚾'!$I$2:I175, '❄️ SD-WIN-BBALL ⚾'!$AA$2:AA175)} -> 105 | E8: {=_xlfn.XLOOKUP(C8, '❄️ SD-WIN-BBALL ⚾'!$I$2:I175, '❄️ SD-WIN-BBALL ⚾'!$AB$2:AB175)} -> 126 | F8: {=_xlfn.XLOOKUP(C8, '❄️ SD-WIN-BBALL ⚾'!$I$2:I175, '❄️ SD-WIN-BBALL ⚾'!$AE$2:AE175)} -> Sundays: Jan. 5, 12, 19, 26 | G8: {=_xlfn.XLOOKUP(C8, '❄️ SD-WIN-BBALL ⚾'!$I$2:I175, '❄️ SD-WIN-BBALL ⚾'!$AF$2:AF175)} -> 2pm-6:30pm | I8: TRUE | J8: TRUE | K8: TRUE | L8: TRUE | M8: TRUE | N8: TRUE | O8: TRUE | P8: TRUE | Q8: TRUE | R8: TRUE | S8: TRUE | T8: TRUE | U8: FALSE | V8: TRUE | W8: TRUE | X8: TRUE | Y8: FALSE | AB8: TRUE | AC8: 12 | AD8: 3
A9: {=_xlfn.XLOOKUP(C9, '❄️ SD-WIN-BBALL ⚾'!$I$2:I178, '❄️ SD-WIN-BBALL ⚾'!$A$2:A178)} -> B-RET | B9: {=_xlfn.XLOOKUP(C9, '❄️ SD-WIN-BBALL ⚾'!$I$2:I178, '❄️ SD-WIN-BBALL ⚾'!$G$2:G178)} -> USBDAR | C9: Anoka-Ramsey CC | D9: {=_xlfn.XLOOKUP(C9, '❄️ SD-WIN-BBALL ⚾'!$I$2:I178, '❄️ SD-WIN-BBALL ⚾'!$AA$2:AA178)} -> 202 | E9: {=_xlfn.XLOOKUP(C9, '❄️ SD-WIN-BBALL ⚾'!$I$2:I178, '❄️ SD-WIN-BBALL ⚾'!$AB$2:AB178)} -> 222 | F9: {=_xlfn.XLOOKUP(C9, '❄️ SD-WIN-BBALL ⚾'!$I$2:I178, '❄️ SD-WIN-BBALL ⚾'!$AE$2:AE178)} -> Saturdays: Feb. 2 (Sun.), 8, 15, 22 | G9: {=_xlfn.XLOOKUP(C9, '❄️ SD-WIN-BBALL ⚾'!$I$2:I178, '❄️ SD-WIN-BBALL ⚾'!$AF$2:AF178)} -> 9am-1:30pm | I9: TRUE | J9: TRUE | K9: TRUE | L9: TRUE | M9: TRUE | N9: TRUE | O9: TRUE | P9: TRUE | Q9: TRUE | R9: TRUE | S9: TRUE | T9: TRUE | U9: FALSE | V9: TRUE | W9: TRUE | X9: TRUE | Y9: TRUE | AB9: TRUE | AC9: 3 | AD9: 1
A10: {=_xlfn.XLOOKUP(C10, '❄️ SD-WIN-BBALL ⚾'!$I$2:I179, '❄️ SD-WIN-BBALL ⚾'!$A$2:A179)} -> B-RET | B10: {=_xlfn.XLOOKUP(C10, '❄️ SD-WIN-BBALL ⚾'!$I$2:I179, '❄️ SD-WIN-BBALL ⚾'!$G$2:G179)} -> USBDARC | C10: Arcadia HS | D10: {=_xlfn.XLOOKUP(C10, '❄️ SD-WIN-BBALL ⚾'!$I$2:I179, '❄️ SD-WIN-BBALL ⚾'!$AA$2:AA179)} -> 202 | E10: {=_xlfn.XLOOKUP(C10, '❄️ SD-WIN-BBALL ⚾'!$I$2:I179, '❄️ SD-WIN-BBALL ⚾'!$AB$2:AB179)} -> 222 | F10: {=_xlfn.XLOOKUP(C10, '❄️ SD-WIN-BBALL ⚾'!$I$2:I179, '❄️ SD-WIN-BBALL ⚾'!$AE$2:AE179)} -> Sundays: Feb. 2, 9, 16, 22 (Sat.) | G10: {=_xlfn.XLOOKUP(C10, '❄️ SD-WIN-BBALL ⚾'!$I$2:I179, '❄️ SD-WIN-BBALL ⚾'!$AF$2:AF179)} -> 11am-3:30pm | I10: TRUE | J10: TRUE | K10: TRUE | L10: TRUE | M10: TRUE | N10: TRUE | O10: TRUE | P10: TRUE | Q10: TRUE | R10: TRUE | S10: TRUE | T10: TRUE | U10: FALSE | V10: TRUE | W10: TRUE | X10: TRUE | Y10: FALSE | AB10: TRUE | AC10: 4 | AD10: 0
A11: {=_xlfn.XLOOKUP(C11, '❄️ SD-WIN-BBALL ⚾'!$I$2:I180, '❄️ SD-WIN-BBALL ⚾'!$A$2:A180)} -> Z-CNCLD-LOW ENRLMT | B11: {=_xlfn.XLOOKUP(C11, '❄️ SD-WIN-BBALL ⚾'!$I$2:I180, '❄️ SD-WIN-BBALL ⚾'!$G$2:G180)} -> USBDAVH | C11: Arcadia Valley HS | D11: {=_xlfn.XLOOKUP(C11, '❄️ SD-WIN-BBALL ⚾'!$I$2:I180, '❄️ SD-WIN-BBALL ⚾'!$AA$2:AA180)} -> 0 | E11: {=_xlfn.XLOOKUP(C11, '❄️ SD-WIN-BBALL ⚾'!$I$2:I180, '❄️ SD-WIN-BBALL ⚾'!$AB$2:AB180)} -> 0 | F11: {=_xlfn.XLOOKUP(C11, '❄️ SD-WIN-BBALL ⚾'!$I$2:I180, '❄️ SD-WIN-BBALL ⚾'!$AE$2:AE180)} -> 0 | G11: {=_xlfn.XLOOKUP(C11, '❄️ SD-WIN-BBALL ⚾'!$I$2:I180, '❄️ SD-WIN-BBALL ⚾'!$AF$2:AF180)} -> 0 | I11: TRUE | J11: TRUE | K11: TRUE | L11: TRUE | M11: TRUE | N11: TRUE | O11: TRUE | P11: TRUE | Q11: TRUE | R11: TRUE | S11: TRUE | T11: TRUE | U11: FALSE | V11: TRUE | W11: TRUE | X11: TRUE | Y11: TRUE | AB11: TRUE | AC11: 1 | AD11: 0
A12: {=_xlfn.XLOOKUP(C12, '❄️ SD-WIN-BBALL ⚾'!$I$2:I181, '❄️ SD-WIN-BBALL ⚾'!$A$2:A181)} -> B-RET | B12: {=_xlfn.XLOOKUP(C12, '❄️ SD-WIN-BBALL ⚾'!$I$2:I181, '❄️ SD-WIN-BBALL ⚾'!$G$2:G181)} -> USBDARH | C12: Arcata HS | D12: {=_xlfn.XLOOKUP(C12, '❄️ SD-WIN-BBALL ⚾'!$I$2:I181, '❄️ SD-WIN-BBALL ⚾'!$AA$2:AA181)} -> 216 | E12: {=_xlfn.XLOOKUP(C12, '❄️ SD-WIN-BBALL ⚾'!$I$2:I181, '❄️ SD-WIN-BBALL ⚾'!$AB$2:AB181)} -> 309 | F12: {=_xlfn.XLOOKUP(C12, '❄️ SD-WIN-BBALL ⚾'!$I$2:I181, '❄️ SD-WIN-BBALL ⚾'!$AE$2:AE181)} -> Sundays: Feb. 16, 23; Mar. 2, 9 | G12: {=_xlfn.XLOOKUP(C12, '❄️ SD-WIN-BBALL ⚾'!$I$2:I181, '❄️ SD-WIN-BBALL ⚾'!$AF$2:AF181)} -> Noon-4:30pm | I12: TRUE | J12: TRUE | K12: TRUE | L12: TRUE | M12: TRUE | N12: TRUE | O12: TRUE | P12: TRUE | Q12: TRUE | R12: TRUE | S12: TRUE | T12: TRUE | U12: FALSE | V12: TRUE | W12: TRUE | X12: TRUE | Y12: TRUE | AB12: TRUE | AC12: 1 | AD12: 1
A13: {=_xlfn.XLOOKUP(C13, '❄️ SD-WIN-BBALL ⚾'!$I$2:I182, '❄️ SD-WIN-BBALL ⚾'!$A$2:A182)} -> A-NEW | B13: {=_xlfn.XLOOKUP(C13, '❄️ SD-WIN-BBALL ⚾'!$I$2:I182, '❄️ SD-WIN-BBALL ⚾'!$G$2:G182)} -> USBDARD | C13: Ardmore HS | D13: {=_xlfn.XLOOKUP(C13, '❄️ SD-WIN-BBALL ⚾'!$I$2:I182, '❄️ SD-WIN-BBALL ⚾'!$AA$2:AA182)} -> 202 | E13: {=_xlfn.XLOOKUP(C13, '❄️ SD-WIN-BBALL ⚾'!$I$2:I182, '❄️ SD-WIN-BBALL ⚾'!$AB$2:AB182)} -> 223 | F13: {=_xlfn.XLOOKUP(C13, '❄️ SD-WIN-BBALL ⚾'!$I$2:I182, '❄️ SD-WIN-BBALL ⚾'!$AE$2:AE182)} -> Sundays: Feb. 2, 9, 16, 23 | G13: {=_xlfn.XLOOKUP(C13, '❄️ SD-WIN-BBALL ⚾'!$I$2:I182, '❄️ SD-WIN-BBALL ⚾'!$AF$2:AF182)} -> 1pm-5:30pm | I13: TRUE | J13: TRUE | K13: TRUE | L13: TRUE | M13: TRUE | N13: TRUE | O13: TRUE | P13: TRUE | Q13: TRUE | R13: TRUE | S13: TRUE | T13: TRUE | U13: FALSE | V13: TRUE | W13: TRUE | X13: TRUE | Y13: FALSE | AB13: TRUE | AC13: 8 | AD13: 3
A14: {=_xlfn.XLOOKUP(C14, '❄️ SD-WIN-BBALL ⚾'!$I$2:I183, '❄️ SD-WIN-BBALL ⚾'!$A$2:A183)} -> A-NEW | B14: {=_xlfn.XLOOKUP(C14, '❄️ SD-WIN-BBALL ⚾'!$I$2:I183, '❄️ SD-WIN-BBALL ⚾'!$G$2:G183)} -> USBDALA | C14: Ascend Leadership Academy | D14: {=_xlfn.XLOOKUP(C14, '❄️ SD-WIN-BBALL ⚾'!$I$2:I183, '❄️ SD-WIN-BBALL ⚾'!$AA$2:AA183)} -> 111 | E14: {=_xlfn.XLOOKUP(C14, '❄️ SD-WIN-BBALL ⚾'!$I$2:I183, '❄️ SD-WIN-BBALL ⚾'!$AB$2:AB183)} -> 215 | F14: {=_xlfn.XLOOKUP(C14, '❄️ SD-WIN-BBALL ⚾'!$I$2:I183, '❄️ SD-WIN-BBALL ⚾'!$AE$2:AE183)} -> Saturdays: Jan. 11, 18; Feb. 8, 15 | G14: {=_xlfn.XLOOKUP(C14, '❄️ SD-WIN-BBALL ⚾'!$I$2:I183, '❄️ SD-WIN-BBALL ⚾'!$AF$2:AF183)} -> 9am-1:30pm | I14: TRUE | J14: TRUE | K14: TRUE | L14: TRUE | M14: TRUE | N14: TRUE | O14: TRUE | P14: TRUE | Q14: TRUE | R14: TRUE | S14: TRUE | T14: TRUE | U14: FALSE | V14: TRUE | W14: TRUE | X14: TRUE | Y14: TRUE | AB14: TRUE | AC14: 2 | AD14: 1
A15: {=_xlfn.XLOOKUP(C15, '❄️ SD-WIN-BBALL ⚾'!$I$2:I184, '❄️ SD-WIN-BBALL ⚾'!$A$2:A184)} -> B-RET | B15: {=_xlfn.XLOOKUP(C15, '❄️ SD-WIN-BBALL ⚾'!$I$2:I184, '❄️ SD-WIN-BBALL ⚾'!$G$2:G184)} -> USBDACC | C15: Aurora Central Catholic HS | D15: {=_xlfn.XLOOKUP(C15, '❄️ SD-WIN-BBALL ⚾'!$I$2:I184, '❄️ SD-WIN-BBALL ⚾'!$AA$2:AA184)} -> 216 | E15: {=_xlfn.XLOOKUP(C15, '❄️ SD-WIN-BBALL ⚾'!$I$2:I184, '❄️ SD-WIN-BBALL ⚾'!$AB$2:AB184)} -> 309 | F15: {=_xlfn.XLOOKUP(C15, '❄️ SD-WIN-BBALL ⚾'!$I$2:I184, '❄️ SD-WIN-BBALL ⚾'!$AE$2:AE184)} -> Sundays: Feb. 16, 23; Mar. 2, 9 | G15: {=_xlfn.XLOOKUP(C15, '❄️ SD-WIN-BBALL ⚾'!$I$2:I184, '❄️ SD-WIN-BBALL ⚾'!$AF$2:AF184)} -> 1pm-5:30pm | I15: TRUE | J15: TRUE | K15: TRUE | L15: TRUE | M15: TRUE | N15: TRUE | O15: TRUE | P15: TRUE | Q15: TRUE | R15: TRUE | S15: TRUE | T15: TRUE | U15: FALSE | V15: TRUE | W15: TRUE | X15: TRUE | Y15: TRUE | AB15: FALSE
A16: {=_xlfn.XLOOKUP(C16, '❄️ SD-WIN-BBALL ⚾'!$I$2:I185, '❄️ SD-WIN-BBALL ⚾'!$A$2:A185)} -> B-RET | B16: {=_xlfn.XLOOKUP(C16, '❄️ SD-WIN-BBALL ⚾'!$I$2:I185, '❄️ SD-WIN-BBALL ⚾'!$G$2:G185)} -> USBDBBA | C16: Ballistic Baseball Academy | D16: {=_xlfn.XLOOKUP(C16, '❄️ SD-WIN-BBALL ⚾'!$I$2:I185, '❄️ SD-WIN-BBALL ⚾'!$AA$2:AA185)} -> 104 | E16: {=_xlfn.XLOOKUP(C16, '❄️ SD-WIN-BBALL ⚾'!$I$2:I185, '❄️ SD-WIN-BBALL ⚾'!$AB$2:AB185)} -> 125 | F16: {=_xlfn.XLOOKUP(C16, '❄️ SD-WIN-BBALL ⚾'!$I$2:I185, '❄️ SD-WIN-BBALL ⚾'!$AE$2:AE185)} -> Saturdays: Jan. 4, 11, 18, 25 | G16: {=_xlfn.XLOOKUP(C16, '❄️ SD-WIN-BBALL ⚾'!$I$2:I185, '❄️ SD-WIN-BBALL ⚾'!$AF$2:AF185)} -> Noon-4:30pm | I16: TRUE | J16: TRUE | K16: TRUE | L16: TRUE | M16: TRUE | N16: TRUE | O16: TRUE | P16: TRUE | Q16: TRUE | R16: TRUE | S16: TRUE | T16: TRUE | U16: FALSE | V16: TRUE | W16: TRUE | X16: TRUE | Y16: TRUE | AB16: FALSE
A17: {=_xlfn.XLOOKUP(C17, '❄️ SD-WIN-BBALL ⚾'!$I$2:I186, '❄️ SD-WIN-BBALL ⚾'!$A$2:A186)} -> B-RET | B17: {=_xlfn.XLOOKUP(C17, '❄️ SD-WIN-BBALL ⚾'!$I$2:I186, '❄️ SD-WIN-BBALL ⚾'!$G$2:G186)} -> USBDBP | C17: Baseball Plus | D17: {=_xlfn.XLOOKUP(C17, '❄️ SD-WIN-BBALL ⚾'!$I$2:I186, '❄️ SD-WIN-BBALL ⚾'!$AA$2:AA186)} -> 110 | E17: {=_xlfn.XLOOKUP(C17, '❄️ SD-WIN-BBALL ⚾'!$I$2:I186, '❄️ SD-WIN-BBALL ⚾'!$AB$2:AB186)} -> 131 | F17: {=_xlfn.XLOOKUP(C17, '❄️ SD-WIN-BBALL ⚾'!$I$2:I186, '❄️ SD-WIN-BBALL ⚾'!$AE$2:AE186)} -> Fridays: Jan. 10, 17, 24, 31 | G17: {=_xlfn.XLOOKUP(C17, '❄️ SD-WIN-BBALL ⚾'!$I$2:I186, '❄️ SD-WIN-BBALL ⚾'!$AF$2:AF186)} -> 6pm-9pm | I17: TRUE | J17: TRUE | K17: TRUE | L17: TRUE | M17: TRUE | N17: TRUE | O17: TRUE | P17: TRUE | Q17: TRUE | R17: TRUE | S17: TRUE | T17: TRUE | U17: FALSE | V17: FALSE | W17: FALSE | X17: FALSE | Y17: FALSE | AB17: FALSE
A18: {=_xlfn.XLOOKUP(C18, '❄️ SD-WIN-BBALL ⚾'!$I$2:I187, '❄️ SD-WIN-BBALL ⚾'!$A$2:A187)} -> Z-CNCLD-LOW ENRLMT | B18: {=_xlfn.XLOOKUP(C18, '❄️ SD-WIN-BBALL ⚾'!$I$2:I187, '❄️ SD-WIN-BBALL ⚾'!$G$2:G187)} -> USBDBP2 | C18: Baseball Plus - WINTER BREAK | D18: {=_xlfn.XLOOKUP(C18, '❄️ SD-WIN-BBALL ⚾'!$I$2:I187, '❄️ SD-WIN-BBALL ⚾'!$AA$2:AA187)} -> 0 | E18: {=_xlfn.XLOOKUP(C18, '❄️ SD-WIN-BBALL ⚾'!$I$2:I187, '❄️ SD-WIN-BBALL ⚾'!$AB$2:AB187)} -> 0 | F18: {=_xlfn.XLOOKUP(C18, '❄️ SD-WIN-BBALL ⚾'!$I$2:I187, '❄️ SD-WIN-BBALL ⚾'!$AE$2:AE187)} -> 0 | G18: {=_xlfn.XLOOKUP(C18, '❄️ SD-WIN-BBALL ⚾'!$I$2:I187, '❄️ SD-WIN-BBALL ⚾'!$AF$2:AF187)} -> 0 | I18: TRUE | J18: TRUE | K18: TRUE | L18: TRUE | M18: TRUE | N18: TRUE | O18: TRUE | P18: TRUE | Q18: TRUE | R18: TRUE | S18: TRUE | T18: TRUE | U18: FALSE | V18: TRUE | W18: TRUE | X18: TRUE | Y18: TRUE | AB18: FALSE
A19: {=_xlfn.XLOOKUP(C19, '❄️ SD-WIN-BBALL ⚾'!$I$2:I188, '❄️ SD-WIN-BBALL ⚾'!$A$2:A188)} -> B-RET | B19: {=_xlfn.XLOOKUP(C19, '❄️ SD-WIN-BBALL ⚾'!$I$2:I188, '❄️ SD-WIN-BBALL ⚾'!$G$2:G188)} -> USBDBELL | C19: Bellbrook HS | D19: {=_xlfn.XLOOKUP(C19, '❄️ SD-WIN-BBALL ⚾'!$I$2:I188, '❄️ SD-WIN-BBALL ⚾'!$AA$2:AA188)} -> 119 | E19: {=_xlfn.XLOOKUP(C19, '❄️ SD-WIN-BBALL ⚾'!$I$2:I188, '❄️ SD-WIN-BBALL ⚾'!$AB$2:AB188)} -> 209 | F19: {=_xlfn.XLOOKUP(C19, '❄️ SD-WIN-BBALL ⚾'!$I$2:I188, '❄️ SD-WIN-BBALL ⚾'!$AE$2:AE188)} -> Sundays: Jan. 19, 26; Feb. 2, 9 | G19: {=_xlfn.XLOOKUP(C19, '❄️ SD-WIN-BBALL ⚾'!$I$2:I188, '❄️ SD-WIN-BBALL ⚾'!$AF$2:AF188)} -> Noon-4:30pm | I19: TRUE | J19: TRUE | K19: TRUE | L19: TRUE | M19: TRUE | N19: TRUE | O19: TRUE | P19: TRUE | Q19: TRUE | R19: TRUE | S19: TRUE | T19: TRUE | U19: FALSE | V19: TRUE | W19: TRUE | X19: TRUE | Y19: FALSE | AB19: FALSE
A20: {=_xlfn.XLOOKUP(C20, '❄️ SD-WIN-BBALL ⚾'!$I$2:I189, '❄️ SD-WIN-BBALL ⚾'!$A$2:A189)} -> Z-CNCLD-LOW ENRLMT | B20: {=_xlfn.XLOOKUP(C20, '❄️ SD-WIN-BBALL ⚾'!$I$2:I189, '❄️ SD-WIN-BBALL ⚾'!$G$2:G189)} -> USBDBSA | C20: Bellevue Sports Athletic Association - SPRING BREAK | D20: {=_xlfn.XLOOKUP(C20, '❄️ SD-WIN-BBALL ⚾'!$I$2:I189, '❄️ SD-WIN-BBALL ⚾'!$AA$2:AA189)} -> 310 | E20: {=_xlfn.XLOOKUP(C20, '❄️ SD-WIN-BBALL ⚾'!$I$2:I189, '❄️ SD-WIN-BBALL ⚾'!$AB$2:AB189)} -> 313 | F20: {=_xlfn.XLOOKUP(C20, '❄️ SD-WIN-BBALL ⚾'!$I$2:I189, '❄️ SD-WIN-BBALL ⚾'!$AE$2:AE189)} -> Mon.-Thurs.: March 10-13 | G20: {=_xlfn.XLOOKUP(C20, '❄️ SD-WIN-BBALL ⚾'!$I$2:I189, '❄️ SD-WIN-BBALL ⚾'!$AF$2:AF189)} -> 9am-3pm | I20: TRUE | J20: TRUE | K20: TRUE | L20: TRUE | M20: TRUE | N20: TRUE | O20: TRUE | P20: TRUE | Q20: TRUE | R20: TRUE | S20: TRUE | T20: TRUE | U20: FALSE | V20: TRUE | W20: TRUE | X20: TRUE | Y20: TRUE | AB20: FALSE
A21: {=_xlfn.XLOOKUP(C21, '❄️ SD-WIN-BBALL ⚾'!$I$2:I190, '❄️ SD-WIN-BBALL ⚾'!$A$2:A190)} -> B-RET | B21: {=_xlfn.XLOOKUP(C21, '❄️ SD-WIN-BBALL ⚾'!$I$2:I190, '❄️ SD-WIN-BBALL ⚾'!$G$2:G190)} -> USBDBC | C21: Benedict College | D21: 27 | E21: {=_xlfn.XLOOKUP(C21, '❄️ SD-WIN-BBALL ⚾'!$I$2:I190, '❄️ SD-WIN-BBALL ⚾'!$AB$2:AB190)} -> 209 | F21: {=_xlfn.XLOOKUP(C21, '❄️ SD-WIN-BBALL ⚾'!$I$2:I190, '❄️ SD-WIN-BBALL ⚾'!$AE$2:AE190)} -> Sundays: Jan. 19, 26; Feb. 2, 9 | G21: {=_xlfn.XLOOKUP(C21, '❄️ SD-WIN-BBALL ⚾'!$I$2:I190, '❄️ SD-WIN-BBALL ⚾'!$AF$2:AF190)} -> 1pm-5:30pm | I21: TRUE | J21: TRUE | K21: TRUE | L21: TRUE | M21: TRUE | N21: TRUE | O21: TRUE | P21: TRUE | Q21: TRUE | R21: TRUE | S21: TRUE | T21: TRUE | U21: FALSE | V21: TRUE | W21: TRUE | X21: TRUE | Y21: TRUE | AB21: FALSE
A22: {=_xlfn.XLOOKUP(C22, '❄️ SD-WIN-BBALL ⚾'!$I$2:I191, '❄️ SD-WIN-BBALL ⚾'!$A$2:A191)} -> A-NEW | B22: {=_xlfn.XLOOKUP(C22, '❄️ SD-WIN-BBALL ⚾'!$I$2:I191, '❄️ SD-WIN-BBALL ⚾'!$G$2:G191)} -> USBDBET | C22: Bethel HS | D22: {=_xlfn.XLOOKUP(C22, '❄️ SD-WIN-BBALL ⚾'!$I$2:I191, '❄️ SD-WIN-BBALL ⚾'!$AA$2:AA191)} -> 112 | E22: {=_xlfn.XLOOKUP(C22, '❄️ SD-WIN-BBALL ⚾'!$I$2:I191, '❄️ SD-WIN-BBALL ⚾'!$AB$2:AB191)} -> 209 | F22: {=_xlfn.XLOOKUP(C22, '❄️ SD-WIN-BBALL ⚾'!$I$2:I191, '❄️ SD-WIN-BBALL ⚾'!$AE$2:AE191)} -> Sundays: Jan. 12, 26; Feb. 2, 9 | G22: {=_xlfn.XLOOKUP(C22, '❄️ SD-WIN-BBALL ⚾'!$I$2:I191, '❄️ SD-WIN-BBALL ⚾'!$AF$2:AF191)} -> 1pm-5:30pm | I22: TRUE | J22: TRUE | K22: TRUE | L22: TRUE | M22: TRUE | N22: TRUE | O22: TRUE | P22: TRUE | Q22: TRUE | R22: TRUE | S22: TRUE | T22: TRUE | U22: FALSE | V22: TRUE | W22: TRUE | X22: TRUE | Y22: TRUE | AB22: FALSE
A23: {=_xlfn.XLOOKUP(C23, '❄️ SD-WIN-BBALL ⚾'!$I$2:I192, '❄️ SD-WIN-BBALL ⚾'!$A$2:A192)} -> A-NEW | B23: {=_xlfn.XLOOKUP(C23, '❄️ SD-WIN-BBALL ⚾'!$I$2:I192, '❄️ SD-WIN-BBALL ⚾'!$G$2:G192)} -> USBDBUS | C23: Bushnell University | D23: {=_xlfn.XLOOKUP(C23, '❄️ SD-WIN-BBALL ⚾'!$I$2:I192, '❄️ SD-WIN-BBALL ⚾'!$AA$2:AA192)} -> 104 | E23: {=_xlfn.XLOOKUP(C23, '❄️ SD-WIN-BBALL ⚾'!$I$2:I192, '❄️ SD-WIN-BBALL ⚾'!$AB$2:AB192)} -> 125 | F23: {=_xlfn.XLOOKUP(C23, '❄️ SD-WIN-BBALL ⚾'!$I$2:I192, '❄️ SD-WIN-BBALL ⚾'!$AE$2:AE192)} -> Saturdays: Jan. 4, 11, 18, 25 | G23: {=_xlfn.XLOOKUP(C23, '❄️ SD-WIN-BBALL ⚾'!$I$2:I192, '❄️ SD-WIN-BBALL ⚾'!$AF$2:AF192)} -> Noon-4:30pm | I23: TRUE | J23: TRUE | K23: TRUE | L23: TRUE | M23: TRUE | N23: TRUE | O23: TRUE | P23: TRUE | Q23: TRUE | R23: TRUE | S23: TRUE | T23: TRUE | U23: FALSE | V23: TRUE | W23: TRUE | X23: TRUE | Y23: FALSE | AB23: FALSE
A24: {=_xlfn.XLOOKUP(C24, '❄️ SD-WIN-BBALL ⚾'!$I$2:I193, '❄️ SD-WIN-BBALL ⚾'!$A$2:A193)} -> B-RET | B24: {=_xlfn.XLOOKUP(C24, '❄️ SD-WIN-BBALL ⚾'!$I$2:I193, '❄️ SD-WIN-BBALL ⚾'!$G$2:G193)} -> USBDCSH | C24: Cantwell Sacred Heart of Mary - WINTER BREAK | D24: {=_xlfn.XLOOKUP(C24, '❄️ SD-WIN-BBALL ⚾'!$I$2:I193, '❄️ SD-WIN-BBALL ⚾'!$AA$2:AA193)} -> 26 | E24: {=_xlfn.XLOOKUP(C24, '❄️ SD-WIN-BBALL ⚾'!$I$2:I193, '❄️ SD-WIN-BBALL ⚾'!$AB$2:AB193)} -> 30 | F24: {=_xlfn.XLOOKUP(C24, '❄️ SD-WIN-BBALL ⚾'!$I$2:I193, '❄️ SD-WIN-BBALL ⚾'!$AE$2:AE193)} -> Fri.-Mon.: Dec. 27, 28, 29, 30 | G24: {=_xlfn.XLOOKUP(C24, '❄️ SD-WIN-BBALL ⚾'!$I$2:I193, '❄️ SD-WIN-BBALL ⚾'!$AF$2:AF193)} -> 9am-3pm | I24: TRUE | J24: TRUE | K24: TRUE | L24: TRUE | M24: TRUE | N24: TRUE | O24: TRUE | P24: TRUE | Q24: TRUE | R24: TRUE | S24: TRUE | T24: TRUE | U24: FALSE | V24: TRUE | W24: TRUE | X24: TRUE | Y24: FALSE | AB24: FALSE
A25: {=_xlfn.XLOOKUP(C25, '❄️ SD-WIN-BBALL ⚾'!$I$2:I194, '❄️ SD-WIN-BBALL ⚾'!$A$2:A194)} -> B-RET | B25: {=_xlfn.XLOOKUP(C25, '❄️ SD-WIN-BBALL ⚾'!$I$2:I194, '❄️ SD-WIN-BBALL ⚾'!$G$2:G194)} -> USBDCAP | C25: Capital HS | D25: {=_xlfn.XLOOKUP(C25, '❄️ SD-WIN-BBALL ⚾'!$I$2:I194, '❄️ SD-WIN-BBALL ⚾'!$AA$2:AA194)} -> 111 | E25: {=_xlfn.XLOOKUP(C25, '❄️ SD-WIN-BBALL ⚾'!$I$2:I194, '❄️ SD-WIN-BBALL ⚾'!$AB$2:AB194)} -> 201 | F25: {=_xlfn.XLOOKUP(C25, '❄️ SD-WIN-BBALL ⚾'!$I$2:I194, '❄️ SD-WIN-BBALL ⚾'!$AE$2:AE194)} -> Saturdays: Jan. 11, 18, 25; Feb. 1 | G25: {=_xlfn.XLOOKUP(C25, '❄️ SD-WIN-BBALL ⚾'!$I$2:I194, '❄️ SD-WIN-BBALL ⚾'!$AF$2:AF194)} -> Noon-4:30pm | I25: TRUE | J25: TRUE | K25: TRUE | L25: TRUE | M25: TRUE | N25: TRUE | O25: TRUE | P25: TRUE | Q25: TRUE | R25: TRUE | S25: TRUE | T25: TRUE | U25: FALSE | V25: TRUE | W25: TRUE | X25: TRUE | Y25: TRUE | AB25: FALSE
A26: {=_xlfn.XLOOKUP(C26, '❄️ SD-WIN-BBALL ⚾'!$I$2:I195, '❄️ SD-WIN-BBALL ⚾'!$A$2:A195)} -> B-RET | B26: {=_xlfn.XLOOKUP(C26, '❄️ SD-WIN-BBALL ⚾'!$I$2:I195, '❄️ SD-WIN-BBALL ⚾'!$G$2:G195)} -> USBDCR | C26: Cardinal Ritter HS | D26: {=_xlfn.XLOOKUP(C26, '❄️ SD-WIN-BBALL ⚾'!$I$2:I195, '❄️ SD-WIN-BBALL ⚾'!$AA$2:AA195)} -> 208 | E26: {=_xlfn.XLOOKUP(C26, '❄️ SD-WIN-BBALL ⚾'!$I$2:I195, '❄️ SD-WIN-BBALL ⚾'!$AB$2:AB195)} -> 301 | F26: {=_xlfn.XLOOKUP(C26, '❄️ SD-WIN-BBALL ⚾'!$I$2:I195, '❄️ SD-WIN-BBALL ⚾'!$AE$2:AE195)} -> Saturdays: Feb. 8, 15, 22; Mar. 1 | G26: {=_xlfn.XLOOKUP(C26, '❄️ SD-WIN-BBALL ⚾'!$I$2:I195, '❄️ SD-WIN-BBALL ⚾'!$AF$2:AF195)} -> 9am-1:30pm | I26: TRUE | J26: TRUE | K26: TRUE | L26: TRUE | M26: TRUE | N26: TRUE | O26: TRUE | P26: TRUE | Q26: TRUE | R26: TRUE | S26: TRUE | T26: TRUE | U26: FALSE | V26: TRUE | W26: TRUE | X26: TRUE | Y26: TRUE | AB26: FALSE
A27: {=_xlfn.XLOOKUP(C27, '❄️ SD-WIN-BBALL ⚾'!$I$2:I196, '❄️ SD-WIN-BBALL ⚾'!$A$2:A196)} -> B-RET | B27: {=_xlfn.XLOOKUP(C27, '❄️ SD-WIN-BBALL ⚾'!$I$2:I196, '❄️ SD-WIN-BBALL ⚾'!$G$2:G196)} -> USBDCAB | C27: CenCal Athletics Baseball Academy | D27: {=_xlfn.XLOOKUP(C27, '❄️ SD-WIN-BBALL ⚾'!$I$2:I196, '❄️ SD-WIN-BBALL ⚾'!$AA$2:AA196)} -> 208 | E27: {=_xlfn.XLOOKUP(C27, '❄️ SD-WIN-BBALL ⚾'!$I$2:I196, '❄️ SD-WIN-BBALL ⚾'!$AB$2:AB196)} -> 301 | F27: {=_xlfn.XLOOKUP(C27, '❄️ SD-WIN-BBALL ⚾'!$I$2:I196, '❄️ SD-WIN-BBALL ⚾'!$AE$2:AE196)} -> Saturdays: Feb. 8, 15, 22; Mar. 1 | G27: {=_xlfn.XLOOKUP(C27, '❄️ SD-WIN-BBALL ⚾'!$I$2:I196, '❄️ SD-WIN-BBALL ⚾'!$AF$2:AF196)} -> 9am-1:30pm | I27: TRUE | J27: TRUE | K27: TRUE | L27: TRUE | M27: TRUE | N27: TRUE | O27: TRUE | P27: TRUE | Q27: TRUE | R27: TRUE | S27: TRUE | T27: TRUE | U27: FALSE | V27: TRUE | W27: TRUE | X27: TRUE | Y27: TRUE | AB27: FALSE
A28: {=_xlfn.XLOOKUP(C28, '❄️ SD-WIN-BBALL ⚾'!$I$2:I197, '❄️ SD-WIN-BBALL ⚾'!$A$2:A197)} -> B-RET | B28: {=_xlfn.XLOOKUP(C28, '❄️ SD-WIN-BBALL ⚾'!$I$2:I197, '❄️ SD-WIN-BBALL ⚾'!$G$2:G197)} -> USBDCEN | C28: Center HS | D28: {=_xlfn.XLOOKUP(C28, '❄️ SD-WIN-BBALL ⚾'!$I$2:I197, '❄️ SD-WIN-BBALL ⚾'!$AA$2:AA197)} -> 105 | E28: {=_xlfn.XLOOKUP(C28, '❄️ SD-WIN-BBALL ⚾'!$I$2:I197, '❄️ SD-WIN-BBALL ⚾'!$AB$2:AB197)} -> 126 | F28: {=_xlfn.XLOOKUP(C28, '❄️ SD-WIN-BBALL ⚾'!$I$2:I197, '❄️ SD-WIN-BBALL ⚾'!$AE$2:AE197)} -> Sundays: Jan. 5, 12, 19, 26 | G28: {=_xlfn.XLOOKUP(C28, '❄️ SD-WIN-BBALL ⚾'!$I$2:I197, '❄️ SD-WIN-BBALL ⚾'!$AF$2:AF197)} -> 10am-2:30pm | I28: TRUE | J28: TRUE | K28: TRUE | L28: TRUE | M28: TRUE | N28: TRUE | O28: TRUE | P28: TRUE | Q28: TRUE | R28: TRUE | S28: TRUE | T28: TRUE | U28: FALSE | V28: FALSE | W28: FALSE | X28: FALSE | Y28: FALSE | AB28: FALSE
A29: {=_xlfn.XLOOKUP(C29, '❄️ SD-WIN-BBALL ⚾'!$I$2:I198, '❄️ SD-WIN-BBALL ⚾'!$A$2:A198)} -> B-RET | B29: {=_xlfn.XLOOKUP(C29, '❄️ SD-WIN-BBALL ⚾'!$I$2:I198, '❄️ SD-WIN-BBALL ⚾'!$G$2:G198)} -> USBDCG | C29: Central Gwinnett HS | D29: {=_xlfn.XLOOKUP(C29, '❄️ SD-WIN-BBALL ⚾'!$I$2:I198, '❄️ SD-WIN-BBALL ⚾'!$AA$2:AA198)} -> 112 | E29: {=_xlfn.XLOOKUP(C29, '❄️ SD-WIN-BBALL ⚾'!$I$2:I198, '❄️ SD-WIN-BBALL ⚾'!$AB$2:AB198)} -> 202 | F29: {=_xlfn.XLOOKUP(C29, '❄️ SD-WIN-BBALL ⚾'!$I$2:I198, '❄️ SD-WIN-BBALL ⚾'!$AE$2:AE198)} -> Sundays: Jan. 12, 19, 26; Feb. 2 | G29: {=_xlfn.XLOOKUP(C29, '❄️ SD-WIN-BBALL ⚾'!$I$2:I198, '❄️ SD-WIN-BBALL ⚾'!$AF$2:AF198)} -> 9am-1:30pm | I29: TRUE | J29: TRUE | K29: TRUE | L29: TRUE | M29: TRUE | N29: TRUE | O29: TRUE | P29: TRUE | Q29: TRUE | R29: TRUE | S29: TRUE | T29: TRUE | U29: FALSE | V29: TRUE | W29: TRUE | X29: TRUE | Y29: TRUE | AB29: FALSE
A30: {=_xlfn.XLOOKUP(C30, '❄️ SD-WIN-BBALL ⚾'!$I$2:I199, '❄️ SD-WIN-BBALL ⚾'!$A$2:A199)} -> A-NEW | B30: {=_xlfn.XLOOKUP(C30, '❄️ SD-WIN-BBALL ⚾'!$I$2:I199, '❄️ SD-WIN-BBALL ⚾'!$G$2:G199)} -> USBDCHS | C30: Century HS | D30: {=_xlfn.XLOOKUP(C30, '❄️ SD-WIN-BBALL ⚾'!$I$2:I199, '❄️ SD-WIN-BBALL ⚾'!$AA$2:AA199)} -> 112 | E30: {=_xlfn.XLOOKUP(C30, '❄️ SD-WIN-BBALL ⚾'!$I$2:I199, '❄️ SD-WIN-BBALL ⚾'!$AB$2:AB199)} -> 209 | F30: {=_xlfn.XLOOKUP(C30, '❄️ SD-WIN-BBALL ⚾'!$I$2:I199, '❄️ SD-WIN-BBALL ⚾'!$AE$2:AE199)} -> Sundays: Jan. 12, 19, 26; Feb. 9 | G30: {=_xlfn.XLOOKUP(C30, '❄️ SD-WIN-BBALL ⚾'!$I$2:I199, '❄️ SD-WIN-BBALL ⚾'!$AF$2:AF199)} -> 11am-3:30pm | I30: TRUE | J30: TRUE | K30: TRUE | L30: TRUE | M30: TRUE | N30: TRUE | O30: TRUE | P30: TRUE | Q30: TRUE | R30: TRUE | S30: TRUE | T30: TRUE | U30: FALSE | V30: TRUE | W30: TRUE | X30: TRUE | Y30: TRUE | AB30: FALSE
A31: {=_xlfn.XLOOKUP(C31, '❄️ SD-WIN-BBALL ⚾'!$I$2:I200, '❄️ SD-WIN-BBALL ⚾'!$A$2:A200)} -> B-RET | B31: {=_xlfn.XLOOKUP(C31, '❄️ SD-WIN-BBALL ⚾'!$I$2:I200, '❄️ SD-WIN-BBALL ⚾'!$G$2:G200)} -> USBDCC | C31: Chemeketa CC | D31: {=_xlfn.XLOOKUP(C31, '❄️ SD-WIN-BBALL ⚾'!$I$2:I200, '❄️ SD-WIN-BBALL ⚾'!$AA$2:AA200)} -> 112 | E31: {=_xlfn.XLOOKUP(C31, '❄️ SD-WIN-BBALL ⚾'!$I$2:I200, '❄️ SD-WIN-BBALL ⚾'!$AB$2:AB200)} -> 216 | F31: {=_xlfn.XLOOKUP(C31, '❄️ SD-WIN-BBALL ⚾'!$I$2:I200, '❄️ SD-WIN-BBALL ⚾'!$AE$2:AE200)} -> Sundays: Jan. 5, 19; Feb. 1 (Sat.), 9 | G31: {=_xlfn.XLOOKUP(C31, '❄️ SD-WIN-BBALL ⚾'!$I$2:I200, '❄️ SD-WIN-BBALL ⚾'!$AF$2:AF200)} -> Noon-4:30pm | I31: TRUE | J31: TRUE | K31: TRUE | L31: TRUE | M31: TRUE | N31: TRUE | O31: TRUE | P31: TRUE | Q31: TRUE | R31: TRUE | S31: TRUE | T31: TRUE | U31: FALSE | V31: TRUE | W31: TRUE | X31: TRUE | Y31: TRUE | AB31: FALSE
A32: {=_xlfn.XLOOKUP(C32, '❄️ SD-WIN-BBALL ⚾'!$I$2:I201, '❄️ SD-WIN-BBALL ⚾'!$A$2:A201)} -> B-RET | B32: {=_xlfn.XLOOKUP(C32, '❄️ SD-WIN-BBALL ⚾'!$I$2:I201, '❄️ SD-WIN-BBALL ⚾'!$G$2:G201)} -> USBDCHC | C32: Chillicothe HS | D32: {=_xlfn.XLOOKUP(C32, '❄️ SD-WIN-BBALL ⚾'!$I$2:I201, '❄️ SD-WIN-BBALL ⚾'!$AA$2:AA201)} -> 112 | E32: {=_xlfn.XLOOKUP(C32, '❄️ SD-WIN-BBALL ⚾'!$I$2:I201, '❄️ SD-WIN-BBALL ⚾'!$AB$2:AB201)} -> 202 | F32: {=_xlfn.XLOOKUP(C32, '❄️ SD-WIN-BBALL ⚾'!$I$2:I201, '❄️ SD-WIN-BBALL ⚾'!$AE$2:AE201)} -> Sundays: Jan. 12, 19, 26; Feb. 2 | G32: {=_xlfn.XLOOKUP(C32, '❄️ SD-WIN-BBALL ⚾'!$I$2:I201, '❄️ SD-WIN-BBALL ⚾'!$AF$2:AF201)} -> 9am-1:30pm | I32: TRUE | J32: TRUE | K32: TRUE | L32: TRUE | M32: TRUE | N32: TRUE | O32: TRUE | P32: TRUE | Q32: TRUE | R32: TRUE | S32: TRUE | T32: TRUE | U32: FALSE | V32: TRUE | W32: TRUE | X32: TRUE | Y32: TRUE | AB32: FALSE
A33: {=_xlfn.XLOOKUP(C33, '❄️ SD-WIN-BBALL ⚾'!$I$2:I202, '❄️ SD-WIN-BBALL ⚾'!$A$2:A202)} -> B-RET | B33: {=_xlfn.XLOOKUP(C33, '❄️ SD-WIN-BBALL ⚾'!$I$2:I202, '❄️ SD-WIN-BBALL ⚾'!$G$2:G202)} -> USBDCHU | C33: Chugiak HS | D33: {=_xlfn.XLOOKUP(C33, '❄️ SD-WIN-BBALL ⚾'!$I$2:I202, '❄️ SD-WIN-BBALL ⚾'!$AA$2:AA202)} -> 105 | E33: {=_xlfn.XLOOKUP(C33, '❄️ SD-WIN-BBALL ⚾'!$I$2:I202, '❄️ SD-WIN-BBALL ⚾'!$AB$2:AB202)} -> 126 | F33: {=_xlfn.XLOOKUP(C33, '❄️ SD-WIN-BBALL ⚾'!$I$2:I202, '❄️ SD-WIN-BBALL ⚾'!$AE$2:AE202)} -> Sundays: Jan. 5, 12, 19, 26 | G33: {=_xlfn.XLOOKUP(C33, '❄️ SD-WIN-BBALL ⚾'!$I$2:I202, '❄️ SD-WIN-BBALL ⚾'!$AF$2:AF202)} -> 9am-1:30pm | I33: TRUE | J33: TRUE | K33: TRUE | L33: TRUE | M33: TRUE | N33: TRUE | O33: TRUE | P33: TRUE | Q33: TRUE | R33: TRUE | S33: TRUE | T33: TRUE | U33: FALSE | V33: TRUE | W33: TRUE | X33: TRUE | Y33: TRUE | AB33: FALSE
... A165: {=_xlfn.XLOOKUP(C165, '❄️ SD-WIN-BBALL ⚾'!$I$2:I334, '❄️ SD-WIN-BBALL ⚾'!$A$2:A334)} -> A-NEW | B165: {=_xlfn.XLOOKUP(C165, '❄️ SD-WIN-BBALL ⚾'!$I$2:I334, '❄️ SD-WIN-BBALL ⚾'!$G$2:G334)} -> USBDYK | C165: York HS | D165: {=_xlfn.XLOOKUP(C165, '❄️ SD-WIN-BBALL ⚾'!$I$2:I334, '❄️ SD-WIN-BBALL ⚾'!$AA$2:AA334)} -> 223 | E165: {=_xlfn.XLOOKUP(C165, '❄️ SD-WIN-BBALL ⚾'!$I$2:I334, '❄️ SD-WIN-BBALL ⚾'!$AB$2:AB334)} -> 316 | F165: {=_xlfn.XLOOKUP(C165, '❄️ SD-WIN-BBALL ⚾'!$I$2:I334, '❄️ SD-WIN-BBALL ⚾'!$AE$2:AE334)} -> Sundays: Feb. 23; Mar. 2, 9, 16 | G165: {=_xlfn.XLOOKUP(C165, '❄️ SD-WIN-BBALL ⚾'!$I$2:I334, '❄️ SD-WIN-BBALL ⚾'!$AF$2:AF334)} -> Noon-4:30pm | I165: TRUE | J165: TRUE | K165: TRUE | L165: TRUE | M165: TRUE | N165: TRUE | O165: TRUE | P165: TRUE | Q165: TRUE | R165: TRUE | S165: TRUE | T165: TRUE | U165: FALSE | V165: TRUE | W165: TRUE | X165: TRUE | Y165: TRUE | AB165: FALSE
A166: {=_xlfn.XLOOKUP(C166, '❄️ SD-WIN-BBALL ⚾'!$I$2:I335, '❄️ SD-WIN-BBALL ⚾'!$A$2:A335)} -> #N/A | B166: {=_xlfn.XLOOKUP(C166, '❄️ SD-WIN-BBALL ⚾'!$I$2:I335, '❄️ SD-WIN-BBALL ⚾'!$G$2:G335)} -> #N/A | C166: 0 | D166: {=_xlfn.XLOOKUP(C166, '❄️ SD-WIN-BBALL ⚾'!$I$2:I335, '❄️ SD-WIN-BBALL ⚾'!$AA$2:AA335)} -> #N/A | E166: {=_xlfn.XLOOKUP(C166, '❄️ SD-WIN-BBALL ⚾'!$I$2:I335, '❄️ SD-WIN-BBALL ⚾'!$AB$2:AB335)} -> #N/A | F166: {=_xlfn.XLOOKUP(C166, '❄️ SD-WIN-BBALL ⚾'!$I$2:I335, '❄️ SD-WIN-BBALL ⚾'!$AE$2:AE335)} -> #N/A | G166: {=_xlfn.XLOOKUP(C166, '❄️ SD-WIN-BBALL ⚾'!$I$2:I335, '❄️ SD-WIN-BBALL ⚾'!$AF$2:AF335)} -> #N/A | I166: TRUE | J166: TRUE | K166: TRUE | L166: TRUE | M166: TRUE | N166: TRUE | O166: TRUE | P166: TRUE | Q166: TRUE | R166: TRUE | S166: TRUE | T166: TRUE | U166: FALSE | V166: TRUE | W166: TRUE | X166: TRUE | Y166: FALSE | AB166: FALSE
