Workbook

Sheet WINTER_SPRING
A1: STATUS | B1: FY22 | C1: FY23 | D1: FY24 | E1: CLOSED$ | F1: Summer | G1: Camp Code | H1: SITE | I1: Facility Name | J1: Site address | K1: Site city | L1: State | M1: Zip | N1: Email | O1: First Name | P1: Last name | Q1: Director address | R1: Director city | S1: State | T1: Zip | U1: Home # | V1: Cell # | W1: Work # | Y1: CONT | Z1: START | AA1: END | AB1: CORESPONDING DATES | AC1: CORRES. TIMES | AD1: AD | AE1: PLACED | AF1: WINTER/SPRING DATES | AG1: CONF. TIMES | AI1: 6w | AJ1: Ind/Out | AK1: Ind B/U | AL1: Rules | AM1: ER$ | AN1: PI$ | AO1: USBA Landing Page | AP1: FD Info | AQ1: CT | AR1: CS | AS1: CR | AT1: FM | AU1: FS | AW1: SITE NAME FOR SOCIAL ADS | AX1: RG | AZ1: 12.3 | PAID | BB1: 12.10 | PAID | BD1: 12.17 | PAID | BG1: 12.25 | PAID | BI1: 12.31 | PAID | BK1: 1.7 | PAID | BM1: 1.14 | PAID | BO1: 1.21 | PAID | BQ1: 1.28 | PAID
A2: B-RET | B2: 86 | C2: 150 | F2: YES | G2: USBDROS | H2: 2SP Sports Performance | J2: 29235 Stephenson Hwy | K2: Madison Heights | L2: MI | M2: 48071 | N2: metrodetroitbaseball@gmail.com | O2: Tim | P2: McEvoy | Q2: 203 Dewey St. | R2: Royal Oak | S2: MI | T2: 48067 | V2: 313-378-8457 | Z2: 407 | AA2: 428 | AD2: X | AF2: Sundays: Apr. 7, 14, 21, 28 | AG2: 9:30am-2pm | AJ2: INDOOR | AM2: 139 | AN2: 149 | AO2: https://usbaseballacademy.com/detroit-royal-oak-baseball-camp/ | AQ2: 2 | AR2: 45264 | AT2: X | AU2: X | AV2: | | AW2: 2SP Sports Performance | AX2: 5 | AY2: | | BA2: | | BB2: 56 | BC2: | | BD2: 60 | BE2: | | BF2: =BD2-BB2 -> 4 | BG2: 67 | BH2: | | BI2: 73 | BJ2: | | BK2: 101 | BL2: | | BM2: 105 | BN2: | | BP2: |
A3: B-RET | B3: 96 | C3: 115 | E3: X | F3: NO | G3: USBDAC | H3: Adrian College | J3: 110 South Madison St | K3: Adrian | L3: MI | M3: 49221 | N3: crainey@adrian.edu | O3: Craig | P3: Rainey | Q3: 770 Lakeshire Trail 201W | R3: Adrian | S3: MI | T3: 49221 | V3: 517-902-1986 | W3: 517-264-3977 | Z3: 114 | AA3: 204 | AD3: X | AF3: Sundays: Jan. 14, 21, 28; Feb. 4 | AG3: 10am-2:30pm | AJ3: INDOOR | AM3: 139 | AN3: 149 | AO3: https://usbaseballacademy.com/adrian-baseball-camp/ | AP3: Camp will be held in the Merillat Sport and Fitness Center on campus. | AQ3: 2 | AR3: 45261 | AS3: X | AT3: X | AU3: X | AV3: | | AW3: Adrian College | AX3: 5 | AY3: | | BA3: | | BB3: 103 | BC3: | | BD3: 114 | BE3: | | BF3: =BD3-BB3 -> 11 | BG3: 133 | BH3: | | BI3: 138 | BJ3: | | BK3: 157 | BL3: | | BM3: 169 | BN3: | | BP3: |
A4: B-RET | C4: 115 | E4: X | F4: NO | G4: USBDAT | H4: Alexandria Technical CC | I4: NorthStar Sports Complex | J4: 3888 Pioneer Road SE | K4: Alexandria | L4: MN | M4: 56308 | N4: jason.fischer@alextech.edu | O4: Jason | P4: Fischer | Q4: 1417 Lavender Ave S | R4: Sartell | S4: MN | T4: 56377 | V4: 320-282-8683 | Z4: 120 | AA4: 210 | AD4: X | AF4: Saturdays: Jan. 20, 27; Feb. 3, 10 | AG4: Noon-4:30pm | AJ4: INDOOR | AM4: 139 | AN4: 149 | AO4: https://usbaseballacademy.com/alexandria-baseball-camp/ | AQ4: 4 | AS4: X | AT4: X | AU4: X | AV4: | | AX4: 7 | AY4: | | BA4: | | BB4: 82 | BC4: | | BD4: 92 | BE4: | | BF4: =BD4-BB4 -> 10 | BG4: 97 | BH4: | | BI4: 95 | BJ4: | | BK4: 109 | BL4: | | BM4: 124 | BN4: | | BP4: |
A5: B-RET | B5: 48 | C5: 93 | E5: X | F5: NO | G5: USBDALL | H5: Alliance HS | J5: 400 Glamorgan St. | K5: Alliance | L5: OH | M5: 44601 | N5: grafficeje@alliancecityschools.org | O5: Jeff | P5: Graffice | Q5: 1540 Northwood Ave | R5: Alliance | S5: OH | T5: 44601 | V5: 330-581-3361 | Z5: 204 | AA5: 225 | AD5: X | AF5: Sundays: Feb. 4, 11, 18, 25 | AG5: Noon-4:30pm | AJ5: INDOOR | AM5: 139 | AN5: 149 | AO5: https://usbaseballacademy.com/alliance-baseball-camp/ | AP5: Camp will be held in the school gym. | AQ5: 2 | AR5: 45261 | AS5: X | AT5: X | AU5: X | AV5: | | AW5: Alliance HS | AX5: 4 | AY5: | | BA5: | | BB5: 21 | BC5: | | BD5: 27 | BE5: | | BF5: =BD5-BB5 -> 6 | BG5: 27 | BH5: | | BI5: 28 | BJ5: | | BK5: 43 | BL5: | | BM5: 52 | BN5: | | BP5: |
A6: A-NEW | D6: 72 | E6: X | F6: YES | G6: USBDAND | H6: Anderson County HS | J6: 1 Bearcat Dr | K6: Lawrenceburg | L6: KY | M6: 40342 | N6: l.barnes@anderson.kyschools.us | O6: LW | P6: Barnes | Q6: 1508 Ruddy Rd | R6: Lawrenceburg | S6: KY | T6: 40342 | V6: 502-664-7540 | Z6: 107 | AA6: 128 | AD6: X | AF6: Sundays: Jan. 7, 14, 21, 28 | AG6: 2pm-6:30pm | AJ6: INDOOR | AM6: 139 | AN6: 149 | AO6: https://usbaseballacademy.com/lawrenceburg-baseball-camp/ | AQ6: 2 | AR6: 45215 | AS6: X | AT6: X | AU6: X | AV6: | | AW6: Anderson County HS | AX6: 7 | AY6: | | BA6: | | BB6: 62 | BC6: | | BD6: 67 | BE6: | | BF6: =BD6-BB6 -> 5 | BG6: 70 | BH6: | | BI6: 75 | BJ6: | | BK6: 74 | BL6: | | BM6: 72 | BN6: | | BP6: |
A7: B-RET | B7: 110 | C7: 207 | E7: X | F7: YES | G7: USBDAR | H7: Anoka-Ramsey | J7: 11200 Mississippi Blvd NW | K7: Coon Rapids | L7: MN | M7: 55433 | N7: jason.saulsbury@anokaramsey.edu | O7: Jason | P7: Saulsbury | Q7: 13373 Lily St NW | R7: Andover | S7: MN | T7: 55304 | V7: 612-868-9101 | Z7: 203 | AA7: 224 | AF7: Sat./Sun: Feb. 3, 11, 18, 24 | AG7: 9:30am-2:00pm | AJ7: INDOOR | AM7: 139 | AN7: 149 | AO7: https://usbaseballacademy.com/coon-rapids-baseball-camp/ | AP7: Camp entry will be held at Door # 3, which is on the north side of campus. When entering, we will have a check-in desk in front of first field house. From there, we will direct participants where to go. | AV7: | | AX7: 7 | AY7: | | BA7: | | BB7: 129 | BC7: | | BD7: 145 | BE7: | | BF7: =BD7-BB7 -> 16 | BG7: 163 | BH7: | | BI7: 166 | BJ7: | | BK7: 177 | BL7: | | BM7: 180 | BN7: | | BP7: |
A8: B-RET | B8: 57 | C8: 53 | E8: X | F8: YES | G8: USBDAV | H8: Apple Valley HS | J8: 11837 Navajo Rd | K8: Apple Valley | L8: CA | M8: 92308 | N8: h2o5150@aol.com | O8: Jeff | P8: Bougher | Q8: 15310 Tuscola Rd | R8: Apple Valley | S8: CA | T8: 92307 | V8: 760-617-5993 | Z8: 106 | AA8: 127 | AD8: X | AF8: Saturdays: Jan. 6, 13, 20, 27 | AG8: 10am-2:30pm | AJ8: OUTDOOR | AM8: 159 | AN8: 179 | AO8: https://usbaseballacademy.com/apple-valley-baseball-camp/ | AP8: Entrance to the baseball field is pretty easy. It will be the only gate open. Just passed the football stadium on Navajo. They will turn left into the gate and then go straight back through the parking lot and they will see the baseball field ahead. | AQ8: 1 | AR8: 45261 | AS8: X | AT8: X | AU8: X | AV8: | | AW8: Apple Valley HS | AX8: 1 | AY8: | | BA8: | | BB8: 80 | BC8: | | BD8: 88 | BE8: | | BF8: =BD8-BB8 -> 8 | BG8: 100 | BH8: | | BI8: 103 | BJ8: | | BK8: 106 | BL8: | | BM8: 109 | BN8: | | BP8: |
A9: B-RET | C9: 72 | D9: 51 | E9: X | F9: NO | G9: USBDARC | H9: Arcadia HS | J9: 756 Raider Dr. | K9: Arcadia | L9: WI | M9: 54612 | N9: pronschinsken@arcadia.k12.wi.us | O9: Nate | P9: Pronschinske | Q9: 35433 Wayne St | R9: Independence | S9: WI | T9: 54747 | V9: 715-533-8319 | Z9: 210 | AA9: 309 | AD9: X | AF9: Saturdays: Feb. 10, 17, 24; Mar. 9 | AG9: 9am-1:30pm | AJ9: INDOOR | AL9: NO CATCHER | AM9: 139 | AN9: 149 | AO9: https://usbaseballacademy.com/arcadia-baseball-camp/ | AP9: Campers should enter from Reit Lane, and park in our main parking lot next to the Wanek Center. You should enter through the high school entrance and then go left down our hallway to the Auxiliary Gym. | AQ9: 4 | AS9: X | AT9: X | AU9: X | AV9: | | AW9: Arcadia HS | AX9: 5 | AY9: | | BA9: | | BB9: 24 | BC9: | | BD9: 27 | BE9: | | BF9: =BD9-BB9 -> 3 | BG9: 31 | BH9: | | BI9: 37 | BJ9: | | BK9: 40 | BL9: | | BM9: 47 | BN9: | | BP9: |
A10: B-RET | C10: 89 | E10: X | F10: YES | G10: USBDARH | H10: Arcata HS | J10: 1720 M St | K10: Arcata | L10: CA | M10: 95521 | N10: tghisetti@nohum.k12.ca.us | O10: Troy | P10: Ghisetti | Q10: 1251 Lonestar Dr | R10: McKinleyville | S10: CA | T10: 95519 | U10: 707-839-1299 | V10: 707-845-4846 | W10: 707-825-2400 | Z10: 218 | AA10: 310 | AD10: X | AF10: Sundays: Feb. 18, 25; Mar. 3, 10 | AG10: Noon-4:30pm | AJ10: OUTDOOR | AM10: 159 | AN10: 179 | AO10: https://usbaseballacademy.com/arcata-baseball-camp/ | AQ10: 1 | AR10: 45261 | AS10: X | AT10: X | AU10: X | AV10: | | AX10: 1 | AY10: | | BA10: | | BB10: 20 | BC10: | | BD10: 27 | BE10: | | BF10: =BD10-BB10 -> 7 | BG10: 32 | BH10: | | BI10: 41 | BJ10: | | BK10: 49 | BL10: | | BM10: 55 | BN10: | | BP10: |
A11: A-NEW | E11: X | F11: NO | G11: USBDATH | H11: Athens HS | J11: 1 High School Rd | K11: The Plains | L11: OH | M11: 45780 | N11: tnuzum@yahoo.com | O11: Todd | P11: Nuzum | V11: 740-591-6312 | Z11: 107 | AA11: 218 | AF11: Sundays: Jan. 7, 13 (PPD), 28 (M/U); Feb. 4, 18 | AG11: Noon-4:30pm (9am-1:30pm on Sat) | AJ11: INDOOR | AM11: 139 | AN11: 149 | AO11: https://usbaseballacademy.com/the-plains-baseball-camp/ | AQ11: 2 | AR11: 45252 | AT11: X | AU11: X | BB11: 30 | BD11: 41 | BF11: =BD11-BB11 -> 11 | BG11: 42 | BI11: 45 | BK11: 45 | BM11: 45
A12: B-RET | B12: X | C12: 131 | E12: X | F12: NO | G12: USBDACC | H12: Aurora Central Catholic HS | J12: 1255 Edgelawn Dr | K12: Aurora | L12: IL | M12: 60506 | N12: rswann12@att.net | O12: Rich | P12: Swann | Q12: 39W856 Midfield Dr | R12: Aurora | S12: IL | T12: 60506 | V12: 630-945-0110 | Z12: 218 | AA12: 310 | AD12: X | AF12: Sundays: Feb. 18, 25; Mar. 3, 10 | AG12: 1pm-5:30pm | AJ12: INDOOR | AM12: 139 | AN12: 149 | AO12: https://usbaseballacademy.com/aurora-baseball-camp/ | AP12: Check in will take place in the east entrance of the school. There will be a main parking lot out there as well. | AQ12: 4 | AS12: X | AT12: X | AU12: X | AV12: | | AW12: Aurora Central Catholic HS | AX12: 3 | AY12: | | BA12: | | BB12: 87 | BC12: | | BD12: 97 | BE12: | | BF12: =BD12-BB12 -> 10 | BG12: 101 | BH12: | | BI12: 104 | BJ12: | | BK12: 109 | BL12: | | BM12: 129 | BN12: | | BP12: |
A13: A-NEW | E13: X | F13: YES | G13: USBDAU | H13: Avila University | J13: 11901 Wornall Rd | K13: Kansas City | L13: MO | M13: 64145 | N13: erick.mojica@avila.edu | O13: Erick | P13: Mojica | V13: 909-238-7520 | Z13: 107 | AA13: 204 | AD13: X | AF13: Sundays: Jan. 7, 14, 21; Feb. 4 | AG13: 9am-1:30pm | AJ13: INDOOR | AM13: 139 | AN13: 149 | AO13: https://usbaseballacademy.com/kansas-city-baseball-camp/ | AQ13: 2 | AR13: 45231 | AS13: X | AT13: X | AU13: X | AX13: 2 | BB13: 22 | BD13: 28 | BF13: =BD13-BB13 -> 6 | BG13: 34 | BI13: 44 | BK13: 44 | BM13: 44
A14: A-NEW | E14: X | F14: YES | G14: USBDBBA | H14: Ballistic Baseball Academy | J14: 200 McClurg Rd | K14: Boardman | L14: OH | M14: 44512 | N14: chris.cosentino5@gmail.com | O14: Chris | P14: Cosentino | V14: 330-502-3367 | Z14: 106 | AA14: 127 | AF14: Saturdays: Jan. 6, 13, 20, 27 | AG14: Noon-4:30pm | AJ14: INDOOR | AM14: 139 | AN14: 149 | AO14: https://usbaseballacademy.com/youngstown-baseball-camp/ | AQ14: 2 | AR14: 45275 | BB14: 48 | BD14: 49 | BF14: =BD14-BB14 -> 1 | BG14: 49 | BI14: 54 | BK14: 53 | BM14: 53
A15: A-NEW | E15: X | F15: YES | G15: USBDBP | H15: Baseball Plus | J15: 400 Duffy Ave | K15: Hicksville | L15: NY | M15: 11801 | N15: thebaseballwhisperer@gmail.com | O15: Roger | P15: Mischel | V15: 347-992-1736 | Z15: 119 | AA15: 209 | AF15: Fridays: Jan. 19, 26; Feb. 2, 9 | AG15: 6pm-9pm | AJ15: INDOOR | AM15: 149 | AN15: 159 | AO15: https://usbaseballacademy.com/hicksville-baseball-camp/ | AQ15: 2 | AT15: X | BB15: 12 | BD15: 16 | BF15: =BD15-BB15 -> 4 | BG15: 20 | BI15: 26 | BK15: 38 | BM15: 56
A16: B-RET | B16: 80 | C16: 96 | E16: X | F16: NO | G16: USBDBELL | H16: Bellbrook HS | J16: 3737 Upper Bellbrook Rd | K16: Bellbrook | L16: OH | M16: 45305 | N16: jonathan.venters@gmail.com | O16: Jon | P16: Venters | Q16: 153 George Wythe Way | R16: Beavercreek | S16: OH | T16: 45434 | U16: 937-372-8427 | V16: 937-768-0219 | Z16: 114 | AA16: 204 | AD16: X | AF16: Sundays: Jan. 14, 21, 28; Feb. 4 | AG16: Noon-4:30pm | AJ16: INDOOR | AM16: 139 | AN16: 149 | AO16: https://usbaseballacademy.com/bellbrook-baseball-camp/ | AP16: Campers should enter the north doors of the school (water tower side). | AQ16: 2 | AR16: 45261 | AT16: X | AU16: X | AV16: | | AW16: Bellbrook HS | AX16: 4 | AY16: | | BA16: | | BB16: 64 | BC16: | | BD16: 67 | BE16: | | BF16: =BD16-BB16 -> 3 | BG16: 70 | BH16: | | BI16: 76 | BJ16: | | BK16: 84 | BL16: | | BM16: 102 | BN16: | | BP16: |
A17: B-RET | C17: 65 | E17: X | F17: NO | G17: USBDBC | H17: Benedict College | J17: 1703 Pinehurst Rd. | K17: Columbia | L17: SC | M17: 29204 | N17: selwyn.young@benedict.edu | O17: Selwyn | P17: Young | V17: 213-804-2456 | Z17: 121 | AA17: 211 | AD17: X | AF17: Sundays: Jan. 21, 28; Feb. 4, 11 | AG17: 1pm-5:30pm | AJ17: OUTDOOR | AM17: 139 | AN17: 149 | AO17: https://usbaseballacademy.com/columbia-sc-baseball-camp/ | AP17: From the Site Director: We will meet at the baseball field. Come to the home dugout on the first base side. My cell number is 213-804-2456 if anyone has problems. You can pull up to the baseball field and park . The cross street is Read Street, we are next to the Charlie Johnson Football Stadium on Twonotch Rd and Read St. | AQ17: 2 | AR17: 45261 | AS17: X | AT17: X | AU17: X | AV17: | | AX17: 7 | AY17: | | BA17: | | BB17: 61 | BC17: | | BD17: 71 | BE17: | | BF17: =BD17-BB17 -> 10 | BG17: 74 | BH17: | | BI17: 76 | BJ17: | | BK17: 88 | BL17: | | BM17: 102 | BN17: | | BP17: |
A18: B-RET | B18: 45 | C18: 141 | E18: X | F18: YES | G18: USBDBR | H18: Birch Run HS no facility | J18: 12450 Church St | K18: Birch Run | L18: MI | M18: 48415 | N18: mcornman75@gmail.com | O18: Mike | P18: Cornman | Q18: 12970 N. Budd Rd. | R18: Burt | S18: MI | T18: 48417 | U18: 989-928-7131 | V18: 989-213-2420 | Z18: 204 | AA18: 225 | AD18: X | AF18: Sundays: Feb. 4, 11, 18, 25 | AG18: Noon-4:30pm | AJ18: INDOOR | AM18: 139 | AN18: 149 | AO18: https://usbaseballacademy.com/birch-run-baseball-camp/ | AP18: Camp will take place is in the main gym. Check in will be just inside those doors. Once in there the main gym is there on the right hand side of the hall. Inside there I will have a short introduction to the coaches and then we will begin. | AQ18: 2 | AR18: 45261 | AT18: X | AU18: X | AV18: | | AW18: Birch Run HS | AX18: 5 | AY18: | | BA18: | | BB18: 37 | BC18: | | BD18: 37 | BE18: | | BF18: =BD18-BB18 -> 0 | BG18: 43 | BH18: | | BI18: 43 | BJ18: | | BK18: 51 | BL18: | | BM18: 57 | BN18: | | BP18: |
A19: A-NEW | E19: X | F19: NO | G19: USBDBW | H19: Booker T. Washington HS | J19: 45 Whitehouse Dr SW | K19: Atlanta | L19: GA | M19: 30314 | N19: cheron.thompson@atlanta.k12.ga.us | O19: Cheron | P19: Thompson | V19: 678-223-8207 | Z19: 114 | AA19: 204 | AD19: X | AF19: Sundays: Jan. 14, 21, 28; Feb. 4 | AG19: 11am-3:30pm | AJ19: OUTDOOR | AM19: 139 | AN19: 149 | AO19: https://usbaseballacademy.com/atlanta-baseball-camp/ | AQ19: 2 | AR19: 45243 | AT19: X | AU19: X | AX19: 6 | BB19: 24 | BD19: 11 | BF19: =BD19-BB19 -> -13 | BG19: 15 | BI19: 18 | BK19: 18 | BM19: 25
A20: A-NEW | E20: X | F20: NO | G20: USBDBUH | H20: Buckeye Union out for 2025 | J20: 901 E Eason Ave | K20: Buckeye | L20: AZ | M20: 85326 | N20: kevin.battaglia@buhsd.org | O20: Kevin | P20: Battaglia | V20: 623-269-2173 | Z20: 120 | AA20: 210 | AD20: X | AF20: Saturdays: Jan. 20, 27; Feb. 3, 10 | AG20: 9am-1:30pm | AJ20: OUTDOOR | AM20: 149 | AN20: 159 | AO20: https://usbaseballacademy.com/buckeye-baseball-camp/ | AQ20: 2 | AR20: 45231 | AT20: X | AU20: X | AV20: | | AX20: 2 | AY20: | | BA20: | | BB20: 15 | BC20: | | BD20: 16 | BE20: | | BF20: =BD20-BB20 -> 1 | BG20: 16 | BH20: | | BI20: 16 | BJ20: | | BK20: 21 | BL20: | | BM20: 21 | BN20: | | BP20: |
A21: A-NEW | E21: X | F21: NO | G21: USBDCAH | H21: Cahokia HS | J21: 800 Range Ln | K21: Cahokia | L21: IL | M21: 62206 | N21: jacksonl@cusd187.org | O21: Lamar | P21: Jackson | V21: 618-514-7369 | Z21: 224 | AA21: 316 | AD21: X | AF21: Saturdays: Feb. 24; Mar. 2, 9, 16 | AG21: 9am-1:30pm | AJ21: INDOOR | AM21: 139 | AN21: 149 | AO21: https://usbaseballacademy.com/cahokia-baseball-camp/ | AQ21: 2 | AR21: 45231 | AS21: X | AT21: X | AU21: X | AX21: 3 | BB21: 6 | BD21: 7 | BF21: =BD21-BB21 -> 1 | BG21: 7 | BI21: 7 | BK21: 6 | BM21: 12
A22: A-NEW | E22: X | F22: NO | G22: USBDCAN | H22: Cannon School | J22: 5801 Poplar Tent Rd. | K22: Concord | L22: NC | M22: 28027 | N22: mattkelly@cannonschool.org | O22: Matt | P22: Kelly | V22: 651-434-0986 | Z22: 127 | AA22: 217 | AD22: X | AF22: Saturdays: Jan. 27; Feb. 3, 10, 17 | AG22: 9am-1:30pm | AJ22: INDOOR | AM22: 139 | AN22: 149 | AO22: https://usbaseballacademy.com/concord-nc-baseball-camp/ | AQ22: 2 | AR22: 45226 | AS22: X | AT22: X | AU22: X | AV22: | | AX22: 6 | AY22: | | BA22: | | BB22: 49 | BC22: | | BD22: 49 | BE22: | | BF22: =BD22-BB22 -> 0 | BG22: 51 | BH22: | | BI22: 59 | BJ22: | | BK22: 70 | BL22: | | BM22: 99 | BN22: | | BP22: |
A23: B-RET | C23: 77 | E23: X | F23: NO | G23: USBDCSH | H23: Cantwell Sacred Heart of Mary | J23: 329 N Garfield Ave | K23: Montebello | L23: CA | M23: 90640 | N23: dsifuentes@cshm.org | O23: David | P23: Sifuentes | Q23: 2524 Hitchcock Dr | R23: Alhambra | S23: CA | T23: 91803 | V23: 626-297-3323 | Z23: 27 | AA23: 104 | AD23: X | AF23: Wed./Thur.: Dec. 27, 28; Jan. 3, 4 | AG23: 10am-2:30pm | AJ23: OUTDOOR | AM23: 159 | AN23: 179 | AO23: https://usbaseballacademy.com/los-angeles-montebello-baseball-camp/ | AP23: Parking at Cantwell will be off of Garfield next to our gym, Just enter the parking lot off of Garfield . You can park and walk over to the baseball field. My high school team will be playing a game at 10:00 am and should end around 12:30. Please meet in the bleachers by 12:45 so I can go over particulars. | AQ23: 4 | AS23: X | AT23: X | AU23: X | AV23: | | AX23: 1 | AY23: | | BA23: | | BB23: 50 | BC23: | | BD23: 57 | BE23: | | BF23: =BD23-BB23 -> 7 | BG23: 62 | BH23: | | BI23: 60 | BJ23: | | BK23: 60 | BL23: | | BM23: 60 | BN23: | | BP23: |
A24: A-NEW | E24: X | G24: USBDCS | H24: Canyon Springs HS | J24: 350 E Alexander Rd | K24: North Las Vegas | L24: NV | M24: 89032 | N24: allista@nv.ccsd.net | O24: Tremayne | P24: Allison | V24: 702-608-5231 | Z24: 121 | AA24: 218 | AD24: X | AF24: Sundays: Jan. 21, 28; Feb. 4, 18 | AG24: Noon-4:30pm | AJ24: INDOOR | AM24: 149 | AN24: 159 | AO24: https://usbaseballacademy.com/north-las-vegas-baseball-camp/ | AQ24: 2 | AR24: 45247 | AT24: X | AU24: X | BB24: 62 | BD24: 66 | BF24: =BD24-BB24 -> 4 | BG24: 70 | BI24: 73 | BK24: 84 | BM24: 103
A25: B-RET | C25: 59 | E25: X | F25: YES | G25: USBDCAP | H25: Capital HS | J25: 4851 Paseo Del Sol | K25: Santa Fe | L25: NM | M25: 87507 | N25: nisalazar@sfps.k12.nm.us | O25: Nicholas | P25: Salazar | Q25: 58 Calle Agua Clara | R25: Santa Fe | S25: NM | T25: 87508 | V25: 505-688-8651 | Z25: 113 | AA25: 203 | AD25: X | AF25: Saturdays: Jan. 13, 20, 27; Feb. 3 | AG25: Noon-4:30pm | AJ25: OUTDOOR | AM25: 139 | AN25: 149 | AO25: https://usbaseballacademy.com/santa-fe-baseball-camp/ | AP25: Parents will be able to park in the main parking lot in front of the Gym. Check in will be in Portable 4 and players will receive a name tag. The Baseball Field is behind the portables next to the Tennis Courts. | AQ25: 4 | AS25: X | AT25: X | AV25: | | AW25: Capital HS | AX25: 2 | AY25: | | BA25: | | BB25: 34 | BC25: | | BD25: 48 | BE25: | | BF25: =BD25-BB25 -> 14 | BG25: 49 | BH25: | | BI25: 61 | BJ25: | | BK25: 62 | BL25: | | BM25: 64 | BN25: | | BP25: |
A26: B-RET | B26: 115 | C26: 73 | E26: X | F26: YES | G26: USBDCR | H26: Cardinal Ritter HS | J26: 3360 W 30th St | K26: Indianapolis | L26: IN | M26: 46222 | N26: dscott@cardinalritter.org | O26: Dave | P26: Scott | Q26: 4994 Olympia Dr. | R26: Indianapolis | S26: IN | T26: 46228 | V26: 317-440-8071 | Z26: 210 | AA26: 302 | AD26: X | AF26: Saturdays: Feb. 10, 17, 24; Mar. 2 | AG26: 9am-1:30pm | AJ26: INDOOR | AM26: 139 | AN26: 149 | AO26: https://usbaseballacademy.com/cardinal-ritter-hs-indianapolis-baseball-camp/ | AP26: 1. 3360 W. 30th St. Indianapolis, IN 46222 2. The camp will be held in the gym. 3. Parents can park right outside the facility and enter through door 4. I have attached a map of the campus to help direct them.4. Parents should enter door 4 and we will have a table set up right there.6. Parents can watch instruction from the stage in the main gym.7. Parents can all meet on the court in the south east corner (Near entrance) During the opening talk, I will address if acamp has been moved to the auxiliary gym to help with traffic. | AQ26: 2 | AR26: 45261 | AS26: X | AT26: X | AU26: X | AV26: | | AW26: Cardinal Ritter HS | AX26: 3 | AY26: | | BA26: | | BB26: 36 | BC26: | | BD26: 48 | BE26: | | BF26: =BD26-BB26 -> 12 | BG26: 48 | BH26: | | BI26: 51 | BJ26: | | BK26: 64 | BL26: | | BM26: 77 | BN26: | | BP26: |
A27: A-NEW | E27: X | F27: YES | G27: USBDCAB | H27: CenCal Athletics Baseball Academy | J27: 1005 E. Pescadero Ave | K27: Tracy | L27: CA | M27: 95304 | N27: pryschuk.n@monet.k12.ca.us | O27: Nick | P27: Pryschuk | V27: 209-534-5354 | Z27: 203 | AA27: 224 | AF27: Saturdays: Feb. 3, 10, 17, 24 | AG27: 9am-1:30pm | AJ27: INDOOR | AM27: 159 | AN27: 169 | AO27: https://usbaseballacademy.com/tracy-baseball-camp/ | AQ27: 4 | AT27: X | AU27: X | BB27: 0 | BD27: 0 | BF27: =BD27-BB27 -> 0 | BG27: 2 | BI27: 2 | BK27: 6 | BM27: 10
A28: B-RET | B28: 81 | C28: 91 | E28: X | F28: NO | G28: USBDCEN | H28: Center HS | J28: 3111 Center Court Lane | K28: Antelope | L28: CA | M28: 95843 | N28: jaw@centerusd.org | O28: Jeff | P28: Wise | Q28: 1953 Ambridge Dr. | R28: Roseville | S28: CA | T28: 95747 | V28: 916-547-7733 | Z28: 107 | AA28: 128 | AD28: X | AF28: Sundays: Jan. 7, 14, 21, 28 | AG28: 10am-2:30pm | AJ28: INDOOR | AM28: 159 | AN28: 179 | AO28: https://usbaseballacademy.com/sacramento-roseville-baseball-camp/ | AQ28: 1 | AR28: 45261 | AS28: X | AT28: X | AU28: X | AV28: | | AW28: Center HS | AX28: 1 | AY28: | | BA28: | | BB28: 79 | BC28: | | BD28: 82 | BE28: | | BF28: =BD28-BB28 -> 3 | BG28: 91 | BH28: | | BI28: 96 | BJ28: | | BK28: 112 | BL28: | | BM28: 109 | BN28: | | BP28: |
A29: A-NEW | E29: X | F29: YES | G29: USBDCG | H29: Central Gwinnett HS | J29: 564 W. Crogan St. | K29: Lawrenceville | L29: GA | M29: 30046 | N29: karl.craig@gcpsk12.org | O29: Karl | P29: Craig | Q29: 3657 Talon View Ct. | R29: Auburn | S29: GA | T29: 30011 | V29: 678-349-1321 | Z29: 107 | AA29: 128 | AD29: X | AF29: Sundays: Jan. 7, 14, 21, 28 | AG29: Noon-4:30pm | AJ29: OUTDOOR | AM29: 139 | AN29: 149 | AO29: https://usbaseballacademy.com/lawrenceville-baseball-camp/ | AQ29: 2 | AR29: 45209 | AS29: X | AT29: X | AU29: X | AV29: | | AW29: Central Gwinnett HS | AX29: 6 | AY29: | | BA29: | | BB29: 76 | BC29: | | BD29: 89 | BE29: | | BF29: =BD29-BB29 -> 13 | BG29: 92 | BH29: | | BI29: 97 | BJ29: | | BK29: 112 | BL29: | | BM29: 109 | BN29: | | BP29: |
A30: A-NEW | D30: 67 | E30: X | F30: YES | G30: USBDCSC | H30: Central HS | J30: 200 Zion Church Rd | K30: Pageland | L30: SC | M30: 29728 | N30: strickland495@yahoo.com | O30: Trent | P30: Strickland | Q30: 6401 Landsford Rd | R30: Marshville | S30: NC | T30: 28103 | V30: 843-517-3243 | Z30: 121 | AA30: 211 | AD30: X | AF30: Sundays: Jan. 21, 28; Feb. 4, 11 | AG30: Noon-4:30pm | AJ30: INDOOR | AM30: 139 | AN30: 149 | AO30: https://usbaseballacademy.com/pageland-baseball-camp/ | AQ30: 2 | AR30: 45215 | AS30: X | AT30: X | AU30: X | AV30: | | AW30: Central HS | AX30: 7 | AY30: | | BA30: | | BB30: 40 | BC30: | | BD30: 43 | BE30: | | BF30: =BD30-BB30 -> 3 | BG30: 46 | BH30: | | BI30: 53 | BJ30: | | BK30: 57 | BL30: | | BM30: 65 | BN30: | | BP30: |
A31: B-RET | C31: 215 | E31: X | F31: YES | G31: USBDCC | H31: Chemeketa CC | J31: 4000 Lancaster Dr. NE | K31: Salem | L31: OR | M31: 97305 | N31: gmoser1@chemeketa.edu | O31: Gerhett | P31: Moser | Q31: 4 Bolivar St | R31: Lake Oswego | S31: OR | T31: 97035 | V31: 503-803-5656 | Z31: 114 | AA31: 204 | AD31: X | AF31: Sundays: Jan. 14, 20 (Sat.); Feb. 11, 18 | AG31: Noon-4:30pm | AJ31: INDOOR | AM31: 139 | AN31: 149 | AO31: https://usbaseballacademy.com/salem-oregon-baseball-camp/ | AQ31: 4 | AS31: X | AT31: X | AU31: X | AV31: | | AW31: Chemeketa CC | AX31: 2 | AY31: | | BA31: | | BB31: 133 | BC31: | | BD31: 137 | BE31: | | BF31: =BD31-BB31 -> 4 | BG31: 148 | BH31: | | BI31: 164 | BJ31: | | BK31: 190 | BL31: | | BM31: 192 | BN31: | | BP31: |
A32: B-RET | C32: 134 | E32: X | F32: NO | G32: USBDCHC | H32: Chillicothe HS | I32: Cavalier Athletic Center | J32: 1245 Western Ave | K32: Chillicothe | L32: OH | M32: 45601 | N32: thomasjbarr@gmail.com | O32: Tom | P32: Barr | Q32: 13299 Marietta Rd | R32: Kingston | S32: OH | T32: 45644 | V32: 740-703-1184 | Z32: 107 | AA32: 128 | AD32: X | AF32: Sundays: Jan. 7, 14, 21, 28 | AG32: 9am-1:30pm | AJ32: INDOOR | AM32: 139 | AN32: 149 | AO32: https://usbaseballacademy.com/chillicothe-baseball-camp/ | AQ32: 4 | AS32: X | AT32: X | AU32: X | AV32: | | AW32: Chillicothe HS | AX32: 4 | AY32: | | BA32: | | BB32: 101 | BC32: | | BD32: 99 | BE32: | | BF32: =BD32-BB32 -> -2 | BG32: 104 | BH32: | | BI32: 111 | BJ32: | | BK32: 123 | BL32: | | BM32: 126 | BN32: | | BP32: |
A33: A-NEW | B33: 72 | C33: 92 | E33: X | F33: NO | G33: USBDCHU | H33: Chugiak HS | J33: 16525 S. Birchwood Loop Rd. | K33: Chugiak | L33: AK | M33: 99567 | N33: joe.fitka@yahoo.com | O33: Joe | P33: Fitka | Q33: 6339 Air Guard Rd | R33: Anchorage | S33: AK | T33: 99502 | V33: 907-306-8570 | Z33: 107 | AA33: 128 | AD33: X | AF33: Sundays: Jan. 7, 14, 21, 28 | AG33: 9am-1:30pm | AJ33: INDOOR | AM33: 139 | AN33: 149 | AO33: https://usbaseballacademy.com/anchorage-baseball-camp/ | AQ33: 2 | AR33: 45275 | AT33: X | AU33: X | AV33: | | AW33: Chugiak HS | AX33: 2 | AY33: | | BA33: | | BB33: 125 | BC33: | | BD33: 127 | BE33: | | BF33: =BD33-BB33 -> 2 | BG33: 124 | BH33: | | BI33: 142 | BJ33: | | BK33: 144 | BL33: | | BM33: 148 | BN33: | | BP33: |
A34: B-RET | C34: 215 | E34: X | F34: YES | G34: USBDCL | H34: Claremont HS | J34: 1601 N Indian Hill Blvd | K34: Claremont | L34: CA | M34: 91711 | N34: andrew.smith@chaffey.edu | O34: Andy | P34: Smith | Q34: 2771 N Garey Ave Unit 181 | R34: Pomano | S34: CA | T34: 91767 | V34: 702-523-1578 | Z34: 121 | AA34: 211 | AD34: X | AF34: Sundays: Jan. 21, 28; Feb. 4, 11 | AG34: 9am-1:30pm | AJ34: OUTDOOR | AM34: 159 | AN34: 179 | AO34: https://usbaseballacademy.com/claremont-baseball-camp/ | AQ34: 1 | AR34: 45261 | AS34: X | AT34: X | AU34: X | AV34: | | AX34: 1 | AY34: | | BA34: | | BB34: 113 | BC34: | | BD34: 133 | BE34: | | BF34: =BD34-BB34 -> 20 | BG34: 141 | BH34: | | BI34: 162 | BJ34: | | BK34: 171 | BL34: | | BM34: 199 | BN34: | | BP34: |
A35: A-NEW | E35: X | F35: YES | G35: USBDCA | H35: Coastal Alabama CC South | J35: 1900 US Hwy 31 | K35: Bay Minette | L35: AL | M35: 36507 | N35: jd.pruitt@coastalalabama.edu | O35: JD | P35: Pruitt | Q35: 10526 Brodick Loop | R35: Spanish Fort | S35: AL | T35: 36527 | V35: 334-714-7994 | Z35: 113 | AA35: 121 | AD35: X | AF35: Sat./Sun.: Jan. 13, 14, 20, 21 | AG35: 9am-1:30pm | AJ35: OUTDOOR | AM35: 139 | AN35: 149 | AO35: https://usbaseballacademy.com/bay-minette-baseball-camp/ | AQ35: 2 | AR35: 45223 | AS35: X | AT35: X | AU35: X | AV35: | | AW35: Coastal Alabama CC South | AX35: 2 | AY35: | | BA35: | | BB35: 30 | BC35: | | BD35: 32 | BE35: | | BF35: =BD35-BB35 -> 2 | BG35: 35 | BH35: | | BI35: 40 | BJ35: | | BK35: 44 | BL35: | | BM35: 49 | BN35: | | BP35: |
A36: A-NEW | E36: X | F36: YES | G36: USBDCSS | H36: College of Saint Scholastica | J36: 1200 Kenwood Ave | K36: Duluth | L36: MN | M36: 55811 | N36: brepking@css.edu | O36: Brooks | P36: Repking | Q36: 4891 Tamarack Ln., Unit E | R36: Hermantown | S36: MN | T36: 55811 | V36: 715-470-0416 | Z36: 31 | AA36: 121 | AD36: X | AF36: Sundays: Dec. 31; Jan. 7, 14, 21 | AG36: 8:30am-1pm | AJ36: INDOOR | AM36: 139 | AN36: 149 | AO36: https://usbaseballacademy.com/duluth-baseball-camp/ | AQ36: 2 | AR36: 45231 | AS36: X | AT36: X | AU36: X | AV36: | | AX36: 7 | AY36: | | BA36: | | BB36: 44 | BC36: | | BD36: 52 | BE36: | | BF36: =BD36-BB36 -> 8 | BG36: 58 | BH36: | | BI36: 62 | BJ36: | | BK36: 60 | BL36: | | BM36: 60 | BN36: | | BP36: |
A37: A-NEW | E37: X | F37: YES | G37: USBDCD | H37: College of the Desert | J37: 43-500 Monterey Ave | K37: Palm Desert | L37: CA | M37: 92260 | N37: sdimatteo@collegeofthedesert.edu | O37: Sam | P37: Dimatteo | V37: 724-622-7682 | Z37: 303 | AA37: 324 | AD37: X | AF37: Sundays: Mar. 3, 10, 17, 24 | AG37: Noon-4:30pm | AJ37: OUTDOOR | AM37: 159 | AN37: 159 | AO37: https://usbaseballacademy.com/palm-desert-baseball-camp/ | AQ37: 1 | AR37: 45231 | AS37: X | AT37: X | AU37: X | AX37: 1 | BB37: 34 | BD37: 44 | BF37: =BD37-BB37 -> 10 | BG37: 54 | BI37: 56 | BK37: 60 | BM37: 70
A38: B-RET | B38: 92 | C38: 134 | E38: X | F38: NO | G38: USBDCU | H38: Concordia University | I38: Greenhills School | J38: 850 Greenhills Dr | K38: Ann Arbor | L38: MI | M38: 48105 | N38: zachary.johnston@cuaa.edu | O38: Zach | P38: Johnston | Q38: 4090 Geddes Rd. | R38: Ann Arbor | S38: MI | T38: 48105 | V38: 616-902-3563 | Z38: 106 | AA38: 114 | AD38: X | AF38: Sat./Sun.: Jan. 6, 7, 13, 14 | AG38: 3pm-7:30pm | AJ38: INDOOR | AM38: 139 | AN38: 149 | AO38: https://usbaseballacademy.com/ann-arbor-baseball-camp/ | AQ38: 2 | AR38: 45261 | AT38: X | AU38: X | AV38: | | AW38: Concordia University | AX38: 5 | AY38: | | BA38: | | BB38: 104 | BC38: | | BD38: 111 | BE38: | | BF38: =BD38-BB38 -> 7 | BG38: 121 | BH38: | | BI38: 124 | BJ38: | | BK38: 133 | BL38: | | BM38: 136 | BN38: | | BP38: |
A39: A-NEW | E39: X | F39: NO | G39: USBDCRO | H39: Crookston HS | J39: 402 W Fisher Ave | K39: Crookston | L39: MN | M39: 56716 | N39: benparkin@isd593.org | O39: Ben | P39: Parkin | V39: 307-203-6442 | Z39: 211 | AA39: 303 | AD39: X | AF39: Sundays: Feb. 11, 18, 25; Mar. 3 | AG39: Noon-4:30pm | AJ39: INDOOR | AM39: 139 | AN39: 149 | AO39: https://usbaseballacademy.com/crookston-baseball-camp/ | AQ39: 2 | AR39: 45243 | AS39: X | AT39: X | AU39: X | AX39: 7 | BB39: 17 | BD39: 23 | BF39: =BD39-BB39 -> 6 | BG39: 25 | BI39: 27 | BK39: 32 | BM39: 34
A40: B-RET | C40: 121 | E40: X | F40: NO | G40: USBDCRC | H40: Crown College | J40: 8700 College View Dr | K40: St. Bonifacius | L40: MN | M40: 55375 | N40: sedbrookc@crown.edu | O40: Colt | P40: Sedbrook | Q40: 17034 Rogers Rd | R40: Eden Prairie | S40: MN | T40: 55437 | V40: 952-446-4567 | Z40: 121 | AA40: 211 | AD40: X | AF40: Sundays: Jan. 21, 28; Feb. 4, 11 | AG40: 1pm-5:30pm | AJ40: INDOOR | AM40: 149 | AN40: 159 | AO40: https://usbaseballacademy.com/st-bonifacius-baseball-camp/ | AQ40: 4 | AS40: X | AT40: X | AU40: X | AV40: | | AX40: 7 | AY40: | | BA40: | | BB40: 51 | BC40: | | BD40: 51 | BE40: | | BF40: =BD40-BB40 -> 0 | BG40: 57 | BH40: | | BI40: 61 | BJ40: | | BK40: 93 | BL40: | | BM40: 118 | BN40: | | BP40: |
...

Sheet SOFTBALL
A1: STATUS | B1: FY22 | C1: FY23 | D1: Camp Code | E1: SITE | F1: HELD @ | G1: Site address | H1: Site city | I1: State | J1: Zip | K1: Email | L1: First Name | M1: Last name | N1: Director address | O1: Director city | P1: State | Q1: Zip | R1: Home # | S1: Cell # | T1: Work # | U1: CLOSED$ | V1: CONT | W1: START | X1: END | Y1: CORESPONDING DATES | Z1: CORRES. TIMES | AA1: WINTER/SPRING DATES | AB1: CONF. TIMES | AD1: 6w | AE1: Ind/Out | AF1: Ind B/U | AG1: Rules | AH1: ER$ | AI1: USSA Landing Page | AJ1: USBA Landing Page | AK1: CT | AL1: CS | AM1: CR | AN1: FM | AO1: FS | AQ1: 12.3 | PAID | AS1: 12.10 | PAID | AU1: 12.17 | PAID | AX1: 12.25 | PAID | AZ1: 12.31 | PAID | BB1: 1.7 | PAID | BD1: 1.14 | PAID | BF1: 1.21 | PAID | BH1: 1.28 | PAID
A2: A-NEW | D2: USBDCAPS | E2: Capital HS | G2: 4851 Paseo Del Sol | H2: Santa Fe | I2: NM | J2: 87597 | K2: dennis76h@yahoo.com | L2: Dennis | M2: Hernandez | N2: 2256 Manuelito, Lane | O2: Sante Fe | P2: NM | Q2: 87507 | S2: 505-469-4010 | U2: X | W2: 113 | X2: 203 | Z2: x | AA2: Saturdays: Jan. 13, 20, 27 Feb. 3 | AB2: 9am-1:30pm | AE2: OUTDOOR | AF2: Yes | AH2: 139 | AI2: https://ussoftballacademy.net/santa-fe-softball-camp/ | AJ2: https://usbaseballacademy.com/santa-fe-softball-camp/ | AK2: 2 | AL2: 45226 | AM2: X | AN2: X | AO2: X | AP2: | | AR2: | | AS2: 13 | AT2: | | AU2: 14 | AV2: | | AW2: =AU2-AS2 -> 1 | AX2: 15 | AY2: | | AZ2: 15 | BA2: | | BB2: 25 | BC2: | | BD2: 31 | BE2: | | BG2: | | BI2: |
A3: A-NEW | D3: USBDCHS | E3: Cheltenham HS | G3: 500 Rices Mill Rd | H3: Wyncote | I3: PA | J3: 19095 | K3: belldestiny27@gmail.com | L3: Alicia | M3: Heinemann | N3: 435 4th Ave | O3: Lindenwold | P3: NJ | Q3: O8021 | S3: 267-962-4297 | U3: X | W3: 128 | X3: 225 | Z3: x | AA3: Sundays: Jan. 28; Feb. 4, 11, 25 | AB3: Noon-4:30pm | AE3: INDOOR | AH3: 139 | AI3: https://ussoftballacademy.net/wyncote-softball-camp/ | AJ3: https://usbaseballacademy.com/wyncote-softball-camp/ | AK3: 2 | AL3: 45226 | AM3: X | AN3: X | AO3: X | AP3: | | AR3: | | AS3: 50 | AT3: | | AU3: 51 | AV3: | | AW3: =AU3-AS3 -> 1 | AX3: 55 | AY3: | | AZ3: 60 | BA3: | | BB3: 74 | BC3: | | BD3: 87 | BE3: | | BG3: | | BI3: |
A4: A-NEW | D4: USBDCHAS | E4: Club House Athletics | G4: 301 Pleasant St | H4: Abbottstown | I4: PA | J4: 17301 | K4: lindseybaylor@comcast.net | L4: Lindsey | M4: Baylor | N4: 77 James Ave | O4: Littlestown | P4: PA | Q4: 17340 | S4: 410-608-3245 | U4: X | W4: 114 | X4: 204 | Z4: x | AA4: Sundays: Jan. 14, 21, 28; Feb. 4 | AB4: 8am-12:30pm | AE4: INDOOR | AH4: 139 | AI4: https://ussoftballacademy.net/abbottstown-softball-camp/ | AJ4: https://usbaseballacademy.com/abbottstown-softball-camp/ | AK4: 2 | AL4: 45226 | AM4: X | AN4: X | AO4: X | AP4: | | AR4: | | AS4: 29 | AT4: | | AU4: 28 | AV4: | | AW4: =AU4-AS4 -> -1 | AX4: 30 | AY4: | | AZ4: 29 | BA4: | | BB4: 29 | BC4: | | BD4: 30 | BE4: | | BG4: | | BI4: |
A5: A-NEW | D5: USBDCVS | E5: Crestview HS | F5: Crestview Middle School | G5: 1575 State Route 96 | H5: Ashland | I5: OH | J5: 44805 | K5: smsdurbin19@gmail.com | L5: Scott | M5: Durbin | N5: 3063 Conrad Rd | O5: Mansfield | P5: OH | Q5: 44903 | S5: 419-545-5870 | U5: X | W5: 121 | X5: 211 | Z5: x | AA5: Sundays: Jan. 21, 28; Feb. 4, 11 | AB5: 2pm-6:30pm | AE5: INDOOR | AH5: 139 | AI5: https://ussoftballacademy.net/ashland-softball-camp/ | AJ5: https://usbaseballacademy.com/ashland-softball-camp/ | AK5: 2 | AL5: 45226 | AM5: X | AN5: X | AO5: X | AP5: | | AR5: | | AS5: 15 | AT5: | | AU5: 17 | AV5: | | AW5: =AU5-AS5 -> 2 | AX5: 21 | AY5: | | AZ5: 29 | BA5: | | BB5: 44 | BC5: | | BD5: 51 | BE5: | | BG5: | | BI5: |
A6: B-RET | C6: 45 | D6: USBDDLS | E6: DeLaSalle HS | G6: One DeLaSalle Drive | H6: Minneapolis | I6: MN | J6: 55401 | K6: tom.heinecke@delasalle.com | L6: Tom | M6: Heinecke | N6: 708 5th St NE | O6: Minneapolis | P6: MN | Q6: 55413 | S6: 612-616-7673 | U6: X | W6: 114 | X6: 204 | AA6: Sundays: Jan. 14, 21, 28; Feb. 4 | AB6: 10am-2:30pm | AE6: INDOOR | AH6: 159 | AI6: https://ussoftballacademy.net/minneapolis-softball-camp/ | AJ6: https://usbaseballacademy.com/minneapolis-softball-camp/ | AK6: 2 | AN6: X | AO6: X | AP6: | | AR6: | | AS6: 34 | AT6: | | AU6: 35 | AV6: | | AW6: =AU6-AS6 -> 1 | AX6: 37 | AY6: | | AZ6: 37 | BA6: | | BB6: 41 | BC6: | | BD6: 46 | BE6: | | BG6: | | BI6: |
A7: A-NEW | D7: USBDDYS | E7: Dysart HS | G7: 11425 N Dysart Rd | H7: El Mirage | I7: AZ | J7: 85335 | K7: demian.welker@dysart.org | L7: Demian | M7: Welker | N7: 12434 N 111th Dr | O7: Youngtown | P7: AZ | Q7: 85383 | S7: 505-918-5111 | U7: X | W7: 114 | X7: 204 | Z7: x | AA7: Sundays: Jan. 7 (PPD), 14, 21, 28; Feb. 4 (M/U) | AB7: 12:30pm-5pm | AE7: OUTDOOR | AH7: 139 | AI7: https://ussoftballacademy.net/el-mirage-softball-camp/ | AJ7: https://usbaseballacademy.com/el-mirage-softball-camp/ | AK7: 2 | AL7: 45226 | AM7: X | AN7: X | AO7: X | AP7: | | AR7: | | AS7: 21 | AT7: | | AU7: 23 | AV7: | | AW7: =AU7-AS7 -> 2 | AX7: 32 | AY7: | | AZ7: 35 | BA7: | | BB7: 40 | BC7: | | BD7: 40 | BE7: | | BG7: | | BI7: |
A8: A-NEW | D8: USBDJCS | E8: Johnson Creek HS | G8: 455 Atzalan St. | H8: Johnson Creek | I8: WI | J8: 53038 | K8: loganpeot@johnsoncreekschools.org | L8: Logan | M8: Peot | N8: 215 Air Park Dr Apt 7 | O8: Watertown | P8: WI | Q8: 53094 | S8: 920-660-1761 | U8: X | W8: 107 | X8: 128 | Z8: x | AA8: Sundays: Jan. 7, 14, 21, 28 | AB8: Noon-4:30pm | AE8: INDOOR | AH8: 139 | AI8: https://ussoftballacademy.net/johnson-creek-softball-camp/ | AJ8: https://usbaseballacademy.com/johnson-creek-softball-camp/ | AK8: 2 | AL8: 45226 | AM8: X | AN8: X | AO8: X | AP8: | | AR8: | | AS8: 45 | AT8: | | AU8: 47 | AV8: | | AW8: =AU8-AS8 -> 2 | AX8: 51 | AY8: | | AZ8: 53 | BA8: | | BB8: 60 | BC8: | | BD8: 60 | BE8: | | BG8: | | BI8: |
A9: A-NEW | D9: USBDLPS | E9: Lone Peak HS | G9: 10189 N 4800 W | H9: Highland | I9: UT | J9: 84003 | K9: deemuse13@gmail.com | L9: Dee | M9: Muse | N9: 1247 N 150 W | O9: American Fork | P9: UT | Q9: 84003 | S9: 801-228-8803 | U9: X | W9: 203 | X9: 224 | Z9: x | AA9: Saturdays: Feb. 3, 10, 17, 24 | AB9: 12:30pm-5pm | AE9: INDOOR | AH9: 139 | AI9: https://ussoftballacademy.net/highland-softball-camp/ | AJ9: https://usbaseballacademy.com/highland-softball-camp/ | AK9: 2 | AL9: 45226 | AM9: X | AN9: X | AO9: X | AP9: | | AR9: | | AS9: 30 | AT9: | | AU9: 30 | AV9: | | AW9: =AU9-AS9 -> 0 | AX9: 30 | AY9: | | AZ9: 30 | BA9: | | BB9: 35 | BC9: | | BD9: 40 | BE9: | | BG9: | | BI9: |
A10: A-NEW | D10: USBDMSS | E10: Monsignor Scanlan HS | G10: 915 Hutchinson River Pkwy | H10: Bronx | I10: NY | J10: 10465 | K10: izzojr812@yahoo.com | L10: Israel | M10: Ortiz | N10: 1430 Parkchester Rd., Apt 10G | O10: Bronx | P10: NY | Q10: 10462 | S10: 347-858-8662 | U10: X | W10: 204 | X10: 225 | Z10: x | AA10: Sundays: Feb. 4, 11, 18, 25 | AB10: 3pm-7:30pm | AE10: INDOOR | AH10: 139 | AI10: https://ussoftballacademy.net/bronx-softball-camp/ | AJ10: https://usbaseballacademy.com/bronx-softball-camp/ | AK10: 2 | AL10: 45247 | AN10: X | AO10: X | AP10: | | AR10: | | AS10: 12 | AT10: | | AU10: 12 | AV10: | | AW10: =AU10-AS10 -> 0 | AX10: 12 | AY10: | | AZ10: 16 | BA10: | | BB10: 23 | BC10: | | BD10: 28 | BE10: | | BG10: | | BI10: |
A11: A-NEW | D11: USBDMUSS | E11: Muskegon CC | G11: 221 S Quarterline Rd | H11: Muskegon | I11: MI | J11: 49442 | K11: david.veihl2@muskegoncc.edu | L11: Dave | M11: Veihl | N11: 3176 Outback Dr | O11: Muskegon | P11: MI | Q11: 49444 | S11: 231-557-3111 | U11: X | W11: 127 | X11: 217 | AA11: Saturdays: Jan. 27, Feb. 3, 10, 17 | AB11: 9am-1:30pm | AE11: INDOOR | AH11: 139 | AI11: https://ussoftballacademy.net/muskegon-softball-camp/ | AJ11: https://usbaseballacademy.com/muskegon-softball-camp/ | AK11: 2 | AL11: 45261 | AN11: X | AO11: X | AS11: 2 | AU11: 2 | AW11: =AU11-AS11 -> 0 | AX11: 2 | AZ11: 2 | BB11: 11 | BD11: 13
A12: A-NEW | D12: USBDNHS | E12: North HS | G12: 34050 Glen Dr | H12: Eastlake | I12: OH | J12: 44095 | K12: peek13@sbcglobal.net | L12: Matt | M12: McPeek | N12: 38568 Fairway Glenn Blvd | O12: Willoughby | P12: OH | Q12: 44094 | S12: 440-463-2467 | U12: X | W12: 204 | X12: 225 | Z12: x | AA12: Sundays: Feb. 4, 11, 18, 25 | AB12: 9am-1:30pm | AE12: INDOOR | AH12: 139 | AI12: https://ussoftballacademy.net/eastlake-softball-camp/ | AJ12: https://usbaseballacademy.com/eastlake-softball-camp/ | AK12: 2 | AL12: 45247 | AN12: X | AO12: X | AP12: | | AR12: | | AS12: 3 | AT12: | | AU12: 11 | AV12: | | AW12: =AU12-AS12 -> 8 | AX12: 11 | AY12: | | AZ12: 13 | BA12: | | BB12: 25 | BC12: | | BD12: 36 | BE12: | | BG12: | | BI12: |
A13: B-RET | B13: 117 | C13: 148 | D13: USBDNPUS | E13: North Park University | G13: 3205 W Carmen Ave | H13: Chicago | I13: IL | J13: 60625 | K13: kanderson5@northpark.edu | L13: Katie | M13: Anderson | N13: 6875 N Northwest HWY 2 C | O13: Chicago | P13: IL | Q13: 60631 | S13: 847-840-7765 | U13: X | W13: 218 | X13: 317 | AA13: Sundays: Feb. 18, 25; Mar. 3, 17 | AB13: 9am-1:30pm | AE13: INDOOR | AI13: https://ussoftballacademy.net/chicago-softball-camp/ | AJ13: https://usbaseballacademy.com/chicago-softball-camp/ | AK13: 2 | AN13: X | AO13: X | AS13: 125 | AU13: 134 | AW13: =AU13-AS13 -> 9 | AX13: 137 | AZ13: 153 | BB13: 165 | BD13: 182
A14: A-NEW | D14: USBDROYS | E14: Royal HS | G14: 34499 Royal Rd. | H14: Brookshire | I14: TX | J14: 77423 | K14: arusso@royal-isd.net | L14: Alicia | M14: Russo-Murrell | N14: 18002 Oakmoss Hill Ct. | O14: Richmond | P14: TX | Q14: 77407 | S14: 832-567-3789 | U14: X | W14: 106 | X14: 127 | Z14: x | AA14: Saturdays: Jan. 6, 13, 20, 27 | AB14: 9am-1:30pm | AE14: OUTDOOR | AH14: 139 | AI14: https://ussoftballacademy.net/brookshire-softball-camp/ | AJ14: https://usbaseballacademy.com/brookshire-softball-camp/ | AK14: 2 | AL14: 45247 | AM14: X | AN14: X | AO14: X | AS14: 7 | AU14: 9 | AW14: =AU14-AS14 -> 2 | AX14: 13 | AZ14: 19 | BB14: 32 | BD14: 38
A15: A-NEW | D15: USBDSOS | E15: Sluggers of Ohio Inc. | G15: 9862 South Ave | H15: Poland | I15: OH | J15: 44514 | K15: bill.amero@gmail.com | L15: Bill | M15: Amero | N15: 9862 South Ave | O15: Poland | P15: OH | Q15: 44514 | S15: 330-501-7506 | W15: 407 | X15: 428 | Z15: x | AA15: Sundays: April 7, 14, 21, 28 | AB15: Noon-4:30pm | AE15: INDOOR | AH15: 139 | AI15: https://ussoftballacademy.net/poland-softball-camp/ | AJ15: https://usbaseballacademy.com/poland-softball-camp/ | AK15: 2 | AL15: 45226 | AN15: X | AO15: X | AP15: | | AR15: | | AS15: 22 | AT15: | | AU15: 24 | AV15: | | AW15: =AU15-AS15 -> 2 | AX15: 24 | AY15: | | AZ15: 27 | BA15: | | BB15: 37 | BC15: | | BD15: 37 | BE15: | | BG15: | | BI15: |
A16: A-NEW | D16: USBDSGTS | E16: St. Georges Tech HS | G16: 555 Hyetts Corner Rd | H16: Middletown | I16: DE | J16: 19709 | K16: allaboutsoftball7@gmail.com | L16: Tim | M16: Wampler | N16: 555 Hyetts Corner Rd | O16: Middletown | P16: DE | Q16: 19709 | S16: 302-218-3336 | U16: X | W16: 225 | X16: 317 | Z16: x | AA16: Sundays: Feb. 25, March 3, 10, 17 | AB16: Noon-4:30pm | AE16: INDOOR | AH16: 139 | AI16: https://ussoftballacademy.net/middletown-softball-camp/ | AJ16: https://usbaseballacademy.com/middletown-softball-camp/ | AK16: 2 | AL16: 45247 | AN16: X | AO16: X | AP16: | | AR16: | | AS16: 13 | AT16: | | AU16: 13 | AV16: | | AW16: =AU16-AS16 -> 0 | AX16: 16 | AY16: | | AZ16: 21 | BA16: | | BB16: 27 | BC16: | | BD16: 45 | BE16: | | BG16: | | BI16: |
A17: A-NEW | D17: USBDTCS | E17: Tates Creek HS | G17: 1111 Centre Pkwy | H17: Lexington | I17: KY | J17: 40517 | K17: michael.thomas@fayette.kyschools.us | L17: Mike | M17: Thomas | N17: 1809 Stockton Way | O17: Lexington | P17: KY | Q17: 40511 | S17: 859-533-8244 | U17: X | W17: 106 | X17: 127 | Z17: x | AA17: Saturdays: Jan. 6, 13, 20, 27 | AB17: 8am-12:30pm | AE17: INDOOR | AH17: 139 | AI17: https://ussoftballacademy.net/lexington-softball-camp/ | AJ17: https://usbaseballacademy.com/lexington-softball-camp/ | AK17: 2 | AL17: 45226 | AM17: X | AN17: X | AO17: X | AP17: | | AR17: | | AS17: 20 | AT17: | | AU17: 21 | AV17: | | AW17: =AU17-AS17 -> 1 | AX17: 21 | AY17: | | AZ17: 25 | BA17: | | BB17: 27 | BC17: | | BD17: 28 | BE17: | | BG17: | | BI17: |
E18: University of Pitt-Greensburg
A19: A-NEW | D19: USBDUSAS | E19: USSA Alabaster | F19: Thompson Middle School | G19: 100 Warrior Dr | H19: Alabaster | I19: AL | J19: 35007 | K19: anthonyburden111@yahoo.com | L19: Tony | M19: Burden | N19: 505 Rosebury Rd | O19: Helena | P19: AL | Q19: 35080 | S19: 205-331-6901 | T19: X | W19: 211 | X19: 303 | Z19: x | AA19: Sundays: Feb. 11, 18, 25, March 3 | AB19: Noon-4:30pm | AE19: INDOOR | AH19: 139 | AI19: https://ussoftballacademy.net/alabaster-softball-camp/ | AJ19: https://usbaseballacademy.com/alabaster-softball-camp/ | AK19: 2 | AL19: 45247 | AN19: X | AO19: X | AS19: 24 | AU19: 29 | AW19: =AU19-AS19 -> 5 | AX19: 31 | AZ19: 37 | BB19: 57 | BD19: 66
A20: A-NEW | D20: USBDUSJV | E20: USSA Jacksonville | F20: Bartram Trail HS | G20: 7399 Longleaf Pine Pkwy | H20: St. Johns | I20: FL | J20: 32259 | K20: bernardo.otero@stjohns.k12.fl.us | L20: Bernardo | M20: Otero | N20: 14951 Walden Springs Way Apt 823 | O20: Jacksonville | P20: FL | Q20: 32258 | S20: 904-525-9083 | T20: X | W20: 311 | X20: 314 | AA20: Mon.-Thur.: Mar. 11, 12, 13, 14 | AB20: 2pm-6:30pm | AE20: OUTDOOR | AH20: 139 | AI20: https://ussoftballacademy.net/jacksonville-st-johns-softball-camp/ | AJ20: https://usbaseballacademy.com/jacksonville-st-johns-softball-camp/ | AK20: 2 | AL20: 45261 | AN20: X | AO20: X | AP20: | | AR20: | | AS20: 0 | AT20: | | AU20: 0 | AV20: | | AW20: =AU20-AS20 -> 0 | AX20: 6 | AY20: | | AZ20: 6 | BA20: | | BB20: 6 | BC20: | | BD20: 8 | BE20: | | BG20: | | BI20: |
A21: A-NEW | D21: USBDUSSS | E21: USSA Sylvania | F21: Screven County Recreation Department | G21: 1605 Millen Hwy | H21: Sylvania | I21: GA | J21: 30467 | K21: natalie25p@gmail.com | L21: Natalie | M21: Mills | N21: 343 Martin Luther King Jr Ave | O21: Millen | P21: GA | Q21: 30442 | S21: 435-210-8713 | T21: X | W21: 203 | X21: 224 | Z21: x | AA21: Saturdays: Feb. 3, 10, 17, 24 | AB21: 9am-1:30pm | AE21: OUTDOOR | AH21: 139 | AI21: https://ussoftballacademy.net/sylvania-softball-camp/ | AJ21: https://usbaseballacademy.com/sylvania-softball-camp/ | AK21: 2 | AL21: 45226 | AM21: X | AN21: X | AO21: X | AS21: 6 | AU21: 6 | AW21: =AU21-AS21 -> 0 | AX21: 6 | AZ21: 11 | BB21: 21 | BD21: 23
A22: A-NEW | D22: USBDLLS | E22: USSA Tampa | F22: Land O'Lakes HS | G22: 20325 Gator Lane | H22: Land O'Lakes | I22: FL | J22: 34638 | K22: mwilkins@pasco.k12.fl.us | L22: Mitch | M22: Wilkins | N22: 4550 Bay Blvd #1246 | O22: Port Richey | P22: FL | Q22: 34668 | S22: 813-431-8261 | T22: X | W22: 30 | X22: 127 | Z22: x | AA22: Saturdays: Dec. 30; Jan. 6 (PPD), 13, 20, 27 (M/U) | AB22: Noon-4:30pm | AE22: OUTDOOR | AH22: 139 | AI22: https://ussoftballacademy.net/tampa-land-olakes-softball-camp/ | AJ22: https://usbaseballacademy.com/tampa-land-olakes-softball-camp/ | AK22: 2 | AL22: 45226 | AM22: X | AN22: X | AO22: X | AP22: | | AR22: | | AS22: 56 | AT22: | | AU22: 60 | AV22: | | AW22: =AU22-AS22 -> 4 | AX22: 61 | AY22: | | AZ22: 61 | BA22: | | BB22: 60 | BC22: | | BD22: 60 | BE22: | | BG22: | | BI22: |
A23: A-NEW | D23: USBDWSS | E23: Wamego Sports Academy | G23: 315 Lincoln Ave | H23: Wamego | I23: KS | J23: 66547 | K23: raidersoftballcoach@gmail.com | L23: Luke | M23: Meyer | N23: 12880 Hillside Dr. | O23: St. George | P23: KS | Q23: 66535 | S23: 785-250-1019 | T23: X | W23: 121 | X23: 211 | Z23: x | AA23: Sundays: Jan. 21, 28; Feb. 4, 11 | AB23: Noon-4:30pm | AE23: INDOOR | AH23: 139 | AI23: https://ussoftballacademy.net/wamego-softball-camp/ | AJ23: https://usbaseballacademy.com/wamego-softball-camp/ | AK23: 2 | AL23: 45226 | AM23: X | AN23: X | AO23: X | AP23: | | AR23: | | AS23: 20 | AT23: | | AU23: 23 | AV23: | | AW23: =AU23-AS23 -> 3 | AX23: 25 | AY23: | | AZ23: 31 | BA23: | | BB23: 36 | BC23: | | BD23: 40 | BE23: | | BG23: | | BI23: |
A24: A-NEW | D24: USBDWBS | E24: West Brunswick HS | G24: 550 Whiteville Rd NW | H24: Shallotte | I24: NC | J24: 28470 | K24: oscott@bcswan.net | L24: Olivia | M24: Scott | N24: 1783 Scrubjay CT SE | O24: Bolivia | P24: NC | Q24: 28422 | S24: 910-840-5121 | T24: X | W24: 309 | X24: 330 | Z24: x | AA24: Saturdays: March 9, 16, 23, 30 | AB24: 10am-2:30pm | AE24: OUTDOOR | AH24: 139 | AI24: https://ussoftballacademy.net/shallotte-softball-camp/ | AJ24: https://usbaseballacademy.com/shallotte-softball-camp/ | AK24: 2 | AL24: 45226 | AM24: X | AN24: X | AO24: X | AS24: 14 | AU24: 14 | AW24: =AU24-AS24 -> 0 | AX24: 16 | AZ24: 17 | BB24: 34 | BD24: 40
A25: A-NEW | D25: USBDYCS | E25: Yuma Catholic HS | G25: 2100 W 28th St | H25: Yuma | I25: AZ | J25: 85364 | K25: jlackey@yumacatholic.org | L25: Jarred | M25: Lackey | N25: 4579 W 27th Lane | O25: Yuma | P25: AZ | Q25: 85364 | S25: 928-210-7051 | T25: X | W25: 128 | X25: 218 | Z25: x | AA25: Sundays: Jan. 28, Feb. 4, 11, 18 | AB25: Noon-4:30pm | AE25: OUTDOOR | AH25: 139 | AI25: https://ussoftballacademy.net/yuma-softball-camp/ | AJ25: https://usbaseballacademy.com/yuma-softball-camp/ | AK25: 2 | AL25: 45247 | AM25: X | AN25: X | AO25: X | AP25: | | AR25: | | AS25: 64 | AT25: | | AU25: 73 | AV25: | | AW25: =AU25-AS25 -> 9 | AX25: 81 | AY25: | | AZ25: 91 | BA25: | | BB25: 93 | BC25: | | BD25: 100 | BE25: | | BG25: | | BI25: |
AS26: =SUM(AS2:AS25) -> 625 | AU26: =SUM(AU2:AU25) -> 676 | AW26: =SUM(AW2:AW25) -> 51 | AX26: =SUM(AX2:AX25) -> 733 | AZ26: =SUM(AZ2:AZ25) -> 818 | BB26: =SUM(BB2:BB25) -> 1002 | BD26: =SUM(BD2:BD25) -> 1129
A27: Z-OUT-INACTIVE | C27: 72 | D27: USBDFWCS | E27: Fort Worth Christian NLC | G27: 6200 Holiday Lane | H27: North Richland Hills | I27: TX | J27: 76180 | K27: cmassey@fwc.org | L27: Clint | M27: Massey | N27: 3229 Oakdale Dr | O27: Hurst | P27: TX | Q27: 76054 | S27: 479-685-4618 | Y27: Saturdays: Jan. 27; Feb. 3, 10, 17 | Z27: 11am-3:30pm | AI27: https://ussoftballacademy.net/fort-worth-softball-camp/ | AJ27: https://usbaseballacademy.com/fort-worth-softball-camp
A28: A-NEW | D28: USBDRECS | E28: Riviera-Kaufer Early College HS | G28: 203 Seahawk Dr | H28: Riviera | I28: TX | J28: 78379 | K28: dtorres@rivieraisd.us | L28: Devon | M28: Torres | N28: 724 Santa Clara Dr | O28: Kingsville | P28: TX | Q28: 78363 | S28: 830-352-1839 | W28: 114 | X28: 204 | Z28: x | AA28: Sundays: Jan. 14, 21, 28; Feb. 4 | AB28: Noon-4:30pm | AE28: OUTDOOR | AH28: 139 | AI28: https://ussoftballacademy.net/riviera-softball-camp/ | AJ28: https://usbaseballacademy.com/riviera-softball-camp/ | AK28: 2 | AL28: 45226 | AN28: X | AO28: X
A29: A-NEW | D29: USBDTPPS | E29: Triple Play P3rformance | G29: 5223 Raeford Rd | H29: Fayetteville | I29: NC | J29: 28304 | K29: tripleplayp3rformance@gmail.com | L29: Henry | M29: Brower | S29: 910-723-5477 | U29: X | W29: 309 | X29: 330 | AA29: Saturdays: March 9, 16, 23, 30 | AB29: 9am-1:30pm | AE29: INDOOR | AH29: 139 | AI29: https://ussoftballacademy.net/fayetteville-softball-camp/ | AN29: X | AO29: X

Sheet SUMMER-Softball Potentials
A1: School Name | B1: Site Address | C1: Site City | D1: State | E1: Zip | F1: E-mail Address | G1: First Name | H1: Last Name | I1: Director Address | J1: Director City | K1: State | L1: Zip | M1: School Number | N1: Ext | O1: Cell Number | P1: Rec | Q1: TC | R1: NO | S1: IN | T1: GD | U1: CF | V1: NR | W1: W | X1: S
A2: Bartram Trail HS/USSA Jacksonville | B2: 7399 Longleaf Pine Pkwy | C2: Saint Johns | D2: FL | E2: 32259 | F2: bernardo.otero@stjohns.k12.fl.us | G2: Bernardo | H2: Otero | O2: 904-525-9083 | P2: 45217 | W2: X | Y2: 2/1 TT GD, Wants to run BB and SB, 2/5 TT 2 BB and 2 SB, GD, 2/20 TT, 3/5 TT 2 camps June 10-13, July 8-11 | Z2: 10/23 SE WWD, 10/26 TMS, 11/1 INT, January 13, and one in March? 11/10 TMS, 11/16 LM, 11/27 TT,11/28 CF March 11-14
A3: Bartram Trail HS/USSA Jacksonville | B3: 7399 Longleaf Pine Pkwy | C3: Saint Johns | D3: FL | E3: 32259 | F3: bernardo.otero@stjohns.k12.fl.us | G3: Bernardo | H3: Otero | O3: 904-525-9083 | P3: 45217 | W3: X | Y3: 2/1 TT GD, Wants to run BB and SB, 2/5 TT 2 BB and 2 SB, GD, 2/20 TT, 3/5 TT 2 camps June 10-13, July 8-11 | Z3: 10/23 SE WWD, 10/26 TMS, 11/1 INT, January 13, and one in March? 11/10 TMS, 11/16 LM, 11/27 TT,11/28 CF March 11-14
A4: Bonners Ferry HS | B4: 6485 Tamarack Ln | C4: Bonners Ferry | D4: ID | E4: 83805 | F4: cynthia.sumpter@mail.bcsd101.com | G4: Cynthia | H4: Sumpter | I4: 188 Old Highway Two Loop | J4: Moyie Springs | K4: ID | L4: 83845 | M4: 208-267-3146 ext 8 | O4: 208-304-7274 | P4: 45208 | X4: X | Y4: 2/7 SE, 2/13 EMR, 2/13 TT INT looking at dates June 24-27 | Z4: 10/9 SE Cell #, 10/13 EMR, CB @1pm, 10/17 LM, 10/23 SE WWD, 10/31 SD, 10/31 INT, 11/7 SE, 11/8 TT GD, 11/14 TT no facility times.. Summer
A5: Centinnial HS | B5: 5050 Mallory Lane | C5: Franklin | D5: TN | E5: 37067 | F5: margiet907615@gmail.com | G5: Andre | H5: Toliver | I5: 2725 Cato Ridge Dr. | J5: Nashville | K5: TN | L5: 37218 | O5: 907-382-9104 | U5: X | Y5: 1/4 CF June 3-6
A6: Chesapeake City Little League | B6: 41 Luff Lane | C6: Chesapeake City | D6: MD | E6: 21915 | F6: allaboutsoftball7@gmail.com | G6: Tim | H6: Wampler
A7: Dallas Christian HS | B7: 1515 Republic Pkwy. | C7: Mesquite | D7: TX | E7: 75150 | F7: tburgess@dallaschristian.com | G7: Taneshia | H7: Burgess | O7: 2145331386 | P7: 45156 | R7: X | Y7: 2/7 SE, 2/20 LM, 2/21 TT meeting with AD, CF GD, 3/5 LM, 3/25 TMS, | Z7: 9/5 SE, EMR, 9/6 TT briefly, 9/28 TT briefly, 9/29 LM, 10/3 SE WWD, 10/4 TT meeting with coaches next week 10/10 TT Dates set side.. just waiting final confirmation from admin. 10/11 EMR,EMS w AD, 11/2 SE, 11/3 LM, 11/7 TT GD for February, 11/15 LM, SE, TT no facility times, INT SUMMER
A8: Dysart HS | B8: 11425 N Dysart Rd | C8: El Mirage | D8: AZ | E8: 85335 | F8: demian.welker@dysart.org | G8: Demian | H8: Welker | O8: 505-918-5111 | P8: 45183 | W8: X | Y8: 2/9 TT INT, 2/14 TT First week of June, 3/4 TT CF June 3-6 | Z8: 9/18 LM, 9/20 TT INT, 9/26 GD, 9/27 CF, 10/2 SE,
A9: Fontainebleau HS | B9: 100 Bulldog Dr | C9: Mandeville | D9: LA | E9: 70474 | F9: brian.morrow@stpsb.org | G9: Brian | H9: Morrow | I9: 70271 B St | J9: Covington | K9: LA | L9: 70433 | O9: 318-816-3769 | P9: 45314 | U9: X | Y9: 1/23 TT getting with staff/admin, 1/29 CF May 28-31
A10: Hampton University | C10: Seaford | D10: DE | G10: Andre | H10: Toliver | Z10: 10/11 LM, 10/19 LM, 10/23 SE WWD, 10/26 TMS, 10/31 SD,
A11: Jenkins County Rec Department | B11: 442 Recreation Dr | C11: Millen | D11: GA | E11: 30442 | F11: natalie25p@gmail.com | G11: Natalie | H11: Mills | O11: 435-210-8713 | W11: X | Y11: 2/28 TT CF June 3,4 & 10,11 (seeing if she can go M-TH) | Z11: 8/17 LM, T-8/21 INT, 8/29 GD, CF, 8/30 SE
A12: Johnson Creek HS | B12: 455 Aztalan St. | C12: Johnson Creek | D12: WI | E12: 53038 | F12: loganpeot@johnsoncreekschools.org | G12: Logan | H12: Peot | O12: 920-660-1761 | P12: 45154 | W12: X | Y12: 2/6 TT GD, 2/20 TT, 3/5 LM, | AA12: Sundays: Feb. 18, 25; Mar. 3, 17 | AB12: 9am-1:30pm | AE12: INDOOR | AI12: https://ussoftballacademy.net/chicago-softball-camp/ | AJ12: https://usbaseballacademy.com/chicago-softball-camp/ | AK12: 2 | AN12: X | AO12: X | AS12: 125 | AU12: 134 | AW12: =AU12-AS12 -> 9 | AX12: 137 | AZ12: 153 | BB12: 165 | BD12: 182
A13: North Park University | B13: 3205 W Carmen Ave | C13: Chicago | D13: IL | E13: 60625 | F13: kanderson5@northpark.edu | G13: Katie | H13: Anderson | I13: 6875 N Northwest HWY 2 C | J13: Chicago | K13: IL | L13: 60631 | N13: 847-840-7765 | R13: 218 | S13: 317 | Y13: 3/1 TT GD mid June, 3/25 TMS, June 17-20
A14: Riviera-Kaufer Early College HS | B14: 203 Seahawk Dr | C14: Riviera | D14: TX | E14: 78379 | F14: dtorres@rivieraisd.us | G14: Devon | H14: Torres | I14: 724 Santa Clara Dr | J14: Kingsville | K14: TX | L14: 78363 | M14: 361-296-3101 ext 4 | O14: 830-352-1839 | P14: 45166 | U14: X | Y14: 12/6 CF July 22-25
A15: Roseville Jr Sports Complex | B15: 29700 Pinehurst St | C15: Roseville | D15: MI | E15: 48066 | G15: Cliff | H15: Howe | Y15: July 8-11
A16: Roseville Jr Sports Complex | B16: 29700 Pinehurst St | C16: Roseville | D16: MI | E16: 48066 | G16: Cliff | H16: Howe | Y16: July 22-25
A17: Royal HS | B17: 34499 Royal Rd | C17: Pattison | D17: TX | E17: 77423 | F17: arusso@royal-isd.net | G17: Alicia | H17: Russo | O17: 832-567-3789 | P17: 45154 | W17: X | Y17: 2/5 TT GD, 2/20 TT, 3/11 TMS, June 24-28 | Z17: 10/6 INT, 10/19 TT, 11/1 TT, 11/14 LM, 11/27 LM, 12/4 INT Summer
A18: Rubidoux HS | B18: 4250 Opal St | C18: Riverside | D18: CA | E18: 92509 | F18: alicia_jones@jusd.k12.ca.us | G18: Alicia | H18: Jones | M18: 951-222-7745 | P18: 45169 | V18: X | Y18: 2/7 SE OV, 2/20 EMR, SE OV, 2/26 EMS, 3/1 TT GD, 3/25 EMS, | Z18: CF 10/25, February Saturdays 9-1:30, $10 an hour.. $160 field rental
A19: San Diego City College | G19: Chris | H19: Brown | Y19: July 15-18 | Z19: 10/23 SE WWD, 10/26 TMS, 11/7 SE, SDL
A20: Silver Lake Elementary | B20: 200 East Cochran St | C20: Middletown | D20: DE | E20: 19709 | F20: allaboutsoftball7@gmail.com | G20: Tim | H20: Wampler
A21: T.R Miller High School | B21: 1835 Douglas Ave | C21: Brewton | D21: AL | E21: 36426 | F21: damon@dcbsports.com | G21: Damon | H21: Haecker | M21: 334-272-8210 | O21: 407-844-8085 | P21: 45204 | X21: X | Y21: 2/7 SE, 2/21 LM, 2/23 TT 2 camps, 3/11 TMS, 3/25 TMS, June 10-13, July 8-11 | Z21: 8/29 TT Briefly, 9/11 TMS, TMR, 9/29 INT GOOD, 10/16 LM, 10/17 TT CF, 12/6 CF July 22-25
A22: T.R Miller High School | B22: 1835 Douglas Ave | C22: Brewton | D22: AL | E22: 36426 | F22: damon@dcbsports.com | G22: Damon | H22: Haecker | M22: 334-272-8210 | O22: 407-844-8085 | P22: 45204 | X22: X | Y22: 2/7 SE, 2/21 LM, 2/23 TT 2 camps | Z22: 11/14 LM, SE WWD, 11/21 SE OV, 11/28 SE, 12/4 SDL
A23: Wheaton High School | B23: 12401 Dalewood Dr | C23: Silver Spring | D23: MD | E23: 20906 | F23: lisa_c_lafond@mcpsmd.org | G23: Lisa | H23: LaFond | O23: 301-252-0283 | P23: 45218 | V23: X | Y23: 2/7 SE OV, 2/9 EMR, 2/13 LM, 2/26 LM, 3/5 LM, 3/11 LM, 3/26 TT June 24-26 @ Wheaton HS, waiting on home address
A24: Clark HS | B24: 5150 De Zavala Rd | C24: San Antonio | D24: TX | E24: 78249 | F24: rebecca.halliburton@nisd.net | G24: Rebecca | H24: Halliburton | M24: 210-397-5150 | O24: 210-289-9297 | P24: 45166 | V24: X | Y24: 2/7 SE OV, EMR, 2/13 LM, 2/26 TMS, 3/5 TMS, TT 4/9 July 15-18 | Z24: 8/30 INT, 9/11 AD meeting 9/15, 9/19 LM, 9/28 TT briefly, 10/5 new AD, summer
A25: Shorecrest Prep School | B25: 5101 1st St NE | C25: St. Petersburg | D25: FL | E25: 33703 | F25: jtallon16@icloud.com | G25: Jonathan | H25: Tallon | O25: 727-871-7084 | P25: 45154 | R25: X | Y25: 2/7 SE, EMR, Call 2/12,13, 2/13 LM, 2/26 LM, 3/5 TMS, TMR GD, 4/9 TT GD by Thursday | Z25: 8/31 SE, 9/12 SE OV, 9/28 SE Cell #, 10/4 SE WWD, 10/6 EMR, EMS, 10/17 SD,
A26: Thompson Middle School | B26: 100 Warrior Dr | C26: Alabaster | D26: AL | E26: 35007 | F26: anthonyburden111@yahoo.com | G26: Tony | H26: Burden | O26: 205-331-6901 | W26: X | Y26: INT, 2/27 TT checking field availability today, 3/11 TT, 4/9 waiting for school to confirm summer school dates | Z26: 8/29 SE, 8/31 INT, 9/12 LM, 9/20 LM, 9/27 had to fire 2 coaches.. not enough to staff camp.
F27: allaboutsoftball7@gmail.com | G27: Tim | H27: Wampler | Y27: 4/10 planning 3/4 more camps in July/August
F28: natalie25p@gmail.com | G28: Natalie | H28: Mills | O28: 435-210-8713 | W28: X | Y28: Winter SD, new job, 2 fields 2/5 TT GD for GA, CA, 3/25 GD, 4/10 TT looking at sites in CA for July | Z28: 10/10 INT, GOOD, 10/20 TT, 10/23 GD, 11/7 TT waiting on admin, 11/8 TT, 11/13 TT CF
A29: Absegami HS | B29: 201 S Wrangleboro Rd | C29: Galloway | D29: NJ | E29: O8205 | F29: bdell'aringa@gehrhsd.net | G29: Barbara | H29: Dell'Aringa | O29: 609-501-1860 | P29: 45206 | V29: X | Y29: 2/7 SE OV, EMR, 2/13 LM, 2/20 LM, 2/26 TMS, TT assistant coach Christina, league discounts, 3/20 LM, | Z29: 8/21 INT, 8/31 LM, 9/5 TMR, 9/5 facilities issue, 9/27 LM, 10/6 TT facility. Summer
A30: Benbrook HS | B30: 201 Overcrest Dr | C30: Benbrook | D30: TX | E30: 76126 | F30: emilie.blair@fwisd.org | G30: Emilie | H30: Blair | M30: 817-815-7100 | O30: 817-586-8091 | P30: 45168 | V30: X | Y30: 2/7 SE OV, 2/26 TT INT, 3/5 LM, | Z30: 8/17 LM, T 8/22 INT, 9/5 LM, TMR, 9/19LM, 9/27 LM, 10/3 TMS, TMR, waiting on admin, 10/17 TMS, 11/1 TMS, 11/3 LM, 11/7 SD, NR
A31: Capital HS | B31: 4851 Paseo Del Sol | C31: Sante Fe | D31: NM | E31: 87507 | F31: dennis76h@yahoo.com | G31: Dennis | H31: Hernandez | O31: 505-469-4010 | W31: X | Y31: 2/7 TT INT, not paid yet. June 3-6.. Still waiting admin approval 3/11 TMS, 3/25 LM, | Z31: 9/5 LM, 9/11 LM, T 9/27 INT, 10/13 tt briefly in the hospital, 10/28 TMS, 11/7 SD, 11/7 TT just had surgery.. INT SUMMER
A32: Cheltenham HS | B32: 500 Rices Mill Rd | C32: Wyncote | D32: PA | E32: 19095 | F32: amaiorano@cheltenham.org | G32: Alicia | H32: Heinemann | O32: 267-962-4297 | P32: 45204 | W32: X | Y32: 3/20 TT Summer School, checking dates, 4/9 said she still doesn’t know summer school schedule | Z32: 8/22 LM, 9/5 TMR, 9/12 TMS, TMR, T 9/12 INT, 9/28 TT GD with other coaches, 10/17 TMS, 11/2 SE, 11/8 SD, NR
A33: Clarkstown HS South | B33: 31 Demarest Mill Rd | C33: West Nyack | D33: NY | E33: 10994 | F33: bpeterson@ccsd.edu | G33: Brian | H33: Peterson | M33: 845-624-3410 | O33: 845-494-8222 | P33: 45183 | X33: X | Y33: 2/7 SE, 2/20 LM, 2/27 LM, TT | Z33: 8/21 SE, 8/24 LM, 9/11 TMS, 9/27 LM, 10/2 SE OV, 10/2 TT INT, 10/17 TT GD from AD, 10/25 TMS, 11/2 SE, NO admin
