Workbook
Name Access_Management: Table2!$H$2:$H$13
Name ADOT_Districts: Table2!$E$2:$E$11
Name Advanced_Technology_and_ITS: Table2!$I$2:$I$4
Name Age_Related: Tables!$H$2:$H$19
Name Alignment: Table2!$J$2:$J$5
Name Animal_Related: Table2!$K$2
Name COG_MPO: Table2!$B$2:$B$13
Name COGMPO: '6. Phased Cost Est.'!$A:$A
Name Cost_Estimate_Tab: Table2!$D$2:$D$6
Name County: '6. Phased Cost Est.'!$B:$B
Name Distracted_Driving: Tables!$F$2:$F$7
Name Emphasis_Area: Tables!$A$2:$A$13
Name Focus_Area: Table2!$C$2:$C$4
Name Heavy_Vehicles_Buses_Transit: Tables!$J$2:$J$11
Name HSIP_Funcitional_Class: Table2!$F$2:$F$15
Name HSIP_Improvement_Category: Table2!$G$2:$G$21
Name Impaired_Driving: Tables!$C$2:$C$8
Name Interchange_Design: Table2!$L$2:$L$9
Name Interjurisdictional: Tables!$M$2:$M$9
Name Intersection_Geometry: Table2!$M$2:$M$31
Name Intersection_Traffic_Control: Table2!$N$2:$N$56
Name Lighting: Table2!$O$2:$O$8
Name Miscellaneous: Table2!$P$2
Name Motorcycles: Tables!$E$2:$E$8
Name Natural_Risks: Tables!$K$2:$K$19
Name Non_Infrastructure: Table2!$Q$2:$Q$9
Name Nonmotorized_Users: Tables!$I$2:$I$14
Name Occupant_Protection: Tables!$D$2:$D$7
Name Parking: Table2!$R$2:$R$6
Name Pedestrians_and_Bicyclists: Table2!$S$2:$S$19
Name Railroad_Grade_Crossings: Table2!$T$2:$T$10
Name Roadside: Table2!$U$2:$U$14
Name Roadway: Table2!$V$2:$V$15
Name Roadway_Delineation: Table2!$W$2:$W$7
Name Roadway_Infrastructure_and_Operations: Tables!$G$2:$G$12
Name Roadway_Signs_and_Traffic_Control: Table2!$X$2:$X$5
Name Shoulder_Treatments: Table2!$Y$2:$Y$5
Name Speed_Management: Table2!$Z$2:$Z$6
Name Speeding_and_Aggressive_Driving: Tables!$B$2:$B$7
Name Traffic_Incident_Management: Tables!$L$2:$L$8
Name Work_Zone: Table2!$AA$2

Sheet 1. Guidance
A1: APPLICATION FOR HSIP PROJECTS
A2: ADOT Guidance on HSIP Funded Road Safety Improvement Projects
A3: 1 | B3: Two categories of road safety improvements: "Systemic" projects and "Spot Specific" projects. All projects must be identified through a data-driven process, reduce potential fatalities and serious injury crashes, and relate back to Emphasis Areas in the Arizona Strategic Highway Safety Plan (SHSP). Links to the Arizona SHSP and the Arizona HSIP Manual can be found at http://azdot.gov/Highways/Traffic/9620.asp
B4: "Systemic Projects" are those projects that implement systemic road safety improvements across a road nework. These are projects that can be implemented with minimal clearances required, usually system-or corridor-wide. A data anaylysis that identifies crash trends and risk factors with a prioritized list of potential locations that could benefit from the systemic safety improvements utilizing highly-effective countermeasures is required. Applications for this category of projects require network screening, supporting crash data, a 4 or 5 star CMF, and a benefit-cost ratio ≥ 1.5. Contact ADOT Traffic Safety Section for technical assistance if needed. See http://safety.fhwa.dot.gov/systemic/ for more information.
B5: "Spot Specific Projects" are those projects that would implement a safety countermeasure focused at a specific location. Applications for this category of projects require network screening, supporting crash data, a 4 or 5 star CMF, and a benefit-cost ratio ≥ 1.5. These projects may require environmental, utility and ROW clearances.
A6: 2 | B6: Examples of Potential Road Safety Improvement Projects
B7: Improve Roadway Segment Safety: Milled in shoulder and centerline rumble strips Install delineation for barriers and obstacles Upgrade markings (wider and more durable materials) including Raised Pavement Markers Upgrade regulatory and warning signs (Sign Inventory system must be in place as of June 14, 2014. Replacement based on retroreflectivity) Shoulder widening Enhanced delineation at horizontal curves Road Diets High Friction course applications Install new Streetlighting Install new Guardrails (Does not include upgrading or replacing existing guardrails.)
B8: Improve Signalized Intersection Safety: Converting traffic signal heads from 8-inch incandescent/LED to 12-inch LED Backplates with Retroreflective Borders
B9: Improve Unsignalized Intersection Safety: Upgrade STOP signs – larger and/or retroreflective upgrade Install advance stop ahead pavement markings
B10: Improve Pedestrian Safety: Install pedestrian countdown signals Install and/or upgrade pedestrian crosswalk pavement markings Installation of yellow-green signs and signals at ped and bike crossings and in school zones Provide mid-block crosswalk advance stop bars Provide pedestrian refuge islands and medians Install Pedestrian Hybrid Beacons (Ref: http://safety.fhwa.dot.gov/provencountermeasures/)
B11: Improve Emergency Response: Establish or upgrade mileposts and milepost system (Not applicable to urban arterial streets)
B12: Establish Inventory of Traffic Control Devices: Inventory of signs, traffic signals, etc. required for implementing systematic improvements. Agencies had until June 14, 2014 to implement and continue to use an assessment or managment method that is designaed to maintain regulatory and warning sign retroreflectivity at or above the minimum levels in Table 21-3 of the 2009 MUTCD. Agencies requesting Federal funds to upgrade signage must attest that they have their system in place are are utilizing it to prioritze sign replacement.
A13: 3 | B13: Example Safety Improvements that may qualify to be 100% HSIP funded (see 23 U.S.C. 120 (c) for complete list):
B14: Roundabouts Traffic Signals Pavement Markings - Upgrade to meet minimum retroreflectivitiy standards New or Replacement Road Signs - i.e. to meet MUTCD retroreflectivity requirements Install centerline and shoulder rumble strips and stripes Install NEW guardrails - Not upgrade or improve existing NOTE: Guardrails that are deemed too low because of an overlay raised the pavement level are not eligible for HSIP funding to raise.
A15: 4 | B15: Additional Requirements
B16: The cover letter is the document that commits the agency to the safety project, how much HSIP funding is being requested,the source of additional funding if necessary, etc. A short summary of your application with B/C and Weighted Scores included. When completed please print and sign your letter and .pdf it along with the final version of this Excel application. The final version of the Excel application must include any modifications to project scope and project cost made during the project review process .
B17: The amount of HSIP funding shown in the Cost Estimate of the final Excel application MUST match the amount approved by COG/MPO if local OA is being used.
B18: ADOT is responsible for ensuring that all individual elements of a project are eligible. Eligibility does not give an agency authorization to begin work. Final eligibility and participation determinations (Federal Authorization) are retained by FHWA and any work performed prior to Federal Authorization are not eligible for reimbursement.
B19: Any changes in project cost above 20% will need to be re-submitted along with justification for eligibility and approval. If project cost increases <20%, the LPA needs to notify ADOT by email of increase with justification for the record prior to requesting increased Federal Authorization or inclusion in the TIP.
B20: Any changes in project scope or work limits will need to be re-submitted for eligibility determination and approval prior to award of construction contract.
B21: ADOT clearances and an executed IGA are required and must be completed prior to January 31, 20XX. If you are a Certified Acceptance (CA) Agency no IGA is required, but you are still required to have all clearances completed by May 1, 20XX.
B22: Merchandise, i.e. sign panels, signal heads, etc. must be installed within one year of purchase. Merchandise can not be stockpiled for future use.
B23: Supporting structures, i.e. guradrails for new end treatments, posts for signs, etc., must meet local minimum standards before federally funded upgrades can be added.
B24: Work must not be classified as maintenance such as normal operating expenses and routine repair. HSIP funds cannot be used to "salvage" items without crediting costs back to the project. HSIP funds cannot be used to "upgrade" items, but they can be used to bring an item up to current standards when replacing if they were substandard prior to approval of this project.
B25: If you are doing planning/study project; must result in a design/construction project. The B/C ratio analysis should be based on the most expensive alternative for consturcting the total cost of the safety countermeasure.
B26: Reimbursement for Installation: As indicated in 23 CFR 635.112(e): "No public agency shall be permitted to bid in competition or to enter into subcontracts with private contractors." There are no exceptions to this competitive bidding policy. However, under limited circumstances a public agency may be permitted to undertake efforts normally reserved for the private sector (Publicly Owned Equipment, Convict Produced Materials, and State Owned/Furnished/Designated Materials). Otherwise, unless it is an emergency situation or an attempt was made to bid installation competitively and was not successful, installation will not be eligible for Federal-aid reimbursement.
B27: Clearance Letters: Templates are provided for your use. Once you have received an executed IGA and federal authorization you can submit your clearance letters to the appropriate ADOT Technical Section. Required: Environmental, Utilities and Right of Way Clearance. Materials Memo may be required for certain types of work.
A28: 5 | B28: Countermeasures:
B29: The list of countermeasures included in the Tabs in this application is not an all-inclusive list, and only includes those 4 and 5 star countermeasures with fatal, serious and in some cases, minor injuries. The mix of contermeasures and CMFs included in this document is intended to meet ADOT's goal for a data-driven award process for all agencies to follow that allows for a fair and accurate compairson of project applications.
B30: Safety practitioners in the agency should evaluate the potentially applicable CMFs, eliminating any that are not appropriate for the countermeasure(s). Practioners should only choose the most appropriate CMFs for their specific project based on factors including but not limited to : urban areas vs rural areas; low vs high traffic volumes; 2-lane vs 6 lane roadways, manner of collision, etc. If there is not a published CMF for the countermeasure, then the project probably will not be eligibilbe for HSIP funding.
A31: 6 | B31: SFY16 Special Guidance:
B32: 1. Local HSIP Obligation Authority (OA) remains in place in SFY16. 2. Loans between COGs & MPOs are still valid for SFY17 and SFY18. 3. Loans between COGs & MPOs will not be recoginzed in SFY19. 4. If a COG/MPO chooses to submit a HSIP application(s) to ADOT for consideration as a potential HSIP project utilizing State FY17 HSIP funds, the total project cost has to exceed the local HSIP OA and the COG/MPO has to agree to transfer their TOTAL local HSIP OA for SFY17 to State HSIP if the project qualifies for HSIP funding. 5. Those applications submitted for consideration for State FY17 HSIP funding will be reviewed for eligibility determination along with other agency submittals, and projects meeting eligibility requirements will be ranked based on the “Weighted Score” in the application.

Sheet 2. Application
B1: Agency: | E1: Title of Project: | I1: "Title of Project" should be same as what will be recorded in the TIP or State 5-Year plan if eligibility is approved
B2: County: | E2: COG/MPO: | I2: Select County and COG/MPO from dropdowns.
B3: District: | E3: HSIP Funds: | I3: If State is selected and the project is eligible, the project will be considered with all other HSIP projects for the first available programming year. (For projects submitted in 2016, the first programming year is SFY17.) COG/MPO must transfer TOTAL local HSIP OA to State.
B4: Contact: | D4: Phone: | F4: E-Mail:
A6: Type of Safety Improvement: | D6: Spot: | F6: Systemic:
A7: Mark all that apply to your project: | I7: Planning is limited to Strategic Transportation Safety Plans at the COG/MPO level
A8: Anticipated Total Cost Estimate: | F8: ='4.100% LPA Install'!I30 -> 30000 | I8: Must match the Total Cost Estimate on Cost Estimate Tab and B/C Ratio Analysis Tab. Note: Minumin Amount $250,000.00
A9: Anticipated dollar amount of HSIP Funding: | F9: ='4.100% LPA Install'!F30 -> 30000 | I9: Note: These cells may or may not auto populate depending on which Cost Estimate Tab is completed!! Currently linked to Tab 4.
A10: Anticipated Dollar amount of Local Match (5.7%) (5.66%): | F10: ='4.100% LPA Install'!G30 -> 0 | I10: All project costs (all phases and funding sources) must be accounted for in this section, even if substantial elements of the overall project are to be funded by other sources.
A11: Anticipated Dollar amount of Other: | F11: ='4.100% LPA Install'!H30 -> 0
A12: Funding Source: | F12: Cost Estimate Tab: | I12: 94.34% is for Interstate projects only. Select from the dropdown which Tab you completed your Cost Estimate for this project on.
A13: Local Initiated Projects | I13: Local Set-Aside funding will be used for all elements (design, ROW, Utility, construction,etc.) for this project.
A14: Anticipated Design Year (Construction/procurement year cannot be the same): | I14: Federal Authorization must be obtained in SFY16 and design must start within 6 months of Federal Authorization. If project is eligible for FY17 must obtain FA within the first 6 months of FY17.
A15: If additional ROW is needed, what FY is purchase anticipated?: | I15: See Question 7 and 7a below.
A16: Anticipated Construction Year: | I16: Note: *FY16 Construction Funds can only be programmed for projects that are currently 100% designed. Construction must start within 30 months of design Federal Authorization.
A17: Administration of Project: | D17: Agency: | F17: ADOT: | I17: Note: Project Administration by the Agency requires approval from ADOT.
A18: If competing for State Funds, COG/MPO agrees to transfer TOTAL local HSIP OA to State.
A19: Name and Title of COG/MPO Representative: | I19: Name and title of COG/MPO representative authorized to transfer HSIP OA back to the State that concurs with this application.
A20: State Initiated Projects | I20: State Initiated Projects are requests being initiated by a State Agency.
A21: Anticipated Design Year (Construction/procurement year cannot be the same): | I21: Note: Federal Authorization must be obtained in SFY16 and design must start within 6 months of Federal Authorization. Construction must start within 30 months of design Federal Authorization.
A22: If additional ROW is needed, what FY is purchase anticipated?: | I22: Note: *FY19 ROW HSIP funding can only be programmed for projects that are currently 95% designed.
A23: Anticipated Construction Year: | I23: Note: *FY19 HSIP construction funding can only be programmed for projects that are currently 100% designed. All projects are subject to the same prioritization for the construction year as above.
A24: Basic Project Information | I24: Applicants are expected to submit complete applications based on a data-driven comprehensive safety evaluation of their agency's roadway infrastructure, traffic volumes and crash data.
A25: 1 | B25: Have lower cost countermeasures been considered or implemented?
A26: 1a. | B26: If "Yes", describe: If "No", explain why not:
A27: 2 | B27: Describe your safety improvement project in detail: (50 words or less)
A28: 2a. | I28: Note: HSIP eligible scope of work. Identify each countermeasure funds are being requested for. If the cost to implement the countermeasure does not represent at least 15% of the total construction cost, the applicant must NOT input the countermeasure in the application's B/C calculation. For example: A project proposing a new signal should NOT include coutermeasures for signing, striping, or minor median improvements as they are incidental elements of the new signal and do not represent stand-alone improvements. Work must not be classified as maintenance such as normal operating expenses and routine repair. Please include what the current item is and what you are upgrading to. A wearing surface treatment must be supported by friction related crashes and is not normally eligible.
A29: 3 | B29: Describe the location of this safety project:
A30: 3a. | I30: Describe the location and limits in detail. Example: The raised median will extend approximately 750 feet south and 1,100 feet north of the center of the intersection of Main Street and First Street. Attach a aerial screencapture (Bing, Google, etc.) with limits and dimensions shown. For "Systemic" Improvements describe project coverage such as Citywide, Townwide, Various Locations, all corridors, all school zones etc.
A31: 4 | B31: What crash data screening method was used to identify this project?
A32: 4a. | I32: Example: The Town just recently inventoried and identified signs that do not meet retro reflectivity requirements. Example: The City's Engineering Group utilized the sign inventory database to analyze and prioritize the sign replacement program. | J32: Example: The determination of the emergency preemption cards locations, the City used a systemic approach to identify key signalized intersections where safe passage for emergency vehicles was needed via emergency signal preemption. | N32: Example: The determination of pedestrian count down head locations, the City staff used a systematic approach that identified key "high-pedestrian" activity locations within the City. It was determined that all intersections along the existing Metro Light Rail Alignment experience heavy volumes of pedestrian traffic.
A33: 5 | B33: What is the safety justification for the proposed project?
A34: 5a. | I34: Note: Provide the safety justification for each proposed safety improvement . Example: Advanced Dilemma-Zone Detection is intended to safely control the major-road approaches to isolated signalized intersections, reducing the frequency of crashes associated with traffic signal phase change (for example, rear-end and angle crashes). | J34: Example: The intent of countdown pedestrian signals is to provide additional visual information to pedestrians crossing at signalized intersections. The countdown display indicates the number of seconds remaining for the pedestrian phase. It states in the 2009 edition of The Manual on Uniform Traffic Control Devices (MUTCD) by the US DOT FHWA, that pedestrian change interval countdown displays shall be used if the interval is more than seven seconds. At these intersections, it takes more than seven seconds to cross the street.
A35: 6 | B35: Will there be ground disturbing activities?
A36: 7 | B36: Is project within applicants permanent ROW?
A37: 7a. | B37: If NO please explain: | I37: Federal HSIP funds for Right-of-Way may not exceed 10% of the Total Construction Cost estimate.
A38: 8 | B38: Will any temporaty right-of-way acquisitions be required?
A39: 9 | B39: Will there be any utility relocation needed?
A40: 9a. | B40: If YES please explain: | I40: Federal HSIP funds for Utility relocation may not exceed 10% of the Total Construction Cost estimate.
A41: 10 | B41: Does Section 4(f) apply to any portion of this project? | I41: Section 4(f) governs the use of land from publicly owned parks, recreation areas, wildlife and waterfowl refuges, and public or private historic sites for Federal highway projects. Visit http://environment.fhwa.dot.gov/4f/4fpolicy.asp#part1 for the FHWA Section 4(f) Policy Paper.
...

Sheet 3. Cover Letter
A1: Instructions: (Required) Look for the red arrows and provide the information needed for those lines only. Many of the items will be auto filled based on your application. When you have completed the letter, print it out, sign and pdf a copy with your electronic application file.
F4: LOCAL AGENCY LETTERHEAD
G5: =TODAY() -> 42573
D9: Ms. Mona Aglan-Swick, P.E.
D10: Traffic Engineering Group, Traffic Safety Section
D11: Arizona Department of Transportation
D12: 1615 W. Jackson ST., MD 065R
D13: Phoenix, AZ 85007-3217
D16: RE: | E16: Highway Safety Improvement Program (HSIP) Project Determination and Application
E17: COG/MPO:
E18: Agency: | G18: =IF('2. Application'!C1="","",'2. Application'!C1)
E19: Project Name: | G19: =IF('2. Application'!F1="","",'2. Application'!F1)
E20: Project Location: | G20: =IF('2. Application'!B30="","",'2. Application'!B30)
D22: Dear | E22: Ms. Aglan-Swick:
A24: Must identify each countermeasure that is included in the project. What are you asking for, the potential reduction of similar crashes, how much HSIP funding and your commitment to the Safety Project., etc. The State SHSP emphasis area(s) and supporting implementation strategy(ies) is required. If a COG/MPO has adopted their own Strategic Highway Safety Plan, then the local emphasis area(s) must also be identified. If the total project cost exceeds the COG/MPO's OA, then the proposed funding source needs to be idenitified i.e. local funds, STP, CMAQ, etc. If it is an ADOT project, then the proposed FY for design and FY for construction must be shown. It is important for the requestor to understand that additional HSIP funding exceeding this request will not be available at a later date. The requestor is committing to providing the additional funds from other sources. The agency also agrees to maintain the countermeasure at or above the standard(s) to which it was installed. The agency must state that they understand that HSIP funds can only be used once to install a countermeasure. The agency must agree to maintaining conducting a before-and-after study every year (yearly submittal) with the final study submitted three years after installation. | D24: The [ insert agency name ] is submitting herewith a project application for [state or local] Highway Safety Improvement Program (HSIP) funding. This road safety improvement project was identified through the [state or local] network crash data screening process and meets all requirements of Title 23. The proposed request is for the [describe each countermeasure being constructed or the safety item being procured and the limits of the project] and [does/does not] include any non-infrastructure funding request. [Describe how the installation or procurement of this countermeasure will correct or improve the highway safety problem.] [Insert a statement that indicates who is doing the work i.e. City Staff or Contractor]. [Insert a statement that there will or will not be ground distrubing activities or utility relocations anticipated.]
D25: [This paragraph has to identify how many crashes that occurred during the most recent 5-year period that the proposed countermeasure is based on. ] [i.e. intersection related pedestrian crashes for pedestrian countdown heads] During the most recent five year period ending xxxxxx 20xx, the City/Town experienced xxx total pederstrian intersection related crashes including xx fatal and xx incapacitating crashes. With a Crash Reduction Factor (CRF) of xx% obtained from the ADOT 4/5 Star [or other ADOT prior approved CRF] list for all pedestrian crashes, the City/Town could see a 5-year reduction of xxx crashes including xx fatal and xx serious injury crashes. [Contact ADOT Traffic Section for this information if you do not have it available.]
D26: [ insert agency name ] has determined that, in accordance with 23 USC 148(a)(4))(A), this project is consistent with the [COG/MPO's and] State's 2014 SHSP. It supports [insert appropriate emphasis area(s) and supporting strategy for one or both of the SHSPs]. B/C Ratio = xx (Element 41 in Application, Tab 2) Weighted HSIP Score = xx (Element 41 in Application, Tab 2)
D27: [ insert agency name ] has estimated the total project cost of this project to be $xxx,xxx. Of that amount request ADOT determine if $xx,xxx is HSIP eligible, with $xx,xxx being non-HSIP eligible, $xx,xxx being local match, and $xxx,xxx being Other funds (if appropriate). In accordance with Title 23, the Federal share for safety improvement items are eligible to be funded at 100% or 94.3% [which is appropriate]Federal share per 23 U.S.C. 120(c) as described in Code of Federal Register 23 CFR Part 924. Therefore, the [ insert agency name ] does not propose to contribute any local match for the above mentioned project or proposes committing the 5.7% local match in the amount of $XXXX. Furthermore, the [ insert agency name ] is not requesting reimbursement for staff time for installation. [if applicable] Table x summarizes the anticipated cost estimate projected for this project.
D29: [insert agency name] is aware that, if funded, additional HSIP funds above the attached estimated cost are not available to pay for excess costs and that other funds whether STP, local or other will have to provided or secured by [insert agency name] to cover the additional costs or the project will have to be withdrawn and resbumitted in the next call-for-projects. [insert agency name] agrees to conduct and provide to ADOT TSS on a yearly basis a written before-and-after study utilizing the same crash data included in the countermeasure influence area in order to determine the effectiveness of the conuntermeasure on fatal and serious injury crashes.
D31: [insert agency name] further understands that Federal funds can only be used once to install or upgrade either a spot or systemic countermeasure and that once installed, the [insert agency name] will maintain the countermeasure at or above the standard to which it was installed.
A33: replace the XXXX with your phone and email address | D33: If you have any questions, please contact me at XXX-XXX-XXXX or email XXXXXXXX@XXXXXXX.XXX .
D35: Sincerely,
A36: print this page and sign
A40: type your name & title | D40: your name & title
A41: type your section | D41: your section/department
A42: type your street address | D42: address
A43: type your city, state and zip code | D43: city, state and zip code
A46: customize to your project | D46: Attachments: | F46: Application (excel format) to include cost estimate, vicinity map and/or list of locations
F47: Study/RSA Reports
A48: After printing the cover/transmittal letter on agency letterhead, scan the letter into a pdf document. Submit electronically with all other documentation. ADOT does not require a hard copy. | F48: B/C Ratio and Crash Data
F49: Grant Proposal and Non-acceptance Documentation (Non-infrastructure element)

Sheet 4.100% LPA Install
A1: Agency: | B1: ='2. Application'!C1 | C1: Name of Project: | D1: Procurement of Sign Panels - Local Agency Staff Installs | K1: Insert Title of Project
A3: HSIP Project Cost Estimate Worksheet
A4: Project Cost Estimate: | B4: Description: | C4: Quantity: | D4: Cost (Unit): | E4: Total Cost | F4: HSIP: | G4: Local Match: | H4: Other Amt: | I4: TOTAL COST
F5: 1 | G5: 0 | H5: 0 | K5: Change Percentage based on if a local match is required.
A6: Planning or Study: | C6: 0 | D6: 0 | E6: =(C6*D6) -> 0 | F6: =ROUND(D6*$F$5,2) -> 0 | G6: =ROUND(D6*$G$5,2) -> 0 | H6: 0 | I6: =SUM(F6:H6) -> 0 | K6: HSIP 100% or 94.3% | M6: LocaL Match 0% or 5.7%
A7: Preliminary Engineering: | C7: 0 | D7: 0 | E7: =(C7*D7) -> 0 | F7: =ROUND(D7*$F$5,2) -> 0 | G7: =ROUND(D7*$G$5,2) -> 0 | H7: 0 | I7: =SUM(F7:H7) -> 0
A8: ADOT Admin Costs: | C8: 1 | D8: 30000 | E8: =(C8*D8) -> 30000 | F8: =ROUND(D8*$F$5,2) -> 30000 | G8: =ROUND(D8*$G$5,2) -> 0 | H8: 0 | I8: =SUM(F8:H8) -> 30000 | K8: Fixed Cost
A9: Sub-Total | D9: =SUM(D6:D8) -> 30000 | E9: =SUM(E6:E8) -> 30000 | F9: =SUM(F6:F8) -> 30000 | G9: =SUM(G6:G8) -> 0 | H9: =SUM(H6:H8) -> 0 | I9: =SUM(I6:I8) -> 30000
A10: Materials: | B10: RWM Signs (SF) | C10: 0 | D10: 0 | E10: =(C10*D10) -> 0 | F10: =ROUND(D10*$F$5*C10,2) -> 0 | G10: =ROUND(D10*$G$5*C10,2) -> 0 | H10: 0 | I10: =SUM(F10:H10) -> 0 | K10: Cost varies between $10.00 - $25.00 SF for .08 in thick RWM signs depending on qty.
A11: Materials: | B11: Mounting Hardware (ea) | C11: 0 | D11: 0 | E11: =(C11*D11) -> 0 | F11: =ROUND(D11*$F$5*C11,2) -> 0 | G11: =ROUND(D11*$G$5*C11,2) -> 0 | H11: 0 | I11: =SUM(F11:H11) -> 0 | K11: Lump sum costs will not be approved. As a minimum, costs have to be be broken out by the countermeasures identified in the application and cover letter.
A12: Materials: | C12: 0 | D12: 0 | E12: =(C12*D12) -> 0 | F12: =ROUND(D12*$F$5*C12,2) -> 0 | G12: =ROUND(D12*$G$5*C12,2) -> 0 | H12: 0 | I12: =SUM(F12:H12) -> 0
A13: Materials: | C13: 0 | D13: =D10*C13 -> 0 | E13: =(C13*D13) -> 0 | F13: =ROUND(D13*$F$5*C13,2) -> 0 | G13: =ROUND(D13*$G$5*C13,2) -> 0 | H13: 0 | I13: =SUM(F13:H13) -> 0
A14: Materials: | C14: 0 | D14: 0 | E14: =(C14*D14) -> 0 | F14: =ROUND(D14*$F$5*C14,2) -> 0 | G14: =ROUND(D14*$G$5*C14,2) -> 0 | H14: 0 | I14: =SUM(F14:H14) -> 0
A15: Materials: | C15: 0 | D15: 0 | E15: =(C15*D15) -> 0 | F15: =ROUND(D15*$F$5*C15,2) -> 0 | G15: =ROUND(D15*$G$5*C15,2) -> 0 | H15: 0 | I15: =SUM(F15:H15) -> 0
A16: Materials Sub-Total: | E16: =SUM(E10:E15) -> 0 | F16: =SUM(F10:F15) -> 0 | G16: =SUM(G10:G15) -> 0 | H16: =SUM(H10:H15) -> 0 | I16: =SUM(I10:I15) -> 0 | K16: NOTE: LPAs are responsible to order and to initially pay for locally installed items. ADOT will reimburse the LPA 80% of PO amount upon inspection of delivered items. The remaining 20% will be paid after final inspection of the installed items.
A17: Sales Tax | C17: 0.1 | E17: =(C17*E16) -> 0 | F17: =(C17*F16) -> 0 | G17: =(C17*G16) -> 0 | H17: =(C17*H16) -> 0 | I17: =(C17*I16) -> 0
A18: Sub-Total | D18: =SUM(D16:D17) -> 0 | E18: =SUM(E16:E17) -> 0 | F18: =SUM(F16:F17) -> 0 | G18: =SUM(G16:G17) -> 0 | H18: =SUM(H16:H17) -> 0 | I18: =SUM(I16:I17) -> 0
A19: Construction Admin : | C19: 0.14 | F19: =ROUND($C$19*F18,2) -> 0 | G19: =ROUND($C$19*G18,2) -> 0 | H19: 0 | I19: =F19+G19+H19 -> 0
A20: Contingencies : | C20: 0.05 | F20: =ROUND($C$20*F18,2) -> 0 | G20: =ROUND($C$20*G18,2) -> 0 | H20: 0 | I20: =F20+G20+H20 -> 0
A21: Post Design: | C21: 0.01 | F21: =ROUND($C$21*F18,2) -> 0 | G21: =ROUND(D21*$G$5,2) -> 0 | H21: 0 | I21: =F21+G21+H21 -> 0
C22: 0 | F22: =ROUND(C22*F18,2) -> 0 | G22: =ROUND(D22*$G$5,2) -> 0 | H22: 0 | I22: =SUM(F22:H22) -> 0
C23: 0 | F23: =ROUND(E23*$F$5,2) -> 0 | G23: =ROUND(D23*$G$5,2) -> 0 | H23: 0 | I23: =SUM(F23:H23) -> 0
C24: 0 | F24: =ROUND(E24*$F$5,2) -> 0 | G24: =ROUND(D24*$G$5,2) -> 0 | H24: 0 | I24: =SUM(F24:H24) -> 0
C25: 0 | F25: =ROUND(E25*$F$5,2) -> 0 | G25: =ROUND(D25*$G$5,2) -> 0 | H25: 0 | I25: =SUM(F25:H25) -> 0
C26: 0 | F26: =ROUND(E26*$F$5,2) -> 0 | G26: =ROUND(D26*$G$5,2) -> 0 | H26: 0 | I26: =SUM(F26:H26) -> 0
C27: 0 | F27: =ROUND(E27*$F$5,2) -> 0 | G27: =ROUND(D27*$G$5,2) -> 0 | H27: 0 | I27: =SUM(F27:H27) -> 0
A28: Sub-Total | E28: =SUM(E19:E27) -> 0 | F28: =SUM(F19:F27) -> 0 | G28: =SUM(G19:G27) -> 0 | H28: =SUM(H19:H27) -> 0 | I28: =SUM(I19:I27) -> 0
I29: =C29*D29 -> 0
A30: TOTAL REQUEST | F30: =F9+F18+F28 -> 30000 | G30: =G9+G18+G28 -> 0 | H30: =H9+H18+H28 -> 0 | I30: =I9+I18+I28 -> 30000 | K30: Total Cost associated with the design, ROW acquisition, and construction even if no federal HSIP funding will be used to complete the phase. Minimum cost $250,000.
A32: Comments:
A38: NOTE: For HSIP funds, project costs exceeding the TOTAL REQUEST have to be obtained from other than HSIP funding.

Sheet 5.100% Contract Install
A1: Agency: | B1: ='2. Application'!C1 | C1: Name of Project: | D1: Procurement of Sign Panels - Contractor Installed | K1: Change Name of Project to your project's name.
A3: HSIP Project Cost Estimate Worksheet
A4: Project Cost Estimate: | B4: Description: | C4: Quantity: | D4: Cost (Unit): | E4: Total Cost | F4: HSIP: | G4: Local Match: | H4: Other Amt: | I4: TOTAL COST
F5: 1 | G5: 0 | H5: 0 | K5: Change Percentage based on if a local match is required.
A6: Planning or Study: | C6: 0 | D6: 0 | E6: =(C6*D6) -> 0 | F6: =ROUND(D6*$F$5,2) -> 0 | G6: =ROUND(D6*$G$5,2) -> 0 | H6: 0 | I6: =SUM(F6:H6) -> 0 | K6: HSIP 100% or 94.3% | M6: LocaL Match 0% or 5.7%
A7: Preliminary Engineering: | C7: 0 | D7: 0 | E7: =(C7*D7) -> 0 | F7: =ROUND(D7*$F$5,2) -> 0 | G7: =ROUND(D7*$G$5,2) -> 0 | H7: 0 | I7: =SUM(F7:H7) -> 0
A8: ADOT Admin Costs: | C8: 1 | D8: 30000 | E8: =(C8*D8) -> 30000 | F8: =ROUND(D8*$F$5,2) -> 30000 | G8: =ROUND(D8*$G$5,2) -> 0 | H8: 0 | I8: =SUM(F8:H8) -> 30000 | K8: Fixed Cost
A9: Sub-Total | D9: =SUM(D6:D8) -> 30000 | E9: =SUM(E6:E8) -> 30000 | F9: =SUM(F6:F8) -> 30000 | G9: =SUM(G6:G8) -> 0 | H9: =SUM(H6:H8) -> 0 | I9: =SUM(I6:I8) -> 30000
A10: Materials: | B10: RWM Signs (SF) | C10: 1000 | D10: 20 | E10: =(C10*D10) -> 20000 | F10: =ROUND(D10*$F$5*C10,2) -> 20000 | G10: =ROUND(D10*$G$5*C10,2) -> 0 | H10: 0 | I10: =SUM(F10:H10) -> 20000 | K10: Cost varies between $20.00 - $35.00 SF for .08 in thick RWM signs depending on qty.
A11: Materials: | B11: Mounting Hardware (ea) | C11: 500 | D11: 6 | E11: =(C11*D11) -> 3000 | F11: =ROUND(D11*$F$5*C11,2) -> 3000 | G11: =ROUND(D11*$G$5*C11,2) -> 0 | H11: 0 | I11: =SUM(F11:H11) -> 3000
A12: Materials: | C12: 0 | D12: 0 | E12: =(C12*D12) -> 0 | F12: =ROUND(D12*$F$5*C12,2) -> 0 | G12: =ROUND(D12*$G$5*C12,2) -> 0 | H12: 0 | I12: =SUM(F12:H12) -> 0 | K12: Lump sum costs will not be approved. As a minimum, costs have to be be broken out by the countermeasures identified in the application and cover letter.
A13: Materials: | C13: 0 | D13: =D10*C13 -> 0 | E13: =(C13*D13) -> 0 | F13: =ROUND(D13*$F$5*C13,2) -> 0 | G13: =ROUND(D13*$G$5*C13,2) -> 0 | H13: 0 | I13: =SUM(F13:H13) -> 0
A14: Materials: | C14: 0 | D14: 0 | E14: =(C14*D14) -> 0 | F14: =ROUND(D14*$F$5*C14,2) -> 0 | G14: =ROUND(D14*$G$5*C14,2) -> 0 | H14: 0 | I14: =SUM(F14:H14) -> 0
A15: Materials: | C15: 0 | D15: 0 | E15: =(C15*D15) -> 0 | F15: =ROUND(D15*$F$5*C15,2) -> 0 | G15: =ROUND(D15*$G$5*C15,2) -> 0 | H15: 0 | I15: =SUM(F15:H15) -> 0
A16: Materials Sub-Total: | E16: =SUM(E10:E15) -> 23000 | F16: =SUM(F10:F15) -> 23000 | G16: =SUM(G10:G15) -> 0 | H16: =SUM(H10:H15) -> 0 | I16: =SUM(I10:I15) -> 23000
A17: Traffic Control: | C17: 0.1 | E17: =(C17*E16) -> 2300 | F17: =(C17*F16) -> 2300 | G17: =(C17*G16) -> 0 | H17: =(C17*H16) -> 0 | I17: =(C17*I16) -> 2300
A18: Mobilization: | C18: 0.1 | E18: =C18*E16 -> 2300 | F18: =C18*F16 -> 2300 | G18: =C18*G16 -> 0 | H18: =C18*H16 -> 0 | I18: =C18*I16 -> 2300
A19: Sub-Total | D19: =SUM(D16:D17) -> 0 | E19: =SUM(E16:E17) -> 25300 | F19: =SUM(F16:F17) -> 25300 | G19: =SUM(G16:G17) -> 0 | H19: =SUM(H16:H17) -> 0 | I19: =SUM(I16:I17) -> 25300
A20: Construction Admin : | C20: 0.14 | F20: =ROUND($C$20*F19,2) -> 3542 | G20: =ROUND($C$20*G19,2) -> 0 | H20: 0 | I20: =F20+G20+H20 -> 3542
A21: Contingencies : | C21: 0.05 | F21: =ROUND($C$21*F19,2) -> 1265 | G21: =ROUND($C$21*G19,2) -> 0 | H21: 0 | I21: =F21+G21+H21 -> 1265
A22: Post Design: | C22: 0.01 | F22: =ROUND($C$22*F19,2) -> 253 | G22: =ROUND(D22*$G$5,2) -> 0 | H22: 0 | I22: =F22+G22+H22 -> 253
A23: Communications | C23: 0.05 | F23: =ROUND(C23*F19,2) -> 1265 | G23: =ROUND(D23*$G$5,2) -> 0 | H23: 0 | I23: =SUM(F23:H23) -> 1265
C24: 0 | F24: =ROUND(E24*$F$5,2) -> 0 | G24: =ROUND(D24*$G$5,2) -> 0 | H24: 0 | I24: =SUM(F24:H24) -> 0
C25: 0 | F25: =ROUND(E25*$F$5,2) -> 0 | G25: =ROUND(D25*$G$5,2) -> 0 | H25: 0 | I25: =SUM(F25:H25) -> 0
C26: 0 | F26: =ROUND(E26*$F$5,2) -> 0 | G26: =ROUND(D26*$G$5,2) -> 0 | H26: 0 | I26: =SUM(F26:H26) -> 0
C27: 0 | F27: =ROUND(E27*$F$5,2) -> 0 | G27: =ROUND(D27*$G$5,2) -> 0 | H27: 0 | I27: =SUM(F27:H27) -> 0
C28: 0 | F28: =ROUND(E28*$F$5,2) -> 0 | G28: =ROUND(D28*$G$5,2) -> 0 | H28: 0 | I28: =SUM(F28:H28) -> 0
A29: Sub-Total | F29: =SUM(F20:F28) -> 6325 | G29: =SUM(G20:G28) -> 0 | H29: =SUM(H20:H28) -> 0 | I29: =SUM(I20:I28) -> 6325
I30: =C30*D30 -> 0
A31: TOTAL REQUEST | F31: =F9+F19+F29 -> 61625 | G31: =G9+G19+G29 -> 0 | H31: =H9+H19+H29 -> 0 | I31: =I9+I19+I29 -> 61625 | K31: Total Cost associated with the design, ROW acquisition, and construction even if no federal HSIP funding will be used to complete the phase. Minimum cost $250,000.
A33: Comments:

Sheet 6. Phased Cost Est.
A1: Agency: | C1: Name of Project: | D1: Inventory/Procure Regulatory/Warning/Streetname Signs and phased local agency install
A3: Project Cost Estimate Worksheet
A4: Project Cost Estimate: | B4: Description: | C4: Quantity: | D4: Cost (Unit): | E4: Total Cost | F4: HSIP: | G4: Local Match: | H4: Other Amt: | I4: TOTAL COST
F5: 1 | G5: 0 | H5: 0
A6: Preliminary Engineering: | C6: 1 | D6: 100000 | E6: =ROUND(C6*D6,2) -> 100000 | F6: =ROUND(D6*$F$5,2) -> 100000 | G6: =ROUND(D6*$G$5,2) -> 0 | H6: 0 | I6: =SUM(F6:H6) -> 100000 | K6: Sign Mgt Software & Inventory
A7: ADOT Admin Costs - Phase 1: | C7: 1 | D7: 30000 | E7: =ROUND(C7*D7,2) -> 30000 | F7: =ROUND(D7*$F$5,2) -> 30000 | G7: =ROUND(D7*$G$5,2) -> 0 | H7: 0 | I7: =SUM(F7:H7) -> 30000 | K7: ADOT PM Cost Only
A8: Total Phase 1 - Project Year 1 | E8: =SUM(E6:E7) -> 130000 | F8: =SUM(F6:F7) -> 130000 | G8: =SUM(G6:G7) -> 0 | H8: =SUM(H6:H7) -> 0 | I8: =SUM(I6:I7) -> 130000
A9: ADOT Admin Costs-Year 2: | C9: 1 | D9: 30000 | E9: =ROUND(C9*D9,2) -> 30000 | F9: =ROUND(D9*$F$5,2) -> 30000 | G9: =ROUND(D9*$G$5,2) -> 0 | H9: 0 | I9: =SUM(F9:H9) -> 30000 | K9: ADOT Traffic Design Prep. Specs.
A10: Materials: | B10: Regulatory Signs | C10: 1 | D10: 50 | E10: =ROUND(C10*D10,2) -> 50 | F10: =ROUND(D10*$F$5*C10,2) -> 50 | G10: =ROUND(D10*$G$5*C10,2) -> 0 | H10: 0 | I10: =SUM(F10:H10) -> 50
A11: Materials: | B11: Mounting Hardware | C11: 1 | D11: 6 | E11: =ROUND(C11*D11,2) -> 6 | F11: =ROUND(D11*$F$5*C11,2) -> 6 | G11: =ROUND(D11*$G$5*C11,2) -> 0 | H11: 0 | I11: =SUM(F11:H11) -> 6
A12: Sub-Total Material Cost - Phase 2 | E12: =SUM(E10:E11) -> 56 | F12: =SUM(F10:F11) -> 56 | G12: =SUM(G10:G11) -> 0 | H12: =SUM(H10:H11) -> 0 | I12: =SUM(I10:I11) -> 56
A13: Sales Tax: | C13: 0.1 | E13: =ROUND(E12*C13,2) -> 5.6 | F13: =ROUND(F12*C13,2) -> 5.6 | G13: $ | H13: $ | I13: =SUM(F13:H13) -> 5.6
A14: Equipment and Installation Sub-Total Phase 2 - Year 2 | E14: =SUM(E12:E13) -> 61.6 | F14: =SUM(F12:F13) -> 61.6 | G14: =SUM(G10:G10) -> 0 | H14: =SUM(H10:H10) -> 0 | I14: =SUM(I12:I13) -> 61.6
A15: Construction Admin : | C15: 0.14 | E15: =ROUND(E14*C15,2) -> 8.62 | F15: =ROUND(C15*F14,2) -> 8.62 | G15: $ | H15: 0 | I15: =F15 -> 8.62
A16: Contingencies : | C16: 0.05 | E16: =ROUND(E14*C16,2) -> 3.08 | F16: =ROUND(C16*F14,2) -> 3.08 | G16: $ | H16: 0 | I16: =F16 -> 3.08
A17: Post Design: | C17: 0.01 | E17: =ROUND(E14*C17,2) -> 0.62 | F17: =ROUND(C17*F14,2) -> 0.62 | G17: $ | H17: $ | I17: =F17 -> 0.62
A18: Administration Sub-Total Phase 2 - Year 2 | E18: =SUM(E15:E17) -> 12.32 | F18: =SUM(F15:F17) -> 12.32 | G18: =SUM(G15:G17) -> 0 | H18: =SUM(H15:H17) -> 0 | I18: =SUM(I15:I17) -> 12.32
A19: Total Phase 2 - Project Year 2 | E19: =SUM(E9+F14+E18) -> 30073.92 | F19: =F9+F14+F18 -> 30073.92 | G19: =G14+G18 -> 0 | H19: =H14+H18 -> 0 | I19: =I9+I14+I18 -> 30073.92
A20: ADOT Admin Costs-Year 3: | C20: 1 | D20: 15000 | E20: =ROUND(C20*D20,2) -> 15000 | F20: =ROUND(D20*$F$5,2) -> 15000 | G20: =ROUND(D20*$G$5,2) -> 0 | H20: 0 | I20: =SUM(F20:H20) -> 15000 | K20: ADOT Traffic Design Prep. Sign Lists
A21: Materials: | B21: Regulatory Signs | C21: 1 | D21: 50 | E21: =ROUND(C21*D21,2) -> 50 | F21: =ROUND(D21*$F$5*C21,2) -> 50 | G21: =ROUND(D21*$G$5*C21,2) -> 0 | H21: 0 | I21: =SUM(F21:H21) -> 50
A22: Materials: | B22: Mounting Hardware | C22: 1 | D22: 6 | E22: =ROUND(C22*D22,2) -> 6 | F22: =ROUND(D22*$F$5*C22,2) -> 6 | G22: =ROUND(D22*$G$5*C22,2) -> 0 | H22: 0 | I22: =SUM(F22:H22) -> 6 | K22: Lump sum costs will not be approved. As a minimum, costs have to be be broken out by the countermeasures identified in the application and cover letter.
A23: Sub-Total Material Cost - Phase 3 | E23: =SUM(E21:E22) -> 56 | F23: =SUM(F21:F22) -> 56 | G23: =SUM(G21:G22) -> 0 | H23: =SUM(H21:H22) -> 0 | I23: =SUM(I21:I22) -> 56
A24: Sales Tax: | C24: 0.1 | E24: =ROUND(C24*E23,2) -> 5.6 | F24: =ROUND(C24*F23,2) -> 5.6 | I24: =SUM(F24:H24) -> 5.6
A25: Equipment and Installation Sub-Total Phase 3 - Year 3 | E25: =SUM(E23:E24) -> 61.6 | F25: =SUM(F23:F24) -> 61.6 | G25: =SUM(G21:G21) -> 0 | H25: =SUM(H21:H21) -> 0 | I25: =SUM(I23:I24) -> 61.6
A26: Construction Admin : | C26: 0.14 | E26: =ROUND(C26*E25,2) -> 8.62 | F26: =ROUND(C26*F25,2) -> 8.62 | G26: $ | H26: 0 | I26: =F26 -> 8.62
A27: Contingencies : | C27: 0.05 | E27: =ROUND(C27*E25,2) -> 3.08 | F27: =ROUND(C27*F25,2) -> 3.08 | G27: $ | H27: 0 | I27: =F27 -> 3.08
A28: Post Design: | C28: 0.01 | E28: =ROUND(C28*E25,2) -> 0.62 | F28: =ROUND(C28*F25,2) -> 0.62 | I28: =F28 -> 0.62
A29: Administration Sub-Total Phase 3 - Year 3 | E29: =SUM(E26:E28) -> 12.32 | F29: =SUM(F26:F28) -> 12.32 | G29: =SUM(G26:G28) -> 0 | H29: =SUM(H26:H28) -> 0 | I29: =SUM(I26:I28) -> 12.32
A30: Total Phase 3 - Project Year 3 | E30: =ROUND(E20+E25+E29,2) -> 15073.92 | F30: =F20+F25+F29 -> 15073.92 | G30: =G25+G29 -> 0 | H30: =H25+H29 -> 0 | I30: =I20+I25+I29 -> 15073.92
A31: ADOT Admin Costs-Year 4: | C31: 1 | D31: 15000 | E31: =ROUND(C31*D31,2) -> 15000 | F31: =ROUND(D31*$F$5,2) -> 15000 | G31: =ROUND(D31*$G$5,2) -> 0 | H31: 0 | I31: =SUM(F31:H31) -> 15000 | K31: ADOT Traffic Design Prep. Sign Lists
A32: Materials: | B32: Regulatory Signs | C32: 1 | D32: 50 | E32: =ROUND(C32*D32,2) -> 50 | F32: =ROUND(D32*$F$5*C32,2) -> 50 | G32: =ROUND(D32*$G$5*C32,2) -> 0 | H32: 0 | I32: =SUM(F32:H32) -> 50
A33: Materials: | B33: Mounting Hardware | C33: 1 | D33: 6 | E33: =ROUND(C33*D33,2) -> 6 | F33: =ROUND(D33*$F$5*C33,2) -> 6 | G33: =ROUND(D33*$G$5*C33,2) -> 0 | H33: 0 | I33: =SUM(F33:H33) -> 6
A34: Sub-Total Material Cost - Phase 4 | E34: =SUM(E32:E33) -> 56 | F34: =SUM(F32:F33) -> 56 | G34: =SUM(G32:G33) -> 0 | H34: =SUM(H32:H33) -> 0 | I34: =SUM(I32:I33) -> 56
A35: Sales Tax: | C35: 0.1 | E35: =ROUND(C35*E34,2) -> 5.6 | F35: =ROUND(C35*F34,2) -> 5.6 | G35: $ | H35: $ | I35: =F35 -> 5.6
A36: Equipment and Installation Sub-Total Phase 4 - Year 4 | E36: =SUM(E34:E35) -> 61.6 | F36: =SUM(F34:F35) -> 61.6 | G36: =SUM(G32:G32) -> 0 | H36: =SUM(H32:H32) -> 0 | I36: =SUM(I34:I35) -> 61.6
A37: Construction Admin : | C37: 0.14 | E37: =ROUND(C37*E36,2) -> 8.62 | F37: =ROUND(C37*F36,2) -> 8.62 | G37: $ | H37: 0 | I37: =F37 -> 8.62
A38: Contingencies : | C38: 0.05 | E38: =ROUND(C38*E36,2) -> 3.08 | F38: =ROUND(C38*F36,2) -> 3.08 | G38: $ | H38: 0 | I38: =F38 -> 3.08
A39: Post Design: | C39: 0.01 | E39: =ROUND(C39*E36,2) -> 0.62 | F39: =ROUND(C39*F36,2) -> 0.62 | I39: =F39 -> 0.62
A40: Administration Sub-Total Phase 2 - Year 2 | E40: =SUM(E37:E39) -> 12.32 | F40: =SUM(F37:F39) -> 12.32 | G40: =SUM(G37:G39) -> 0 | H40: =SUM(H37:H39) -> 0 | I40: =SUM(I37:I39) -> 12.32
A41: Total Phase 4 - Project Year 4 | E41: =ROUND(E31+E36+E40,2) -> 15073.92 | F41: =F31+F36+F40 -> 15073.92 | G41: =G36+G40 -> 0 | H41: =H36+H40 -> 0 | I41: =I31+I36+I40 -> 15073.92
...

Sheet 7. 94.3% Cost Estimate
A1: Agency: | B1: ='2. Application'!C1 | C1: Name of Project: | E1: Procurement of Safety Items not 100% HSIP eligible (no contractor)
A3: HSIP Project Cost Estimate Worksheet
A4: Project Cost Estimate: | B4: Description: | C4: Quantity: | D4: Unit Cost: | E4: Total Cost: | F4: HSIP: | G4: Local Match: | H4: Other Amt: | I4: TOTAL COST
F5: 0.943 | G5: 0.057 | H5: 0 | K5: Change Percentage based on if a local match is required.
A6: Planning or Study: | C6: 0 | D6: 0 | E6: 0 | F6: =ROUND(E6*$F$5,2) -> 0 | G6: =ROUND(E6*$G$5,2) -> 0 | H6: 0 | I6: =SUM(F6:H6) -> 0 | K6: HSIP 100%, 94.3% or 94.34% | M6: LocaL Match 5.7%, 5.66% or 0% | P6: (5.66% is for Interstate projects only)
A7: Preliminary Engineering: | C7: 0 | D7: 0 | E7: 0 | F7: =ROUND(E7*$F$5,2) -> 0 | G7: =ROUND(E7*$G$5,2) -> 0 | H7: 0 | I7: =SUM(F7:H7) -> 0
A8: Non-Infastructure (NI) Elements: | C8: 0 | D8: 0 | E8: 0 | F8: =ROUND(E8*$F$5,2) -> 0 | G8: =ROUND(E8*$G$5,2) -> 0 | H8: 0 | I8: =SUM(F8:H8) -> 0 | K8: All NI elements must be highway safety-related and directly support the proposed safety countermeasure.
A9: ADOT Admin Costs: | C9: 1 | D9: 30000 | E9: 30000 | F9: =ROUND(E9*$F$5,2) -> 28290 | G9: =ROUND(E9*$G$5,2) -> 1710 | H9: 0 | I9: =SUM(F9:H9) -> 30000
A10: Sub-Total | E10: =SUM(E6:E9) -> 30000 | F10: =SUM(F5:F9) -> 28290.943 | G10: =SUM(G6:G9) -> 1710 | H10: =SUM(H6:H9) -> 0 | I10: =SUM(I6:I9) -> 30000 | K10: Lump sum costs will not be approved. As a minimum, costs have to be be broken out by the countermeasures identified in the application and cover letter.
A11: Construction: | C11: 0 | E11: 0 | F11: =ROUND(E11*$F$5,2) -> 0 | G11: =ROUND(E11*$G$5,2) -> 0 | H11: 0 | I11: =SUM(F11:H11) -> 0
A12: Materials: | B12: Item not 100% HSIP eligible | C12: 4000 | D12: 20 | E12: =(C12*D12) -> 80000 | F12: =ROUND(E12*$F$5,2) -> 75440 | G12: =ROUND(E12*$G$5,2) -> 4560 | H12: 0 | I12: =SUM(F12:H12) -> 80000
A13: Materials: | C13: 0 | E13: =(C13*D13) -> 0 | F13: =ROUND(E13*$F$5,2) -> 0 | G13: =ROUND(E13*$G$5,2) -> 0 | H13: 0 | I13: =SUM(F13:H13) -> 0
A14: Materials: | C14: 0 | E14: =(C14*D14) -> 0 | F14: =ROUND(E14*$F$5,2) -> 0 | G14: =ROUND(E14*$G$5,2) -> 0 | H14: 0 | I14: =SUM(F14:H14) -> 0
A15: Materials: | C15: 0 | E15: =(C15*D15) -> 0 | F15: =ROUND(E15*$F$5,2) -> 0 | G15: =ROUND(E15*$G$5,2) -> 0 | H15: 0 | I15: =SUM(F15:H15) -> 0
A16: Materials: | C16: 0 | E16: =(C16*D16) -> 0 | F16: =ROUND(E16*$F$5,2) -> 0 | G16: =ROUND(E16*$G$5,2) -> 0 | H16: 0 | I16: =SUM(F16:H16) -> 0
A17: Materials Sub-Total | C17: 0 | E17: =SUM(E11:E16) -> 80000 | F17: =SUM(F11:F16) -> 75440 | G17: =SUM(G11:G16) -> 4560 | H17: =SUM(H11:H16) -> 0 | I17: =SUM(I11:I16) -> 80000
A18: Sales Tax: | C18: 0.1 | E18: =(C18*E17) -> 8000 | F18: =ROUND(E18*$F$5,2) -> 7544 | G18: =ROUND(E18*$G$5,2) -> 456 | H18: 0 | I18: =SUM(F18:H18) -> 8000
A19: Sub-Total | E19: =SUM(E17:E18) -> 88000 | F19: =SUM(F17:F18) -> 82984 | G19: =SUM(G17:G18) -> 5016 | H19: =SUM(H17:H18) -> 0 | I19: =SUM(I17:I18) -> 88000
A20: Construction Admin : | C20: 0.14 | E20: =ROUND(E19*C20,2) -> 12320 | F20: =ROUND(E20*$F$5,2) -> 11617.76 | G20: =ROUND(E20*$G$5,2) -> 702.24 | H20: 0 | I20: =F20+G20+H20 -> 12320
A21: Contingencies : | C21: 0.05 | E21: =ROUND(E19*C21,2) -> 4400 | F21: =ROUND(E21*$F$5,2) -> 4149.2 | G21: =ROUND(E21*$G$5,2) -> 250.8 | H21: 0 | I21: =F21+G21+H21 -> 4400
A22: Post Design | C22: 0.01 | E22: =C22*E19 -> 880 | F22: =ROUND(E22*$F$5,2) -> 829.84 | G22: =ROUND(E22*$G$5,2) -> 50.16 | H22: 0 | I22: =F22+G22+H22 -> 880
E23: 0 | F23: =ROUND(E23*$F$5,2) -> 0 | G23: =ROUND(E23*$G$5,2) -> 0 | H23: 0 | I23: =SUM(F23:H23) -> 0
E24: 0 | F24: =ROUND(E24*$F$5,2) -> 0 | G24: =ROUND(E24*$G$5,2) -> 0 | H24: 0 | I24: =SUM(F24:H24) -> 0
E25: 0 | F25: =ROUND(E25*$F$5,2) -> 0 | G25: =ROUND(E25*$G$5,2) -> 0 | H25: 0 | I25: =SUM(F25:H25) -> 0
E26: 0 | F26: =ROUND(E26*$F$5,2) -> 0 | G26: =ROUND(E26*$G$5,2) -> 0 | H26: 0 | I26: =SUM(F26:H26) -> 0
E27: 0 | F27: =ROUND(E27*$F$5,2) -> 0 | G27: =ROUND(E27*$G$5,2) -> 0 | H27: 0 | I27: =SUM(F27:H27) -> 0
E28: 0 | F28: =ROUND(E28*$F$5,2) -> 0 | G28: =ROUND(E28*$G$5,2) -> 0 | H28: 0 | I28: =SUM(F28:H28) -> 0
A29: Sub-Total | E29: =SUM(E20:E28) -> 17600 | F29: =SUM(F20:F28) -> 16596.8 | G29: =SUM(G20:G28) -> 1003.2 | H29: =SUM(H20:H28) -> 0 | I29: =SUM(I20:I28) -> 17600
A31: TOTAL REQUEST | E31: =E10+E19+E29 -> 135600 | F31: =F10+F19+F29 -> 127871.74 | G31: =G10+G19+G29 -> 7729.2 | H31: =H10+H19+H29 -> 0 | I31: =I10+I19+I29 -> 135600 | K31: Total Cost associated with the design, ROW acquisition, and construction even if no federal HSIP funding will be used to complete the phase. Minimum cost $250,000.
A33: Comments:

Sheet 8. 94.3% Spot Improvement
A1: Agency: | B1: ='2. Application'!C1 | D1: Name of Project: | F1: Spot Improvement with Non-HSIP construction included
A3: HSIP Project Cost Estimate Worksheet
A4: Project Cost Estimate: | B4: Description: | C4: Unit | D4: Quantity: | E4: Unit Cost: | F4: Total Cost: | G4: HSIP: | H4: Local Match: | I4: Other Amt: | J4: TOTAL COST
G5: 0.943 | H5: 0.057 | I5: =I33/F33 -> 0.060266478 | L5: Other Amount Percentage is based on percent of Non-HSIP funded vs HSIP funded construction cost - % can exceed 100%
A6: Design: | D6: 1 | E6: 200000 | F6: =D6*E6 -> 200000 | G6: =ROUND(F6*$G$5,2) -> 188600 | H6: =ROUND(F6*$H$5,2) -> 11400 | I6: =F6*I5 -> 12053.296 | J6: =SUM(G6:I6) -> 212053.3
A7: ROW Acquisition: | D7: 1 | E7: 60000 | F7: =D7*E7 -> 60000 | G7: =ROUND(F7*$G$5,2) -> 56580 | H7: =ROUND(F7*$H$5,2) -> 3420 | I7: =F7*I5 -> 3615.9887 | J7: =SUM(G7:I7) -> 63615.989 | L7: Estimate varies
A8: Environmental Clearance | D8: 1 | E8: 15000 | F8: =D8*E8 -> 15000 | G8: =ROUND(F8*$G$5,2) -> 14145 | H8: =ROUND(F8*$H$5,2) -> 855 | I8: =F8*I5 -> 903.99718 | J8: =SUM(G8:I8) -> 15903.997 | L8: Estimate varies
A9: ADOT Admin Costs: | D9: 1 | E9: 31828 | F9: =D9*E9 -> 31828 | G9: =ROUND(F9*$G$5,2) -> 30013.8 | H9: =ROUND(F9*$H$5,2) -> 1814.2 | I9: 0 | J9: =SUM(G9:I9) -> 31828 | L9: $20,000 or 10% of project estimate which ever is greater.
A10: Design Sub-Total | F10: =SUM(F6:F9) -> 306828 | G10: =SUM(G5:G9) -> 289339.74 | H10: =SUM(H6:H9) -> 17489.2 | I10: =SUM(I6:I9) -> 16573.282 | J10: =SUM(J6:J9) -> 323401.28
A11: Construction: | B11: Removal of existing structures | C11: EA | D11: 1 | E11: 10000 | F11: =D11*E11 -> 10000 | G11: =ROUND(F11*$G$5,2) -> 9430 | H11: =ROUND(F11*$H$5,2) -> 570 | I11: 0 | J11: =SUM(G11:I11) -> 10000 | L11: Construction estimate needs to be in enough detail that ADOT can verify accuracy. Lump sums will not be approved.
A12: Construction: | B12: Base Course Prep | C12: SY | D12: 200 | E12: 3 | F12: =(D12*E12) -> 600 | G12: =ROUND(F12*$G$5,2) -> 565.8 | H12: =ROUND(F12*$H$5,2) -> 34.2 | I12: 0 | J12: =SUM(G12:I12) -> 600
A13: Construction: | B13: Wearing surface | C13: Ton | D13: 2000 | E13: 100 | F13: =(D13*E13) -> 200000 | G13: =ROUND(F13*$G$5,2) -> 188600 | H13: =ROUND(F13*$H$5,2) -> 11400 | I13: 0 | J13: =SUM(G13:I13) -> 200000 | L13: These line items are just examples and are not intended to be considered complete or accurate.
A14: Construction: | B14: Pavement Marking | C14: LF | D14: 3000 | E14: 0.5 | F14: =(D14*E14) -> 1500 | G14: =ROUND(F14*$G$5,2) -> 1414.5 | H14: =ROUND(F14*$H$5,2) -> 85.5 | I14: 0 | J14: =SUM(G14:I14) -> 1500
A15: Construction: | B15: Relocate signage | C15: EA | D15: 6 | E15: 150 | F15: =(D15*E15) -> 900 | G15: =ROUND(F15*$G$5,2) -> 848.7 | H15: =ROUND(F15*$H$5,2) -> 51.3 | I15: 0 | J15: =SUM(G15:I15) -> 900 | L15: Lump sum costs will not be approved. As a minimum, costs have to be be broken out by the countermeasures identified in the application and cover letter.
A16: Construction: | D16: 0 | F16: =(D16*E16) -> 0 | G16: =ROUND(F16*$G$5,2) -> 0 | H16: =ROUND(F16*$H$5,2) -> 0 | I16: 0 | J16: =SUM(G16:I16) -> 0
A17: HSIP Eligible Sub-Total | D17: 0 | F17: =SUM(F11:F16) -> 213000 | G17: =SUM(G11:G16) -> 200859 | H17: =SUM(H11:H16) -> 12141 | I17: =SUM(I11:I16) -> 0 | J17: =SUM(J11:J16) -> 213000
A18: Construction: | B18: Base Course Prep | C18: SY | D18: 40 | E18: 2 | F18: =D18*E18 -> 80 | I18: =F18 -> 80 | J18: =SUM(I18) -> 80
A19: Construction: | B19: Concrete | C19: CY | D19: 100 | E19: 125 | F19: =D19*E19 -> 12500 | I19: =F19 -> 12500 | J19: =SUM(G19:I19) -> 12500
A20: Consturction: | B20: Install New Signage | C20: EA | D20: 8 | E20: 135 | F20: =D20*E20 -> 1080 | I20: =F20 -> 1080 | J20: =SUM(G20:I20) -> 1080
A21: Construction: | F21: =D21*E21 -> 0 | I21: =F21 -> 0 | J21: =SUM(G21:I21) -> 0
A22: Non-HSIP Eligible Sub-Total | F22: =SUM(F18:F21) -> 13660 | I22: =SUM(I18:I21) -> 13660 | J22: =SUM(J18:J21) -> 13660
A24: Construction Sub-Total | F24: =SUM(F22,F17) -> 226660 | G24: =G17 -> 200859 | H24: =H17 -> 12141 | I24: =I22 -> 13660 | J24: =SUM(G24:I24) -> 226660
A25: Traffic Control: | D25: 0.1 | F25: =D25*F24 -> 22666 | G25: =D25*G24 -> 20085.9 | H25: =D25*H24 -> 1214.1 | I25: =D25*I24 -> 1366 | J25: =SUM(G25:I25) -> 22666
A26: Mobilization: | D26: 0.1 | F26: =D26*F24 -> 22666 | G26: =D26*G24 -> 20085.9 | H26: =D26*H24 -> 1214.1 | I26: =D26*I24 -> 1366 | J26: =SUM(G26:I26) -> 22666
A27: Construction Sub-Total | F27: =SUM(F24:F26) -> 271992 | G27: =SUM(G24:G26) -> 241030.8 | H27: =SUM(H24:H26) -> 14569.2 | I27: =SUM(I24:I26) -> 16392 | J27: =SUM(G27:I27) -> 271992
A28: Construction Admin : | D28: 0.14 | F28: =ROUND(F27*D28,2) -> 38078.88 | G28: =ROUND(F28*$G$5,2) -> 35908.38 | H28: =ROUND(F28*$H$5,2) -> 2170.5 | I28: =D28*I27 -> 2294.88 | J28: =G28+H28+I28 -> 40373.76
A29: Contingencies : | D29: 0.05 | F29: =ROUND(F27*D29,2) -> 13599.6 | G29: =ROUND(F29*$G$5,2) -> 12824.42 | H29: =ROUND(F29*$H$5,2) -> 775.18 | I29: =D29*I27 -> 819.6 | J29: =G29+H29+I29 -> 14419.2
A30: Post Design: | D30: 0.01 | F30: =D30*F27 -> 2719.92 | G30: =ROUND(F30*$G$5,2) -> 2564.88 | H30: =ROUND(F30*$H$5,2) -> 155.04 | I30: =D30*I27 -> 163.92 | J30: =G30+H30+I30 -> 2883.84
A31: Communications: | D31: 0.05 | F31: =D31*F27 -> 13599.6 | G31: =ROUND(F31*$G$5,2) -> 12824.42 | H31: =ROUND(F31*$H$5,2) -> 775.18 | I31: =D31*I27 -> 819.6 | J31: =SUM(G31:I31) -> 14419.2
F32: 0 | G32: =ROUND(F32*$G$5,2) -> 0 | H32: =ROUND(F32*$H$5,2) -> 0 | I32: 0 | J32: =SUM(G32:I32) -> 0
A33: Post Sub-Total | F33: =SUM(F28:F32) -> 67998 | G33: =SUM(G28:G32) -> 64122.1 | H33: =SUM(H28:H32) -> 3875.9 | I33: =SUM(I28:I32) -> 4098 | J33: =SUM(J28:J32) -> 72096
A34: Post Const Sub-Total | F34: =F27+F33 -> 339990 | G34: =G27+G33 -> 305152.9 | H34: =H27+H33 -> 18445.1 | I34: =I27+I33 -> 20490 | J34: =J27+J33 -> 344088 | L34: =10%*J34 -> 34408.8
A36: TOTAL REQUEST | F36: =F10+F34+I10+I33 -> 667489.28 | G36: =G10+G34 -> 594492.64 | H36: =H10+H34 -> 35934.3 | I36: =I10+I34 -> 37063.282 | J36: =J10+J34 -> 667489.28 | L36: Total Cost associated with the design, ROW acquisition, and construction even if no federal HSIP funding will be used to complete the phase. Minimum cost $250,000.
A38: Comments:

Sheet 9. State Cost Estimate
A1: Agency: | B1: ='2. Application'!C1 | C1: Name of Project: | E1: ADOT State Agencies Use this Form or if project is on a Federal or State Roadway
A3: HSIP Project Cost Estimate Worksheet
A4: Project Cost Estimate: | B4: Description: | C4: Quantity: | D4: Unit Cost: | E4: Total Cost: | F4: HSIP: | G4: State Match: | H4: Other Amt: | I4: TOTAL COST
F5: 0.943 | G5: 0.057 | H5: 0 | K5: Change Percentage based on if a state match is required.
A6: Planning or Study: | C6: 0 | D6: 0 | E6: 0 | F6: =ROUND(E6*$F$5,2) -> 0 | G6: =ROUND(E6*$G$5,2) -> 0 | H6: 0 | I6: =SUM(F6:H6) -> 0 | K6: HSIP 100%, 94.3% or 94.34% | M6: LocaL Match 5.7%, 5.66% or 0% | P6: (5.66% is for Interstate projects only)
A7: Preliminary Engineering: | C7: 0 | D7: 0 | E7: 0 | F7: =ROUND(E7*$F$5,2) -> 0 | G7: =ROUND(E7*$G$5,2) -> 0 | H7: 0 | I7: =SUM(F7:H7) -> 0
A8: Non-Infastructure (NI) Elements: | C8: 0 | D8: 0 | E8: 0 | F8: =ROUND(E8*$F$5,2) -> 0 | G8: =ROUND(E8*$G$5,2) -> 0 | H8: 0 | I8: =SUM(F8:H8) -> 0 | K8: All NI elements must be highway safety-related and directly support the proposed safety countermeasure.
A9: ADOT Admin Costs: | C9: 1 | D9: 30000 | E9: 30000 | F9: =ROUND(E9*$F$5,2) -> 28290 | G9: =ROUND(E9*$G$5,2) -> 1710 | H9: 0 | I9: =SUM(F9:H9) -> 30000 | K9: This is not a fixed costs for State. Has to cover all environmental, ROW, C&S, etc. costs. Minimum $30,000 or 10% to Construction Sub-Total
A10: Sub-Total | E10: =SUM(E6:E9) -> 30000 | F10: =SUM(F5:F9) -> 28290.943 | G10: =SUM(G6:G9) -> 1710 | H10: =SUM(H6:H9) -> 0 | I10: =SUM(I6:I9) -> 30000 | K10: Lump sum costs will not be approved. As a minimum, costs have to be be broken out by the countermeasures identified in the application and cover letter.
A11: ADOT ICAP: | C11: 0.1039 | E11: =E10*C11 -> 3117 | F11: =F5*E11 -> 2939.331 | G11: =G5*E11 -> 177.669 | I11: =SUM(F11:H11) -> 3117
A12: Design Sub-Total | E12: =SUM(E10:E11) -> 33117 | F12: =SUM(F10:F11) -> 31230.274 | G12: =SUM(G10:G11) -> 1887.669 | I12: =SUM(I10:I11) -> 33117
A13: Construction: | C13: 0 | E13: 0 | F13: =ROUND(E13*$F$5,2) -> 0 | G13: =ROUND(E13*$G$5,2) -> 0 | H13: 0 | I13: =SUM(F13:H13) -> 0
A14: Construction: | B14: Item not 100% HSIP eligible | C14: 4000 | D14: 20 | E14: =(C14*D14) -> 80000 | F14: =ROUND(E14*$F$5,2) -> 75440 | G14: =ROUND(E14*$G$5,2) -> 4560 | H14: 0 | I14: =SUM(F14:H14) -> 80000
A15: Construction: | C15: 0 | E15: =(C15*D15) -> 0 | F15: =ROUND(E15*$F$5,2) -> 0 | G15: =ROUND(E15*$G$5,2) -> 0 | H15: 0 | I15: =SUM(F15:H15) -> 0
A16: Construction: | C16: 0 | E16: =(C16*D16) -> 0 | F16: =ROUND(E16*$F$5,2) -> 0 | G16: =ROUND(E16*$G$5,2) -> 0 | H16: 0 | I16: =SUM(F16:H16) -> 0
A17: Construction: | C17: 0 | E17: =(C17*D17) -> 0 | F17: =ROUND(E17*$F$5,2) -> 0 | G17: =ROUND(E17*$G$5,2) -> 0 | H17: 0 | I17: =SUM(F17:H17) -> 0
A18: Construction: | C18: 0 | E18: =(C18*D18) -> 0 | F18: =ROUND(E18*$F$5,2) -> 0 | G18: =ROUND(E18*$G$5,2) -> 0 | H18: 0 | I18: =SUM(F18:H18) -> 0
A19: Sub-Total | C19: 0 | E19: =SUM(E13:E18) -> 80000 | F19: =SUM(F13:F18) -> 75440 | G19: =SUM(G13:G18) -> 4560 | H19: =SUM(H13:H18) -> 0 | I19: =SUM(I13:I18) -> 80000
A20: Sales Tax: | B20: (if applicable) | C20: 0.1 | E20: =(C20*E19) -> 8000 | F20: =ROUND(E20*$F$5,2) -> 7544 | G20: =ROUND(E20*$G$5,2) -> 456 | H20: 0 | I20: =SUM(F20:H20) -> 8000 | K20: Procurement only contract
A21: Sub-Total | E21: =SUM(E19:E20) -> 88000 | F21: =SUM(F19:F20) -> 82984 | G21: =SUM(G19:G20) -> 5016 | H21: =SUM(H19:H20) -> 0 | I21: =SUM(I19:I20) -> 88000
A22: Construction Admin : | C22: 0.14 | E22: =ROUND(E21*C22,2) -> 12320 | F22: =ROUND(E22*$F$5,2) -> 11617.76 | G22: =ROUND(E22*$G$5,2) -> 702.24 | H22: 0 | I22: =F22+G22+H22 -> 12320
A23: Contingencies : | C23: 0.05 | E23: =ROUND(E21*C23,2) -> 4400 | F23: =ROUND(E23*$F$5,2) -> 4149.2 | G23: =ROUND(E23*$G$5,2) -> 250.8 | H23: 0 | I23: =F23+G23+H23 -> 4400
A24: Post Design | C24: 0.01 | E24: =C24*E21 -> 880 | F24: =ROUND(E24*$F$5,2) -> 829.84 | G24: =ROUND(E24*$G$5,2) -> 50.16 | H24: 0 | I24: =F24+G24+H24 -> 880
E25: 0 | F25: =ROUND(E25*$F$5,2) -> 0 | G25: =ROUND(E25*$G$5,2) -> 0 | H25: 0 | I25: =SUM(F25:H25) -> 0
E26: 0 | F26: =ROUND(E26*$F$5,2) -> 0 | G26: =ROUND(E26*$G$5,2) -> 0 | H26: 0 | I26: =SUM(F26:H26) -> 0
E27: 0 | F27: =ROUND(E27*$F$5,2) -> 0 | G27: =ROUND(E27*$G$5,2) -> 0 | H27: 0 | I27: =SUM(F27:H27) -> 0
E28: 0 | F28: =ROUND(E28*$F$5,2) -> 0 | G28: =ROUND(E28*$G$5,2) -> 0 | H28: 0 | I28: =SUM(F28:H28) -> 0
E29: 0 | F29: =ROUND(E29*$F$5,2) -> 0 | G29: =ROUND(E29*$G$5,2) -> 0 | H29: 0 | I29: =SUM(F29:H29) -> 0
E30: 0 | F30: =ROUND(E30*$F$5,2) -> 0 | G30: =ROUND(E30*$G$5,2) -> 0 | H30: 0 | I30: =SUM(F30:H30) -> 0
A31: Post Sub-Total | E31: =SUM(E22:E30) -> 17600 | F31: =SUM(F22:F30) -> 16596.8 | G31: =SUM(G22:G30) -> 1003.2 | H31: =SUM(H22:H30) -> 0 | I31: =SUM(I22:I30) -> 17600
A33: Construction Sub-Total | E33: =E21+E31 -> 105600 | F33: =F21+F31 -> 99580.8 | G33: =G21+G31 -> 6019.2 | H33: =H21+H31 -> 0 | I33: =I21+I31 -> 105600
A34: ADOT ICAP: | C34: 0.1039 | E34: =E33*C34 -> 10971.84 | F34: =F33*C34 -> 10346.445 | G34: =G33*C34 -> 625.39488 | I34: =SUM(F34:H34) -> 10971.84
A35: Construction Sub-Total | E35: =SUM(E33:E34) -> 116571.84 | F35: =SUM(F33:F34) -> 109927.25 | G35: =SUM(G33:G34) -> 6644.5949 | I35: =SUM(F35:H35) -> 116571.84
A37: TOTAL REQUEST | E37: =E12+E35 -> 149688.84 | F37: =F12+F35 -> 141157.52 | G37: =G12+G35 -> 8532.2639 | H37: =H10+H21+H31 -> 0 | I37: =SUM(F37:H37) -> 149689.78 | K37: Total Cost associated with the design, ROW acquisition, and construction even if no federal HSIP funding will be used to complete the phase. Minimum cost $250,000.
A39: Comments:

Sheet 10. BC Ratio Tabulation
A1: Required for all HSIP Applications
A2: Agency: | B2: ='2. Application'!C1 | D2: Title of Project: | E2: ='2. Application'!F1 -> 0
A3: Benefit / Cost Ratio Tabulation
A4: Annual Benefit Tabulation
A5: Severity | B5: Annual Average | C5: Estimated CMF* Reduction | D5: Total Reduction | E5: Unit Cost | F5: Annual Benefit
A6: Fatal | B6: 0.5 | C6: 0.5 | D6: =C6*B6 -> 0.25 | E6: 5800000 | F6: =E6*D6 -> 1450000 | G6: Annual Average | H6: Number of Crashes (divided) by Number of Years of Data (most recent 5 years of crash data in ADOT DB)
