Workbook

Sheet Set Up
A1: Jamesway Incubator Company
A2: Travel Expense Report Setup | E2: Rev 1.28
A6: Before using the Travel Expense Report forms please fill in the following grayed sections:
A8: Name:
A10: Department: | B10: Consulting
A12: Department #: | B12: 240
A14: Home Currency: | B14: USD
A16: Company Name: | B16: Jamesway Incubator | C16: If you get paid by Jamesway U.S.
C17: use: Jamesway Incubator Company
C18: If you get paid by Jamesway Canada
C19: use: Jamesway Incubator Company Ltd.
A21: Rate for Business Miles or KMs | B21: 0.461 | C21: Note Default Rate: | E21: CND 0.234 / km
E22: USD 0.461 / mile
A24: Notes:
A26: When the expenses are already in the home currency ensure that the conversion rate is set to 1.0
A28: Before printing a page ensure that scaling is set to fit 1 page by 1 page. You can accomplish this by chosing:
B29: File
B30: Print
B31: Page Setup
A32: The scaling option is located in the middle of the dialog box.

Sheet TER-SUM
B1: =UPPER('Set Up'!B16) -> JAMESWAY INCUBATOR
B2: TRAVEL EXPENSE REPORT SUMMARY PAGE | I2: REPORT PERIOD | L2: TO:
A3: NAME | B3: =+'TER-1'!B3 -> 0 | I3: AUDIT | J3: DATE | L3: DEPARTMENT | M3: DATE
A4: SIGNATURE | D4: Currency: | E4: =+'Set Up'!B14 -> USD
A5: DATE | B5: =NOW() -> 39981.538 | I5: SUPERVISOR | J5: DATE | L5: ACCOUNTING | M5: DATE
A6: DEPARTMENT & NO | B6: =+'TER-1'!I4 -> Consulting | C6: =+'Set Up'!B12 -> 240
A8: DESCRIPTION | B8: EXPENSE TOTALS FROM PAGE 1 | C8: EXPENSE TOTALS FROM PAGE 2 | D8: EXPENSE TOTALS FROM PAGE 3 | E8: EXPENSE TOTALS FROM PAGE 4 | F8: EXPENSE TOTALS FROM PAGE 5 | G8: EXPENSE TOTALS FROM PAGE 6 | H8: EXPENSE TOTALS FROM PAGE 7 | I8: EXPENSE TOTALS FROM PAGE 8 | J8: EXPENSE TOTALS FROM PAGE 9 | K8: EXPENSE TOTALS FROM PAGE 10 | L8: TOTALS | M8: ACOUNTING NUMBERS
A9: WORKING CITY/COUNTRY | B9: ='TER-1'!B5 -> 0 | C9: ='TER-2'!B5 -> 0 | D9: ='TER-3'!B5 -> 0 | E9: ='TER-4'!B5 -> 0 | F9: ='TER-5'!B5 -> 0 | G9: ='TER-6'!B5 -> 0 | H9: ='TER-7'!B5 -> 0 | I9: ='TER-8'!B5 -> 0 | J9: ='TER-9'!B5 -> 0 | K9: ='TER-10'!B5 -> 0
A10: =CONCATENATE("BUSINESS MILES or KM'S RATE=", 'Set Up'!B20," ¢/ML/KM") -> BUSINESS MILES or KM'S RATE= ¢/ML/KM | B10: ='TER-1'!J11 -> 0 | C10: ='TER-2'!J11 -> 0 | D10: ='TER-3'!J11 -> 0 | E10: ='TER-4'!J11 -> 0 | F10: ='TER-5'!J11 -> 0 | G10: ='TER-6'!J11 -> 0 | H10: ='TER-7'!J11 -> 0 | I10: ='TER-8'!J11 -> 0 | J10: ='TER-9'!J11 -> 0 | K10: ='TER-10'!J11 -> 0 | L10: =SUM(B10:K10) -> 0
A11: HOTEL | B11: ='TER-1'!J12 -> 0 | C11: ='TER-2'!J12 -> 0 | D11: ='TER-3'!J12 -> 0 | E11: ='TER-4'!J12 -> 0 | F11: ='TER-5'!J12 -> 0 | G11: ='TER-6'!J12 -> 0 | H11: ='TER-7'!J12 -> 0 | I11: ='TER-8'!J12 -> 0 | J11: ='TER-9'!J12 -> 0 | K11: ='TER-10'!J12 -> 0 | L11: =SUM(B11:K11) -> 0 | M11: 990401
A12: LAUNDRY & CLEANING | B12: ='TER-1'!J13 -> 0 | C12: ='TER-2'!J13 -> 0 | D12: ='TER-3'!J13 -> 0 | E12: ='TER-4'!J13 -> 0 | F12: ='TER-5'!J13 -> 0 | G12: ='TER-6'!J13 -> 0 | H12: ='TER-7'!J13 -> 0 | I12: ='TER-8'!J13 -> 0 | J12: ='TER-9'!J13 -> 0 | K12: ='TER-10'!J13 -> 0 | L12: =SUM(B12:K12) -> 0 | M12: 990401
A13: MEALS | B13: ='TER-1'!J14 -> 0 | C13: ='TER-2'!J14 -> 0 | D13: ='TER-3'!J14 -> 0 | E13: ='TER-4'!J14 -> 0 | F13: ='TER-5'!J14 -> 0 | G13: ='TER-6'!J14 -> 0 | H13: ='TER-7'!J14 -> 0 | I13: ='TER-8'!J14 -> 0 | J13: ='TER-9'!J14 -> 0 | K13: ='TER-10'!J14 -> 0 | L13: =SUM(B13:K13) -> 0 | M13: 990404
A14: BUSINESS MEALS | B14: ='TER-1'!J15 -> 0 | C14: ='TER-2'!J15 -> 0 | D14: ='TER-3'!J15 -> 0 | E14: ='TER-4'!J15 -> 0 | F14: ='TER-5'!J15 -> 0 | G14: ='TER-6'!J15 -> 0 | H14: ='TER-7'!J15 -> 0 | I14: ='TER-8'!J15 -> 0 | J14: ='TER-9'!J15 -> 0 | K14: ='TER-10'!J15 -> 0 | L14: =SUM(B14:K14) -> 0 | M14: 990404
A15: TIPS | B15: ='TER-1'!J16 -> 0 | C15: ='TER-2'!J16 -> 0 | D15: ='TER-3'!J16 -> 0 | E15: ='TER-4'!J16 -> 0 | F15: ='TER-5'!J16 -> 0 | G15: ='TER-6'!J16 -> 0 | H15: ='TER-7'!J16 -> 0 | I15: ='TER-8'!J16 -> 0 | J15: ='TER-9'!J16 -> 0 | K15: ='TER-10'!J16 -> 0 | L15: =SUM(B15:K15) -> 0 | M15: 990404
A16: ENTERTAINMENT | B16: ='TER-1'!J17 -> 0 | C16: ='TER-2'!J17 -> 0 | D16: ='TER-3'!J17 -> 0 | E16: ='TER-4'!J17 -> 0 | F16: ='TER-5'!J17 -> 0 | G16: ='TER-6'!J17 -> 0 | H16: ='TER-7'!J17 -> 0 | I16: ='TER-8'!J17 -> 0 | J16: ='TER-9'!J17 -> 0 | K16: ='TER-10'!J17 -> 0 | L16: =SUM(B16:K16) -> 0 | M16: 990404
A17: MILEAGE ALLOWANCE | B17: ='TER-1'!J18 -> 0 | C17: ='TER-2'!J18 -> 0 | D17: ='TER-3'!J18 -> 0 | E17: ='TER-4'!J18 -> 0 | F17: ='TER-5'!J18 -> 0 | G17: ='TER-6'!J18 -> 0 | H17: ='TER-7'!J18 -> 0 | I17: ='TER-8'!J18 -> 0 | J17: ='TER-9'!J18 -> 0 | K17: ='TER-10'!J18 -> 0 | L17: =SUM(B17:K17) -> 0 | M17: 990403
A18: COMPANY AUTOMOBILE | B18: ='TER-1'!J19 -> 0 | C18: ='TER-2'!J19 -> 0 | D18: ='TER-3'!J19 -> 0 | E18: ='TER-4'!J19 -> 0 | F18: ='TER-5'!J19 -> 0 | G18: ='TER-6'!J19 -> 0 | H18: ='TER-7'!J19 -> 0 | I18: ='TER-8'!J19 -> 0 | J18: ='TER-9'!J19 -> 0 | K18: ='TER-10'!J19 -> 0 | L18: =SUM(B18:K18) -> 0 | M18: 990403
A19: PARKING & TOLLS | B19: ='TER-1'!J20 -> 0 | C19: ='TER-2'!J20 -> 0 | D19: ='TER-3'!J20 -> 0 | E19: ='TER-4'!J20 -> 0 | F19: ='TER-5'!J20 -> 0 | G19: ='TER-6'!J20 -> 0 | H19: ='TER-7'!J20 -> 0 | I19: ='TER-8'!J20 -> 0 | J19: ='TER-9'!J20 -> 0 | K19: ='TER-10'!J20 -> 0 | L19: =SUM(B19:K19) -> 0 | M19: 990403
A20: CABS or RENTAL CAR | B20: ='TER-1'!J21 -> 0 | C20: ='TER-2'!J21 -> 0 | D20: ='TER-3'!J21 -> 0 | E20: ='TER-4'!J21 -> 0 | F20: ='TER-5'!J21 -> 0 | G20: ='TER-6'!J21 -> 0 | H20: ='TER-7'!J21 -> 0 | I20: ='TER-8'!J21 -> 0 | J20: ='TER-9'!J21 -> 0 | K20: ='TER-10'!J21 -> 0 | L20: =SUM(B20:K20) -> 0 | M20: 990403
A21: TELECOMMUNICATIONS | B21: ='TER-1'!J22 -> 0 | C21: ='TER-2'!J22 -> 0 | D21: ='TER-3'!J22 -> 0 | E21: ='TER-4'!J22 -> 0 | F21: ='TER-5'!J22 -> 0 | G21: ='TER-6'!J22 -> 0 | H21: ='TER-7'!J22 -> 0 | I21: ='TER-8'!J22 -> 0 | J21: ='TER-9'!J22 -> 0 | K21: ='TER-10'!J22 -> 0 | L21: =SUM(B21:K21) -> 0 | M21: 991501
A22: AIRFARES | B22: ='TER-1'!J23 -> 0 | C22: ='TER-2'!J23 -> 0 | D22: ='TER-3'!J23 -> 0 | E22: ='TER-4'!J23 -> 0 | F22: ='TER-5'!J23 -> 0 | G22: ='TER-6'!J23 -> 0 | H22: ='TER-7'!J23 -> 0 | I22: ='TER-8'!J23 -> 0 | J22: ='TER-9'!J23 -> 0 | K22: ='TER-10'!J23 -> 0 | L22: =SUM(B22:K22) -> 0 | M22: 990402
... A25: POSTAGE | B25: ='TER-1'!J26 -> 0 | C25: ='TER-2'!J26 -> 0 | D25: ='TER-3'!J26 -> 0 | E25: ='TER-4'!J26 -> 0 | F25: ='TER-5'!J26 -> 0 | G25: ='TER-6'!J26 -> 0 | H25: ='TER-7'!J26 -> 0 | I25: ='TER-8'!J26 -> 0 | J25: ='TER-9'!J26 -> 0 | K25: ='TER-10'!J26 -> 0 | L25: =SUM(B25:K25) -> 0 | M25: 991504
A26: MISCELLANEOUS | B26: ='TER-1'!J27 -> 0 | C26: ='TER-2'!J27 -> 0 | D26: ='TER-3'!J27 -> 0 | E26: ='TER-4'!J27 -> 0 | F26: ='TER-5'!J27 -> 0 | G26: ='TER-6'!J27 -> 0 | H26: ='TER-7'!J27 -> 0 | I26: ='TER-8'!J27 -> 0 | J26: ='TER-9'!J27 -> 0 | K26: ='TER-10'!J27 -> 0 | L26: =SUM(B26:K26) -> 0
A27: OTHER | B27: ='TER-1'!J28 -> 0 | C27: ='TER-2'!J28 -> 0 | D27: ='TER-3'!J28 -> 0 | E27: ='TER-4'!J28 -> 0 | F27: ='TER-5'!J28 -> 0 | G27: ='TER-6'!J28 -> 0 | H27: ='TER-7'!J28 -> 0 | I27: ='TER-8'!J28 -> 0 | J27: ='TER-9'!J28 -> 0 | K27: ='TER-10'!J28 -> 0 | L27: =SUM(B27:K27) -> 0
A28: OTHER | B28: ='TER-1'!J29 -> 0 | C28: ='TER-2'!J29 -> 0 | D28: ='TER-3'!J29 -> 0 | E28: ='TER-4'!J29 -> 0 | F28: ='TER-5'!J29 -> 0 | G28: ='TER-6'!J29 -> 0 | H28: ='TER-7'!J29 -> 0 | I28: ='TER-8'!J29 -> 0 | J28: ='TER-9'!J29 -> 0 | K28: ='TER-10'!J29 -> 0 | L28: =SUM(B28:K28) -> 0
A29: TOTALS | B29: =SUM(B11:B28) -> 0 | C29: =SUM(C11:C28) -> 0 | D29: =SUM(D11:D28) -> 0 | E29: =SUM(E11:E28) -> 0 | F29: =SUM(F11:F28) -> 0 | G29: =SUM(G11:G28) -> 0 | L29: =SUM(B29:K29) -> 0
A30: EXPENSES BILLED TO COMPANY | G30: SUMMARY
A31: DATE | B31: DESCRIPTION | D31: AMOUNT | E31: CONV. FACTOR | F31: CDN or US1 | K31: TOTAL PAID BY YOU | M31: =L29 -> 0
F32: =D32*E32 -> 0 | K32: TOTAL BILLED TO COMPANY | M32: =F37 -> 0
F33: =D33*E33 -> 0 | K33: TOTAL EXPENSES | M33: =M31+M32 -> 0
F34: =D34*E34 -> 0 | K34: TOTAL PAID BY YOU | M34: =+M31 -> 0
F35: =D35*E35 -> 0 | K35: LESS ADVANCEE RECEIVED
F36: =D36*E36 -> 0 | K36: AMOUNT TO BE REIMBURSED: or | M36: =IF(M34>M35,M34-M35,0) -> 0
F37: =SUM(F32:F36) -> 0 | K37: AMOUNT TO BE REPAID TO COMPANY | M37: =IF(M34<M35,M35-M34,0) -> 0
A38: 1 NOTE: ANY EXPENSES BILLED TO COMPANY MUST BE CONVERTED TO CURRENCE SHOWN ON THIS SUMMARY PAGE (EITHER TO CANADIAN DOLLARS (CDN) or US DOLLARS)

Sheet TER-1
A1: =UPPER(+'Set Up'!B16) -> JAMESWAY INCUBATOR | J1: =+'Set Up'!E2 -> Rev 1.28
A2: TRAVEL EXPENSE REPORT
A3: NAME | B3: =+'Set Up'!B8 -> 0
A4: SIGNATURE | G4: DEPARTMENT | I4: =+'Set Up'!B10 -> Consulting
A5: COUNTRY | G5: WEEK ENDING DATE | I5: =+H9 -> 39950
A6: CONVERSION RATE | B6: 1 | C6: =CONCATENATE("TO ",'Set Up'!B14) -> TO USD
A8: DESCRIPTION | B8: SUNDAY | C8: MONDAY | D8: TUESDAY | E8: WEDNESDAY | F8: THURSDAY | G8: FRIDAY | H8: SATURDAY | I8: TOTALS LOCAL CURRENCY | J8: =CONCATENATE("TOTALS ",+'Set Up'!B14) -> TOTALS USD
A9: DATE | B9: 39944 | C9: =+B9+1 -> 39945 | D9: =+C9+1 -> 39946 | E9: =+D9+1 -> 39947 | F9: =+E9+1 -> 39948 | G9: =+F9+1 -> 39949 | H9: =+G9+1 -> 39950
A10: WORKING CITY/COUNTRY
A11: =CONCATENATE("BUSINESS MILES or KM'S RATE=", 'Set Up'!B21," ¢/ML/KM") -> BUSINESS MILES or KM'S RATE=0.461 ¢/ML/KM | F11: 0 | G11: 0 | I11: =SUM(B11:H11) -> 0 | J11: =+I11 -> 0
A12: HOTEL | B12: 0 | G12: 0 | H12: 0 | I12: =SUM(B12:H12) -> 0 | J12: =ROUND(I12/$B$6,2) -> 0
A13: LAUNDRY & CLEANING | H13: 0 | I13: =SUM(B13:H13) -> 0 | J13: =ROUND(I13/$B$6,2) -> 0
A14: MEALS | H14: 0 | I14: =SUM(B14:H14) -> 0 | J14: =ROUND(I14/$B$6,2) -> 0
A15: BUSINESS MEALS | I15: =SUM(B15:H15) -> 0 | J15: =ROUND(I15/$B$6,2) -> 0
A16: TIPS | I16: =SUM(B16:H16) -> 0 | J16: =ROUND(I16/$B$6,2) -> 0
A17: ENTERTAINMENT | I17: =SUM(B17:H17) -> 0 | J17: =ROUND(I17/$B$6,2) -> 0
A18: MILEAGE ALLOWANCE | B18: =+B11*'Set Up'!$B$21 -> 0 | C18: =+C11*'Set Up'!$B$21 -> 0 | D18: =+D11*'Set Up'!$B$21 -> 0 | E18: =+E11*'Set Up'!$B$21 -> 0 | F18: =+F11*'Set Up'!$B$21 -> 0 | G18: =+G11*'Set Up'!$B$21 -> 0 | H18: =+H11*'Set Up'!$B$21 -> 0 | I18: =SUM(B18:H18) -> 0 | J18: =ROUND(I18/$B$6,2) -> 0
A19: COMPANY AUTOMOBILE | I19: =SUM(B19:H19) -> 0 | J19: =ROUND(I19/$B$6,2) -> 0
A20: PARKING & TOLLS | I20: =SUM(B20:H20) -> 0 | J20: =ROUND(I20/$B$6,2) -> 0
A21: CABS or RENTAL CAR | I21: =SUM(B21:H21) -> 0 | J21: =ROUND(I21/$B$6,2) -> 0
A22: TELECOMMUNICATIONS | I22: =SUM(B22:H22) -> 0 | J22: =ROUND(I22/$B$6,2) -> 0
A23: AIRFARES | I23: =SUM(B23:H23) -> 0 | J23: =ROUND(I23/$B$6,2) -> 0
A24: COURIER | I24: =SUM(B24:H24) -> 0 | J24: =ROUND(I24/$B$6,2) -> 0
A25: OFFICE SUPPLIES | I25: =SUM(B25:H25) -> 0 | J25: =ROUND(I25/$B$6,2) -> 0
A26: POSTAGE | I26: =SUM(B26:H26) -> 0 | J26: =ROUND(I26/$B$6,2) -> 0
A27: MISCELLANEOUS | I27: =SUM(B27:H27) -> 0 | J27: =ROUND(I27/$B$6,2) -> 0
A28: OTHER | I28: =SUM(B28:H28) -> 0 | J28: =ROUND(I28/$B$6,2) -> 0
A29: OTHER | I29: =SUM(B29:H29) -> 0 | J29: =ROUND(I29/$B$6,2) -> 0
A30: TOTALS (LOCAL CURRENCY) | B30: =SUM(B12:B29) -> 0 | C30: =SUM(C12:C29) -> 0 | D30: =SUM(D12:D29) -> 0 | E30: =SUM(E12:E29) -> 0 | F30: =SUM(F12:F29) -> 0 | G30: =SUM(G12:G29) -> 0 | H30: =SUM(H12:H29) -> 0 | I30: =SUM(I12:I29) -> 0
A31: =CONCATENATE("TOTAL ",+'Set Up'!B14) -> TOTAL USD | B31: =B30/$B6 -> 0 | C31: =C30/$B6 -> 0 | D31: =D30/$B6 -> 0 | E31: =E30/$B6 -> 0 | F31: =F30/$B6 -> 0 | G31: =G30/$B6 -> 0 | H31: =H30/$B6 -> 0 | J31: =SUM(SUM(J12:J29)) -> 0

Sheet TER-1B
A1: WEEKLY CALL, BUSINESS MEALS AND ENTERTAINMENT REPORT
A2: COMPANY NAME | B2: CITY | C2: PERSON CONTACTED (TITLE) | F2: REMARKS | I2: RESTAURANT | J2: AMOUNT
A27: PURPOSE OF TRIP | G27: MISCELLANEOUS EXPENSES
A28: Trip Reference No:
A29: Customer:
A30: Trip Purpose:

Sheet TER-2
A1: =UPPER('Set Up'!B16) -> JAMESWAY INCUBATOR | J1: =+'Set Up'!E2 -> Rev 1.28
A2: TRAVEL EXPENSE REPORT
A3: NAME | B3: =+'Set Up'!B8 -> 0
A4: SIGNATURE | G4: DEPARTMENT | I4: =+'Set Up'!B10 -> Consulting
A5: COUNTRY | G5: WEEK ENDING DATE | I5: =+H9 -> 39957
A6: CONVERSION RATE | B6: 1 | C6: =CONCATENATE("TO ",'Set Up'!B14) -> TO USD
A8: DESCRIPTION | B8: SUNDAY | C8: MONDAY | D8: TUESDAY | E8: WEDNESDAY | F8: THURSDAY | G8: FRIDAY | H8: SATURDAY | I8: TOTALS LOCAL CURRENCY | J8: =CONCATENATE("TOTALS ",+'Set Up'!B14) -> TOTALS USD
A9: DATE | B9: ='TER-1'!H9+1 -> 39951 | C9: =+B9+1 -> 39952 | D9: =+C9+1 -> 39953 | E9: =+D9+1 -> 39954 | F9: =+E9+1 -> 39955 | G9: =+F9+1 -> 39956 | H9: =+G9+1 -> 39957
A10: WORKING CITY/COUNTRY
A11: =CONCATENATE("BUSINESS MILES or KM'S RATE=", 'Set Up'!B21," ¢/ML/KM") -> BUSINESS MILES or KM'S RATE=0.461 ¢/ML/KM | D11: 0 | I11: =SUM(B11:H11) -> 0 | J11: =+I11 -> 0
A12: HOTEL | B12: 0 | C12: 0 | I12: =SUM(B12:H12) -> 0 | J12: =ROUND(I12/$B$6,2) -> 0
A13: LAUNDRY & CLEANING | I13: =SUM(B13:H13) -> 0 | J13: =ROUND(I13/$B$6,2) -> 0
A14: MEALS | I14: =SUM(B14:H14) -> 0 | J14: =ROUND(I14/$B$6,2) -> 0
A15: BUSINESS MEALS | D15: 0 | I15: =SUM(B15:H15) -> 0 | J15: =ROUND(I15/$B$6,2) -> 0
A16: TIPS | I16: =SUM(B16:H16) -> 0 | J16: =ROUND(I16/$B$6,2) -> 0
A17: ENTERTAINMENT | I17: =SUM(B17:H17) -> 0 | J17: =ROUND(I17/$B$6,2) -> 0
A18: MILEAGE ALLOWANCE | B18: =+B11*'Set Up'!$B$21 -> 0 | C18: =+C11*'Set Up'!$B$21 -> 0 | D18: =+D11*'Set Up'!$B$21 -> 0 | E18: =+E11*'Set Up'!$B$21 -> 0 | F18: =+F11*'Set Up'!$B$21 -> 0 | G18: =+G11*'Set Up'!$B$21 -> 0 | H18: =+H11*'Set Up'!$B$21 -> 0 | I18: =SUM(B18:H18) -> 0 | J18: =ROUND(I18/$B$6,2) -> 0
A19: COMPANY AUTOMOBILE | I19: =SUM(B19:H19) -> 0 | J19: =ROUND(I19/$B$6,2) -> 0
A20: PARKING & TOLLS | I20: =SUM(B20:H20) -> 0 | J20: =ROUND(I20/$B$6,2) -> 0
A21: CABS or RENTAL CAR | I21: =SUM(B21:H21) -> 0 | J21: =ROUND(I21/$B$6,2) -> 0
A22: TELECOMMUNICATIONS | I22: =SUM(B22:H22) -> 0 | J22: =ROUND(I22/$B$6,2) -> 0
A23: AIRFARES | I23: =SUM(B23:H23) -> 0 | J23: =ROUND(I23/$B$6,2) -> 0
A24: COURIER | I24: =SUM(B24:H24) -> 0 | J24: =ROUND(I24/$B$6,2) -> 0
A25: OFFICE SUPPLIES | I25: =SUM(B25:H25) -> 0 | J25: =ROUND(I25/$B$6,2) -> 0
A26: POSTAGE | I26: =SUM(B26:H26) -> 0 | J26: =ROUND(I26/$B$6,2) -> 0
A27: MISCELLANEOUS | I27: =SUM(B27:H27) -> 0 | J27: =ROUND(I27/$B$6,2) -> 0
A28: OTHER | I28: =SUM(B28:H28) -> 0 | J28: =ROUND(I28/$B$6,2) -> 0
A29: OTHER | I29: =SUM(B29:H29) -> 0 | J29: =ROUND(I29/$B$6,2) -> 0
A30: TOTALS (LOCAL CURRENCY) | B30: =SUM(B12:B29) -> 0 | C30: =SUM(C12:C29) -> 0 | D30: =SUM(D12:D29) -> 0 | E30: =SUM(E12:E29) -> 0 | F30: =SUM(F12:F29) -> 0 | G30: =SUM(G12:G29) -> 0 | H30: =SUM(H12:H29) -> 0 | I30: =SUM(B30:H30) -> 0
A31: =CONCATENATE("TOTAL ",+'Set Up'!B14) -> TOTAL USD | B31: =B30/$B6 -> 0 | C31: =C30/$B6 -> 0 | D31: =D30/$B6 -> 0 | E31: =E30/$B6 -> 0 | F31: =F30/$B6 -> 0 | G31: =G30/$B6 -> 0 | H31: =H30/$B6 -> 0 | J31: =SUM(SUM(J12:J29)) -> 0

Sheet TER-2B
A1: WEEKLY CALL, BUSINESS MEALS AND ENTERTAINMENT REPORT
A2: COMPANY NAME | B2: CITY | C2: PERSON CONTACTED (TITLE) | F2: REMARKS | I2: RESTAURANT | J2: AMOUNT
A27: PURPOSE OF TRIP | G27: MISCELLANEOUS EXPENSES
A28: Trip Reference No:
A29: Customer:
A30: Trip Purpose:

Sheet TER-3
A1: =UPPER('Set Up'!B16) -> JAMESWAY INCUBATOR | J1: =+'Set Up'!E2 -> Rev 1.28
A2: TRAVEL EXPENSE REPORT
A3: NAME | B3: =+'Set Up'!B8 -> 0
A4: SIGNATURE | G4: DEPARTMENT | I4: =+'Set Up'!B10 -> Consulting
A5: COUNTRY | G5: WEEK ENDING DATE | I5: =+H9 -> 39964
A6: CONVERSION RATE | B6: 1 | C6: =CONCATENATE("TO ",'Set Up'!B14) -> TO USD
A8: DESCRIPTION | B8: SUNDAY | C8: MONDAY | D8: TUESDAY | E8: WEDNESDAY | F8: THURSDAY | G8: FRIDAY | H8: SATURDAY | I8: TOTALS LOCAL CURRENCY | J8: =CONCATENATE("TOTALS ",+'Set Up'!B14) -> TOTALS USD
A9: DATE | B9: ='TER-2'!H9+1 -> 39958 | C9: =$B9+1 -> 39959 | D9: =$C9+1 -> 39960 | E9: =$D9+1 -> 39961 | F9: =$E9+1 -> 39962 | G9: =$F9+1 -> 39963 | H9: =$G9+1 -> 39964
A10: WORKING CITY/COUNTRY
A11: =CONCATENATE("BUSINESS MILES or KM'S RATE=", 'Set Up'!B21," ¢/ML/KM") -> BUSINESS MILES or KM'S RATE=0.461 ¢/ML/KM | I11: =SUM(B11:H11) -> 0 | J11: =+I11 -> 0
A12: HOTEL | I12: =SUM(B12:H12) -> 0 | J12: =ROUND(I12/$B$6,2) -> 0
A13: LAUNDRY & CLEANING | I13: =SUM(B13:H13) -> 0 | J13: =ROUND(I13/$B$6,2) -> 0
A14: MEALS | I14: =SUM(B14:H14) -> 0 | J14: =ROUND(I14/$B$6,2) -> 0
A15: BUSINESS MEALS | I15: =SUM(B15:H15) -> 0 | J15: =ROUND(I15/$B$6,2) -> 0
A16: TIPS | I16: =SUM(B16:H16) -> 0 | J16: =ROUND(I16/$B$6,2) -> 0
A17: ENTERTAINMENT | I17: =SUM(B17:H17) -> 0 | J17: =ROUND(I17/$B$6,2) -> 0
A18: MILEAGE ALLOWANCE | B18: =+B11*'Set Up'!$B$21 -> 0 | C18: =+C11*'Set Up'!$B$21 -> 0 | D18: =+D11*'Set Up'!$B$21 -> 0 | E18: =+E11*'Set Up'!$B$21 -> 0 | F18: =+F11*'Set Up'!$B$21 -> 0 | G18: =+G11*'Set Up'!$B$21 -> 0 | H18: =+H11*'Set Up'!$B$21 -> 0 | I18: =SUM(B18:H18) -> 0 | J18: =ROUND(I18/$B$6,2) -> 0
A19: COMPANY AUTOMOBILE | I19: =SUM(B19:H19) -> 0 | J19: =ROUND(I19/$B$6,2) -> 0
A20: PARKING & TOLLS | I20: =SUM(B20:H20) -> 0 | J20: =ROUND(I20/$B$6,2) -> 0
A21: CABS or RENTAL CAR | I21: =SUM(B21:H21) -> 0 | J21: =ROUND(I21/$B$6,2) -> 0
A22: TELECOMMUNICATIONS | I22: =SUM(B22:H22) -> 0 | J22: =ROUND(I22/$B$6,2) -> 0
A23: AIRFARES | I23: =SUM(B23:H23) -> 0 | J23: =ROUND(I23/$B$6,2) -> 0
A24: COURIER | I24: =SUM(B24:H24) -> 0 | J24: =ROUND(I24/$B$6,2) -> 0
A25: OFFICE SUPPLIES | I25: =SUM(B25:H25) -> 0 | J25: =ROUND(I25/$B$6,2) -> 0
A26: POSTAGE | I26: =SUM(B26:H26) -> 0 | J26: =ROUND(I26/$B$6,2) -> 0
A27: MISCELLANEOUS | I27: =SUM(B27:H27) -> 0 | J27: =ROUND(I27/$B$6,2) -> 0
A28: OTHER | I28: =SUM(B28:H28) -> 0 | J28: =ROUND(I28/$B$6,2) -> 0
A29: OTHER | I29: =SUM(B29:H29) -> 0 | J29: =ROUND(I29/$B$6,2) -> 0
A30: TOTALS (LOCAL CURRENCY) | B30: =SUM(B12:B29) -> 0 | C30: =SUM(C12:C29) -> 0 | D30: =SUM(D12:D29) -> 0 | E30: =SUM(E12:E29) -> 0 | F30: =SUM(F12:F29) -> 0 | G30: =SUM(G12:G29) -> 0 | H30: =SUM(H12:H29) -> 0 | I30: =SUM(B30:H30) -> 0
A31: =CONCATENATE("TOTAL ",+'Set Up'!B14) -> TOTAL USD | B31: =B30/$B6 -> 0 | C31: =C30/$B6 -> 0 | D31: =D30/$B6 -> 0 | E31: =E30/$B6 -> 0 | F31: =F30/$B6 -> 0 | G31: =G30/$B6 -> 0 | H31: =H30/$B6 -> 0 | J31: =SUM(SUM(J12:J29)) -> 0

Sheet TER-3B
A1: WEEKLY CALL, BUSINESS MEALS AND ENTERTAINMENT REPORT
A2: COMPANY NAME | B2: CITY | C2: PERSON CONTACTED (TITLE) | F2: REMARKS | I2: RESTAURANT | J2: AMOUNT
A27: PURPOSE OF TRIP | G27: MISCELLANEOUS EXPENSES
A28: Trip Reference No: | G28: ATM Fee | J28: 15000
A29: Customer: | G29: Airport Tax | J29: 150000
A30: Trip Purpose:

Sheet TER-4
A1: =UPPER('Set Up'!B16) -> JAMESWAY INCUBATOR | J1: =+'Set Up'!E2 -> Rev 1.28
A2: TRAVEL EXPENSE REPORT
A3: NAME | B3: =+'Set Up'!B8 -> 0
A4: SIGNATURE | G4: DEPARTMENT | I4: =+'Set Up'!B10 -> Consulting
A5: COUNTRY | G5: WEEK ENDING DATE | I5: =+H9 -> 39971
A6: CONVERSION RATE | B6: 1 | C6: =CONCATENATE("TO ",'Set Up'!B14) -> TO USD
A8: DESCRIPTION | B8: SUNDAY | C8: MONDAY | D8: TUESDAY | E8: WEDNESDAY | F8: THURSDAY | G8: FRIDAY | H8: SATURDAY | I8: TOTALS LOCAL CURRENCY | J8: =CONCATENATE("TOTALS ",+'Set Up'!B14) -> TOTALS USD
A9: DATE | B9: ='TER-3'!H9+1 -> 39965 | C9: =$B9+1 -> 39966 | D9: =$C9+1 -> 39967 | E9: =$D9+1 -> 39968 | F9: =$E9+1 -> 39969 | G9: =$F9+1 -> 39970 | H9: =$G9+1 -> 39971
A10: WORKING CITY/COUNTRY
A11: =CONCATENATE("BUSINESS MILES or KM'S RATE=", 'Set Up'!B21," ¢/ML/KM") -> BUSINESS MILES or KM'S RATE=0.461 ¢/ML/KM | I11: =SUM(B11:H11) -> 0 | J11: =+I11 -> 0
A12: HOTEL | I12: =SUM(B12:H12) -> 0 | J12: =ROUND(I12/$B$6,2) -> 0
A13: LAUNDRY & CLEANING | I13: =SUM(B13:H13) -> 0 | J13: =ROUND(I13/$B$6,2) -> 0
A14: MEALS | I14: =SUM(B14:H14) -> 0 | J14: =ROUND(I14/$B$6,2) -> 0
A15: BUSINESS MEALS | I15: =SUM(B15:H15) -> 0 | J15: =ROUND(I15/$B$6,2) -> 0
A16: TIPS | I16: =SUM(B16:H16) -> 0 | J16: =ROUND(I16/$B$6,2) -> 0
A17: ENTERTAINMENT | I17: =SUM(B17:H17) -> 0 | J17: =ROUND(I17/$B$6,2) -> 0
A18: MILEAGE ALLOWANCE | B18: =+B11*'Set Up'!$B$21 -> 0 | C18: =+C11*'Set Up'!$B$21 -> 0 | D18: =+D11*'Set Up'!$B$21 -> 0 | E18: =+E11*'Set Up'!$B$21 -> 0 | F18: =+F11*'Set Up'!$B$21 -> 0 | G18: =+G11*'Set Up'!$B$21 -> 0 | H18: =+H11*'Set Up'!$B$21 -> 0 | I18: =SUM(B18:H18) -> 0 | J18: =ROUND(I18/$B$6,2) -> 0
A19: COMPANY AUTOMOBILE | I19: =SUM(B19:H19) -> 0 | J19: =ROUND(I19/$B$6,2) -> 0
A20: PARKING & TOLLS | I20: =SUM(B20:H20) -> 0 | J20: =ROUND(I20/$B$6,2) -> 0
A21: CABS or RENTAL CAR | I21: =SUM(B21:H21) -> 0 | J21: =ROUND(I21/$B$6,2) -> 0
A22: TELECOMMUNICATIONS | I22: =SUM(B22:H22) -> 0 | J22: =ROUND(I22/$B$6,2) -> 0
A23: AIRFARES | I23: =SUM(B23:H23) -> 0 | J23: =ROUND(I23/$B$6,2) -> 0
A24: COURIER | I24: =SUM(B24:H24) -> 0 | J24: =ROUND(I24/$B$6,2) -> 0
A25: OFFICE SUPPLIES | I25: =SUM(B25:H25) -> 0 | J25: =ROUND(I25/$B$6,2) -> 0
A26: POSTAGE | I26: =SUM(B26:H26) -> 0 | J26: =ROUND(I26/$B$6,2) -> 0
A27: MISCELLANEOUS | I27: =SUM(B27:H27) -> 0 | J27: =ROUND(I27/$B$6,2) -> 0
A28: OTHER | I28: =SUM(B28:H28) -> 0 | J28: =ROUND(I28/$B$6,2) -> 0
A29: OTHER | I29: =SUM(B29:H29) -> 0 | J29: =ROUND(I29/$B$6,2) -> 0
A30: TOTALS (LOCAL CURRENCY) | B30: =SUM(B12:B29) -> 0 | C30: =SUM(C12:C29) -> 0 | D30: =SUM(D12:D29) -> 0 | E30: =SUM(E12:E29) -> 0 | F30: =SUM(F12:F29) -> 0 | G30: =SUM(G12:G29) -> 0 | H30: =SUM(H12:H29) -> 0 | I30: =SUM(B30:H30) -> 0
A31: =CONCATENATE("TOTAL ",+'Set Up'!B14) -> TOTAL USD | B31: =B30/$B6 -> 0 | C31: =C30/$B6 -> 0 | D31: =D30/$B6 -> 0 | E31: =E30/$B6 -> 0 | F31: =F30/$B6 -> 0 | G31: =G30/$B6 -> 0 | H31: =H30/$B6 -> 0 | J31: =SUM(SUM(J12:J29)) -> 0

Sheet TER-4B
A1: WEEKLY CALL, BUSINESS MEALS AND ENTERTAINMENT REPORT
A2: COMPANY NAME | B2: CITY | C2: PERSON CONTACTED (TITLE) | F2: REMARKS | I2: RESTAURANT | J2: AMOUNT
A27: PURPOSE OF TRIP | G27: MISCELLANEOUS EXPENSES
A28: Trip Reference No:
A29: Customer:
A30: Trip Purpose:

Sheet TER-5
A1: =UPPER('Set Up'!B16) -> JAMESWAY INCUBATOR | J1: =+'Set Up'!E2 -> Rev 1.28
A2: TRAVEL EXPENSE REPORT
A3: NAME | B3: =+'Set Up'!B8 -> 0
A4: SIGNATURE | G4: DEPARTMENT | I4: =+'Set Up'!B10 -> Consulting
A5: COUNTRY | G5: WEEK ENDING DATE | I5: =+H9 -> 39978
A6: CONVERSION RATE | B6: 1 | C6: =CONCATENATE("TO ",'Set Up'!B14) -> TO USD
A8: DESCRIPTION | B8: SUNDAY | C8: MONDAY | D8: TUESDAY | E8: WEDNESDAY | F8: THURSDAY | G8: FRIDAY | H8: SATURDAY | I8: TOTALS LOCAL CURRENCY | J8: =CONCATENATE("TOTALS ",+'Set Up'!B14) -> TOTALS USD
A9: DATE | B9: ='TER-4'!H9+1 -> 39972 | C9: =$B9+1 -> 39973 | D9: =$C9+1 -> 39974 | E9: =$D9+1 -> 39975 | F9: =$E9+1 -> 39976 | G9: =$F9+1 -> 39977 | H9: =$G9+1 -> 39978
A10: WORKING CITY/COUNTRY
A11: =CONCATENATE("BUSINESS MILES or KM'S RATE=", 'Set Up'!B21," ¢/ML/KM") -> BUSINESS MILES or KM'S RATE=0.461 ¢/ML/KM | I11: =SUM(B11:H11) -> 0 | J11: =+I11 -> 0
A12: HOTEL | I12: =SUM(B12:H12) -> 0 | J12: =ROUND(I12/$B$6,2) -> 0
A13: LAUNDRY & CLEANING | I13: =SUM(B13:H13) -> 0 | J13: =ROUND(I13/$B$6,2) -> 0
A14: MEALS | I14: =SUM(B14:H14) -> 0 | J14: =ROUND(I14/$B$6,2) -> 0
A15: BUSINESS MEALS | I15: =SUM(B15:H15) -> 0 | J15: =ROUND(I15/$B$6,2) -> 0
A16: TIPS | I16: =SUM(B16:H16) -> 0 | J16: =ROUND(I16/$B$6,2) -> 0
A17: ENTERTAINMENT | I17: =SUM(B17:H17) -> 0 | J17: =ROUND(I17/$B$6,2) -> 0
A18: MILEAGE ALLOWANCE | B18: =+B11*'Set Up'!$B$21 -> 0 | C18: =+C11*'Set Up'!$B$21 -> 0 | D18: =+D11*'Set Up'!$B$21 -> 0 | E18: =+E11*'Set Up'!$B$21 -> 0 | F18: =+F11*'Set Up'!$B$21 -> 0 | G18: =+G11*'Set Up'!$B$21 -> 0 | H18: =+H11*'Set Up'!$B$21 -> 0 | I18: =SUM(B18:H18) -> 0 | J18: =ROUND(I18/$B$6,2) -> 0
A19: COMPANY AUTOMOBILE | I19: =SUM(B19:H19) -> 0 | J19: =ROUND(I19/$B$6,2) -> 0
A20: PARKING & TOLLS | I20: =SUM(B20:H20) -> 0 | J20: =ROUND(I20/$B$6,2) -> 0
A21: CABS or RENTAL CAR | I21: =SUM(B21:H21) -> 0 | J21: =ROUND(I21/$B$6,2) -> 0
A22: TELECOMMUNICATIONS | I22: =SUM(B22:H22) -> 0 | J22: =ROUND(I22/$B$6,2) -> 0
A23: AIRFARES | I23: =SUM(B23:H23) -> 0 | J23: =ROUND(I23/$B$6,2) -> 0
A24: COURIER | I24: =SUM(B24:H24) -> 0 | J24: =ROUND(I24/$B$6,2) -> 0
A25: OFFICE SUPPLIES | I25: =SUM(B25:H25) -> 0 | J25: =ROUND(I25/$B$6,2) -> 0
A26: POSTAGE | I26: =SUM(B26:H26) -> 0 | J26: =ROUND(I26/$B$6,2) -> 0
A27: MISCELLANEOUS | I27: =SUM(B27:H27) -> 0 | J27: =ROUND(I27/$B$6,2) -> 0
A28: OTHER | I28: =SUM(B28:H28) -> 0 | J28: =ROUND(I28/$B$6,2) -> 0
A29: OTHER | I29: =SUM(B29:H29) -> 0 | J29: =ROUND(I29/$B$6,2) -> 0
A30: TOTALS (LOCAL CURRENCY) | B30: =SUM(B12:B29) -> 0 | C30: =SUM(C12:C29) -> 0 | D30: =SUM(D12:D29) -> 0 | E30: =SUM(E12:E29) -> 0 | F30: =SUM(F12:F29) -> 0 | G30: =SUM(G12:G29) -> 0 | H30: =SUM(H12:H29) -> 0 | I30: =SUM(B30:H30) -> 0
A31: =CONCATENATE("TOTAL ",+'Set Up'!B14) -> TOTAL USD | B31: =B30/$B6 -> 0 | C31: =C30/$B6 -> 0 | D31: =D30/$B6 -> 0 | E31: =E30/$B6 -> 0 | F31: =F30/$B6 -> 0 | G31: =G30/$B6 -> 0 | H31: =H30/$B6 -> 0 | J31: =SUM(SUM(J12:J29)) -> 0

Sheet TER-5B
A1: WEEKLY CALL, BUSINESS MEALS AND ENTERTAINMENT REPORT
A2: COMPANY NAME | B2: CITY | C2: PERSON CONTACTED (TITLE) | F2: REMARKS | I2: RESTAURANT | J2: AMOUNT
A27: PURPOSE OF TRIP | G27: MISCELLANEOUS EXPENSES
A28: Trip Reference No:
A29: Customer:
A30: Trip Purpose:

Sheet TER-6
A1: =UPPER('Set Up'!B16) -> JAMESWAY INCUBATOR | J1: =+'Set Up'!E2 -> Rev 1.28
A2: TRAVEL EXPENSE REPORT
A3: NAME | B3: =+'Set Up'!B8 -> 0
A4: SIGNATURE | G4: DEPARTMENT | I4: =+'Set Up'!B10 -> Consulting
A5: COUNTRY | G5: WEEK ENDING DATE | I5: =+H9 -> 39985
A6: CONVERSION RATE | B6: 1 | C6: =CONCATENATE("TO ",'Set Up'!B14) -> TO USD
A8: DESCRIPTION | B8: SUNDAY | C8: MONDAY | D8: TUESDAY | E8: WEDNESDAY | F8: THURSDAY | G8: FRIDAY | H8: SATURDAY | I8: TOTALS LOCAL CURRENCY | J8: =CONCATENATE("TOTALS ",+'Set Up'!B14) -> TOTALS USD
A9: DATE | B9: ='TER-5'!H9+1 -> 39979 | C9: =$B9+1 -> 39980 | D9: =$C9+1 -> 39981 | E9: =$D9+1 -> 39982 | F9: =$E9+1 -> 39983 | G9: =$F9+1 -> 39984 | H9: =$G9+1 -> 39985
A10: WORKING CITY/COUNTRY
A11: =CONCATENATE("BUSINESS MILES or KM'S RATE=", 'Set Up'!B21," ¢/ML/KM") -> BUSINESS MILES or KM'S RATE=0.461 ¢/ML/KM | I11: =SUM(B11:H11) -> 0 | J11: =+I11 -> 0
A12: HOTEL | I12: =SUM(B12:H12) -> 0 | J12: =ROUND(I12/$B$6,2) -> 0
A13: LAUNDRY & CLEANING | I13: =SUM(B13:H13) -> 0 | J13: =ROUND(I13/$B$6,2) -> 0
A14: MEALS | I14: =SUM(B14:H14) -> 0 | J14: =ROUND(I14/$B$6,2) -> 0
A15: BUSINESS MEALS | I15: =SUM(B15:H15) -> 0 | J15: =ROUND(I15/$B$6,2) -> 0
A16: TIPS | I16: =SUM(B16:H16) -> 0 | J16: =ROUND(I16/$B$6,2) -> 0
A17: ENTERTAINMENT | I17: =SUM(B17:H17) -> 0 | J17: =ROUND(I17/$B$6,2) -> 0
A18: MILEAGE ALLOWANCE | B18: =+B11*'Set Up'!$B$21 -> 0 | C18: =+C11*'Set Up'!$B$21 -> 0 | D18: =+D11*'Set Up'!$B$21 -> 0 | E18: =+E11*'Set Up'!$B$21 -> 0 | F18: =+F11*'Set Up'!$B$21 -> 0 | G18: =+G11*'Set Up'!$B$21 -> 0 | H18: =+H11*'Set Up'!$B$21 -> 0 | I18: =SUM(B18:H18) -> 0 | J18: =ROUND(I18/$B$6,2) -> 0
A19: COMPANY AUTOMOBILE | I19: =SUM(B19:H19) -> 0 | J19: =ROUND(I19/$B$6,2) -> 0
A20: PARKING & TOLLS | I20: =SUM(B20:H20) -> 0 | J20: =ROUND(I20/$B$6,2) -> 0
A21: CABS or RENTAL CAR | I21: =SUM(B21:H21) -> 0 | J21: =ROUND(I21/$B$6,2) -> 0
A22: TELECOMMUNICATIONS | I22: =SUM(B22:H22) -> 0 | J22: =ROUND(I22/$B$6,2) -> 0
A23: AIRFARES | I23: =SUM(B23:H23) -> 0 | J23: =ROUND(I23/$B$6,2) -> 0
A24: COURIER | I24: =SUM(B24:H24) -> 0 | J24: =ROUND(I24/$B$6,2) -> 0
A25: OFFICE SUPPLIES | I25: =SUM(B25:H25) -> 0 | J25: =ROUND(I25/$B$6,2) -> 0
A26: POSTAGE | I26: =SUM(B26:H26) -> 0 | J26: =ROUND(I26/$B$6,2) -> 0
A27: MISCELLANEOUS | I27: =SUM(B27:H27) -> 0 | J27: =ROUND(I27/$B$6,2) -> 0
A28: OTHER | I28: =SUM(B28:H28) -> 0 | J28: =ROUND(I28/$B$6,2) -> 0
A29: OTHER | I29: =SUM(B29:H29) -> 0 | J29: =ROUND(I29/$B$6,2) -> 0
A30: TOTALS (LOCAL CURRENCY) | B30: =SUM(B12:B29) -> 0 | C30: =SUM(C12:C29) -> 0 | D30: =SUM(D12:D29) -> 0 | E30: =SUM(E12:E29) -> 0 | F30: =SUM(F12:F29) -> 0 | G30: =SUM(G12:G29) -> 0 | H30: =SUM(H12:H29) -> 0 | I30: =SUM(B30:H30) -> 0
A31: =CONCATENATE("TOTAL ",+'Set Up'!B14) -> TOTAL USD | B31: =B30/$B6 -> 0 | C31: =C30/$B6 -> 0 | D31: =D30/$B6 -> 0 | E31: =E30/$B6 -> 0 | F31: =F30/$B6 -> 0 | G31: =G30/$B6 -> 0 | H31: =H30/$B6 -> 0 | J31: =SUM(SUM(J12:J29)) -> 0

Sheet TER-6B
A1: WEEKLY CALL, BUSINESS MEALS AND ENTERTAINMENT REPORT
A2: COMPANY NAME | B2: CITY | C2: PERSON CONTACTED (TITLE) | F2: REMARKS | I2: RESTAURANT | J2: AMOUNT
A27: PURPOSE OF TRIP | G27: MISCELLANEOUS EXPENSES
A28: Trip Reference No:
A29: Customer:
A30: Trip Purpose:

Sheet TER-7
A1: =UPPER('Set Up'!B16) -> JAMESWAY INCUBATOR | J1: =+'Set Up'!E2 -> Rev 1.28
A2: TRAVEL EXPENSE REPORT
A3: NAME | B3: =+'Set Up'!B8 -> 0
A4: SIGNATURE | G4: DEPARTMENT | I4: =+'Set Up'!B10 -> Consulting
A5: COUNTRY | G5: WEEK ENDING DATE | I5: =+H9 -> 39992
A6: CONVERSION RATE | B6: 1 | C6: =CONCATENATE("TO ",'Set Up'!B14) -> TO USD
A8: DESCRIPTION | B8: SUNDAY | C8: MONDAY | D8: TUESDAY | E8: WEDNESDAY | F8: THURSDAY | G8: FRIDAY | H8: SATURDAY | I8: TOTALS LOCAL CURRENCY | J8: =CONCATENATE("TOTALS ",+'Set Up'!B14) -> TOTALS USD
A9: DATE | B9: ='TER-6'!H9+1 -> 39986 | C9: =$B9+1 -> 39987 | D9: =$C9+1 -> 39988 | E9: =$D9+1 -> 39989 | F9: =$E9+1 -> 39990 | G9: =$F9+1 -> 39991 | H9: =$G9+1 -> 39992
A10: WORKING CITY/COUNTRY
A11: =CONCATENATE("BUSINESS MILES or KM'S RATE=", 'Set Up'!B21," ¢/ML/KM") -> BUSINESS MILES or KM'S RATE=0.461 ¢/ML/KM | I11: =SUM(B11:H11) -> 0 | J11: =+I11 -> 0
A12: HOTEL | I12: =SUM(B12:H12) -> 0 | J12: =ROUND(I12/$B$6,2) -> 0
A13: LAUNDRY & CLEANING | I13: =SUM(B13:H13) -> 0 | J13: =ROUND(I13/$B$6,2) -> 0
A14: MEALS | I14: =SUM(B14:H14) -> 0 | J14: =ROUND(I14/$B$6,2) -> 0
A15: BUSINESS MEALS | I15: =SUM(B15:H15) -> 0 | J15: =ROUND(I15/$B$6,2) -> 0
A16: TIPS | I16: =SUM(B16:H16) -> 0 | J16: =ROUND(I16/$B$6,2) -> 0
A17: ENTERTAINMENT | I17: =SUM(B17:H17) -> 0 | J17: =ROUND(I17/$B$6,2) -> 0
A18: MILEAGE ALLOWANCE | B18: =+B11*'Set Up'!$B$21 -> 0 | C18: =+C11*'Set Up'!$B$21 -> 0 | D18: =+D11*'Set Up'!$B$21 -> 0 | E18: =+E11*'Set Up'!$B$21 -> 0 | F18: =+F11*'Set Up'!$B$21 -> 0 | G18: =+G11*'Set Up'!$B$21 -> 0 | H18: =+H11*'Set Up'!$B$21 -> 0 | I18: =SUM(B18:H18) -> 0 | J18: =ROUND(I18/$B$6,2) -> 0
A19: COMPANY AUTOMOBILE | I19: =SUM(B19:H19) -> 0 | J19: =ROUND(I19/$B$6,2) -> 0
A20: PARKING & TOLLS | I20: =SUM(B20:H20) -> 0 | J20: =ROUND(I20/$B$6,2) -> 0
A21: CABS or RENTAL CAR | I21: =SUM(B21:H21) -> 0 | J21: =ROUND(I21/$B$6,2) -> 0
A22: TELECOMMUNICATIONS | I22: =SUM(B22:H22) -> 0 | J22: =ROUND(I22/$B$6,2) -> 0
A23: AIRFARES | I23: =SUM(B23:H23) -> 0 | J23: =ROUND(I23/$B$6,2) -> 0
A24: COURIER | I24: =SUM(B24:H24) -> 0 | J24: =ROUND(I24/$B$6,2) -> 0
A25: OFFICE SUPPLIES | I25: =SUM(B25:H25) -> 0 | J25: =ROUND(I25/$B$6,2) -> 0
A26: POSTAGE | I26: =SUM(B26:H26) -> 0 | J26: =ROUND(I26/$B$6,2) -> 0
A27: MISCELLANEOUS | I27: =SUM(B27:H27) -> 0 | J27: =ROUND(I27/$B$6,2) -> 0
A28: OTHER | I28: =SUM(B28:H28) -> 0 | J28: =ROUND(I28/$B$6,2) -> 0
A29: OTHER | I29: =SUM(B29:H29) -> 0 | J29: =ROUND(I29/$B$6,2) -> 0
A30: TOTALS (LOCAL CURRENCY) | B30: =SUM(B12:B29) -> 0 | C30: =SUM(C12:C29) -> 0 | D30: =SUM(D12:D29) -> 0 | E30: =SUM(E12:E29) -> 0 | F30: =SUM(F12:F29) -> 0 | G30: =SUM(G12:G29) -> 0 | H30: =SUM(H12:H29) -> 0 | I30: =SUM(B30:H30) -> 0
A31: =CONCATENATE("TOTAL ",+'Set Up'!B14) -> TOTAL USD | B31: =B30/$B6 -> 0 | C31: =C30/$B6 -> 0 | D31: =D30/$B6 -> 0 | E31: =E30/$B6 -> 0 | F31: =F30/$B6 -> 0 | G31: =G30/$B6 -> 0 | H31: =H30/$B6 -> 0 | J31: =SUM(SUM(J12:J29)) -> 0

Sheet TER-7B
A1: WEEKLY CALL, BUSINESS MEALS AND ENTERTAINMENT REPORT
A2: COMPANY NAME | B2: CITY | C2: PERSON CONTACTED (TITLE) | F2: REMARKS | I2: RESTAURANT | J2: AMOUNT
A27: PURPOSE OF TRIP | G27: MISCELLANEOUS EXPENSES
A28: Trip Reference No:
A29: Customer:
A30: Trip Purpose:

Sheet TER-8
A1: =UPPER('Set Up'!B16) -> JAMESWAY INCUBATOR | J1: =+'Set Up'!E2 -> Rev 1.28
A2: TRAVEL EXPENSE REPORT
A3: NAME | B3: =+'Set Up'!B8 -> 0
A4: SIGNATURE | G4: DEPARTMENT | I4: =+'Set Up'!B10 -> Consulting
A5: COUNTRY | G5: WEEK ENDING DATE | I5: =+H9 -> 39999
A6: CONVERSION RATE | B6: 1 | C6: =CONCATENATE("TO ",'Set Up'!B14) -> TO USD
A8: DESCRIPTION | B8: SUNDAY | C8: MONDAY | D8: TUESDAY | E8: WEDNESDAY | F8: THURSDAY | G8: FRIDAY | H8: SATURDAY | I8: TOTALS LOCAL CURRENCY | J8: =CONCATENATE("TOTALS ",+'Set Up'!B14) -> TOTALS USD
A9: DATE | B9: ='TER-7'!H9+1 -> 39993 | C9: =$B9+1 -> 39994 | D9: =$C9+1 -> 39995 | E9: =$D9+1 -> 39996 | F9: =$E9+1 -> 39997 | G9: =$F9+1 -> 39998 | H9: =$G9+1 -> 39999
A10: WORKING CITY/COUNTRY
A11: =CONCATENATE("BUSINESS MILES or KM'S RATE=", 'Set Up'!B21," ¢/ML/KM") -> BUSINESS MILES or KM'S RATE=0.461 ¢/ML/KM | I11: =SUM(B11:H11) -> 0 | J11: =+I11 -> 0
A12: HOTEL | I12: =SUM(B12:H12) -> 0 | J12: =ROUND(I12/$B$6,2) -> 0
A13: LAUNDRY & CLEANING | I13: =SUM(B13:H13) -> 0 | J13: =ROUND(I13/$B$6,2) -> 0
A14: MEALS | I14: =SUM(B14:H14) -> 0 | J14: =ROUND(I14/$B$6,2) -> 0
A15: BUSINESS MEALS | I15: =SUM(B15:H15) -> 0 | J15: =ROUND(I15/$B$6,2) -> 0
A16: TIPS | I16: =SUM(B16:H16) -> 0 | J16: =ROUND(I16/$B$6,2) -> 0
A17: ENTERTAINMENT | I17: =SUM(B17:H17) -> 0 | J17: =ROUND(I17/$B$6,2) -> 0
A18: MILEAGE ALLOWANCE | B18: =+B11*'Set Up'!$B$21 -> 0 | C18: =+C11*'Set Up'!$B$21 -> 0 | D18: =+D11*'Set Up'!$B$21 -> 0 | E18: =+E11*'Set Up'!$B$21 -> 0 | F18: =+F11*'Set Up'!$B$21 -> 0 | G18: =+G11*'Set Up'!$B$21 -> 0 | H18: =+H11*'Set Up'!$B$21 -> 0 | I18: =SUM(B18:H18) -> 0 | J18: =ROUND(I18/$B$6,2) -> 0
A19: COMPANY AUTOMOBILE | I19: =SUM(B19:H19) -> 0 | J19: =ROUND(I19/$B$6,2) -> 0
A20: PARKING & TOLLS | I20: =SUM(B20:H20) -> 0 | J20: =ROUND(I20/$B$6,2) -> 0
A21: CABS or RENTAL CAR | I21: =SUM(B21:H21) -> 0 | J21: =ROUND(I21/$B$6,2) -> 0
A22: TELECOMMUNICATIONS | I22: =SUM(B22:H22) -> 0 | J22: =ROUND(I22/$B$6,2) -> 0
A23: AIRFARES | I23: =SUM(B23:H23) -> 0 | J23: =ROUND(I23/$B$6,2) -> 0
A24: COURIER | I24: =SUM(B24:H24) -> 0 | J24: =ROUND(I24/$B$6,2) -> 0
A25: OFFICE SUPPLIES | I25: =SUM(B25:H25) -> 0 | J25: =ROUND(I25/$B$6,2) -> 0
A26: POSTAGE | I26: =SUM(B26:H26) -> 0 | J26: =ROUND(I26/$B$6,2) -> 0
A27: MISCELLANEOUS | I27: =SUM(B27:H27) -> 0 | J27: =ROUND(I27/$B$6,2) -> 0
A28: OTHER | I28: =SUM(B28:H28) -> 0 | J28: =ROUND(I28/$B$6,2) -> 0
A29: OTHER | I29: =SUM(B29:H29) -> 0 | J29: =ROUND(I29/$B$6,2) -> 0
A30: TOTALS (LOCAL CURRENCY) | B30: =SUM(B12:B29) -> 0 | C30: =SUM(C12:C29) -> 0 | D30: =SUM(D12:D29) -> 0 | E30: =SUM(E12:E29) -> 0 | F30: =SUM(F12:F29) -> 0 | G30: =SUM(G12:G29) -> 0 | H30: =SUM(H12:H29) -> 0 | I30: =SUM(B30:H30) -> 0
A31: =CONCATENATE("TOTAL ",+'Set Up'!B14) -> TOTAL USD | B31: =B30/$B6 -> 0 | C31: =C30/$B6 -> 0 | D31: =D30/$B6 -> 0 | E31: =E30/$B6 -> 0 | F31: =F30/$B6 -> 0 | G31: =G30/$B6 -> 0 | H31: =H30/$B6 -> 0 | J31: =SUM(SUM(J12:J29)) -> 0

Sheet TER-8B
A1: WEEKLY CALL, BUSINESS MEALS AND ENTERTAINMENT REPORT
A2: COMPANY NAME | B2: CITY | C2: PERSON CONTACTED (TITLE) | F2: REMARKS | I2: RESTAURANT | J2: AMOUNT
A27: PURPOSE OF TRIP | G27: MISCELLANEOUS EXPENSES
A28: Trip Reference No:
A29: Customer:
A30: Trip Purpose:

Sheet TER-9
A1: =UPPER('Set Up'!B16) -> JAMESWAY INCUBATOR | J1: =+'Set Up'!E2 -> Rev 1.28
A2: TRAVEL EXPENSE REPORT
A3: NAME | B3: =+'Set Up'!B8 -> 0
A4: SIGNATURE | G4: DEPARTMENT | I4: =+'Set Up'!B10 -> Consulting
A5: COUNTRY | G5: WEEK ENDING DATE | I5: =+H9 -> 40006
A6: CONVERSION RATE | B6: 1 | C6: =CONCATENATE("TO ",'Set Up'!B14) -> TO USD
A8: DESCRIPTION | B8: SUNDAY | C8: MONDAY | D8: TUESDAY | E8: WEDNESDAY | F8: THURSDAY | G8: FRIDAY | H8: SATURDAY | I8: TOTALS LOCAL CURRENCY | J8: =CONCATENATE("TOTALS ",+'Set Up'!B14) -> TOTALS USD
A9: DATE | B9: ='TER-8'!H9+1 -> 40000 | C9: =$B9+1 -> 40001 | D9: =$C9+1 -> 40002 | E9: =$D9+1 -> 40003 | F9: =$E9+1 -> 40004 | G9: =$F9+1 -> 40005 | H9: =$G9+1 -> 40006
A10: WORKING CITY/COUNTRY
A11: =CONCATENATE("BUSINESS MILES or KM'S RATE=", 'Set Up'!B21," ¢/ML/KM") -> BUSINESS MILES or KM'S RATE=0.461 ¢/ML/KM | I11: =SUM(B11:H11) -> 0 | J11: =+I11 -> 0
A12: HOTEL | I12: =SUM(B12:H12) -> 0 | J12: =ROUND(I12/$B$6,2) -> 0
A13: LAUNDRY & CLEANING | I13: =SUM(B13:H13) -> 0 | J13: =ROUND(I13/$B$6,2) -> 0
A14: MEALS | I14: =SUM(B14:H14) -> 0 | J14: =ROUND(I14/$B$6,2) -> 0
A15: BUSINESS MEALS | I15: =SUM(B15:H15) -> 0 | J15: =ROUND(I15/$B$6,2) -> 0
A16: TIPS | I16: =SUM(B16:H16) -> 0 | J16: =ROUND(I16/$B$6,2) -> 0
A17: ENTERTAINMENT | I17: =SUM(B17:H17) -> 0 | J17: =ROUND(I17/$B$6,2) -> 0
A18: MILEAGE ALLOWANCE | B18: =+B11*'Set Up'!$B$21 -> 0 | C18: =+C11*'Set Up'!$B$21 -> 0 | D18: =+D11*'Set Up'!$B$21 -> 0 | E18: =+E11*'Set Up'!$B$21 -> 0 | F18: =+F11*'Set Up'!$B$21 -> 0 | G18: =+G11*'Set Up'!$B$21 -> 0 | H18: =+H11*'Set Up'!$B$21 -> 0 | I18: =SUM(B18:H18) -> 0 | J18: =ROUND(I18/$B$6,2) -> 0
A19: COMPANY AUTOMOBILE | I19: =SUM(B19:H19) -> 0 | J19: =ROUND(I19/$B$6,2) -> 0
A20: PARKING & TOLLS | I20: =SUM(B20:H20) -> 0 | J20: =ROUND(I20/$B$6,2) -> 0
A21: CABS or RENTAL CAR | I21: =SUM(B21:H21) -> 0 | J21: =ROUND(I21/$B$6,2) -> 0
A22: TELECOMMUNICATIONS | I22: =SUM(B22:H22) -> 0 | J22: =ROUND(I22/$B$6,2) -> 0
A23: AIRFARES | I23: =SUM(B23:H23) -> 0 | J23: =ROUND(I23/$B$6,2) -> 0
A24: COURIER | I24: =SUM(B24:H24) -> 0 | J24: =ROUND(I24/$B$6,2) -> 0
A25: OFFICE SUPPLIES | I25: =SUM(B25:H25) -> 0 | J25: =ROUND(I25/$B$6,2) -> 0
A26: POSTAGE | I26: =SUM(B26:H26) -> 0 | J26: =ROUND(I26/$B$6,2) -> 0
A27: MISCELLANEOUS | I27: =SUM(B27:H27) -> 0 | J27: =ROUND(I27/$B$6,2) -> 0
A28: OTHER | I28: =SUM(B28:H28) -> 0 | J28: =ROUND(I28/$B$6,2) -> 0
A29: OTHER | I29: =SUM(B29:H29) -> 0 | J29: =ROUND(I29/$B$6,2) -> 0
A30: TOTALS (LOCAL CURRENCY) | B30: =SUM(B12:B29) -> 0 | C30: =SUM(C12:C29) -> 0 | D30: =SUM(D12:D29) -> 0 | E30: =SUM(E12:E29) -> 0 | F30: =SUM(F12:F29) -> 0 | G30: =SUM(G12:G29) -> 0 | H30: =SUM(H12:H29) -> 0 | I30: =SUM(B30:H30) -> 0
A31: =CONCATENATE("TOTAL ",+'Set Up'!B14) -> TOTAL USD | B31: =B30/$B6 -> 0 | C31: =C30/$B6 -> 0 | D31: =D30/$B6 -> 0 | E31: =E30/$B6 -> 0 | F31: =F30/$B6 -> 0 | G31: =G30/$B6 -> 0 | H31: =H30/$B6 -> 0 | J31: =SUM(SUM(J12:J29)) -> 0

Sheet TER-9B
A1: WEEKLY CALL, BUSINESS MEALS AND ENTERTAINMENT REPORT
A2: COMPANY NAME | B2: CITY | C2: PERSON CONTACTED (TITLE) | F2: REMARKS | I2: RESTAURANT | J2: AMOUNT
A27: PURPOSE OF TRIP | G27: MISCELLANEOUS EXPENSES
A28: Trip Reference No:
A29: Customer:
A30: Trip Purpose:

Sheet TER-10
A1: =UPPER('Set Up'!B16) -> JAMESWAY INCUBATOR | J1: =+'Set Up'!E2 -> Rev 1.28
A2: TRAVEL EXPENSE REPORT
A3: NAME | B3: =+'Set Up'!B8 -> 0
A4: SIGNATURE | G4: DEPARTMENT | I4: =+'Set Up'!B10 -> Consulting
A5: COUNTRY | G5: WEEK ENDING DATE | I5: =+H9 -> 40013
A6: CONVERSION RATE | B6: 1 | C6: =CONCATENATE("TO ",'Set Up'!B14) -> TO USD
A8: DESCRIPTION | B8: SUNDAY | C8: MONDAY | D8: TUESDAY | E8: WEDNESDAY | F8: THURSDAY | G8: FRIDAY | H8: SATURDAY | I8: TOTALS LOCAL CURRENCY | J8: =CONCATENATE("TOTALS ",+'Set Up'!B14) -> TOTALS USD
A9: DATE | B9: ='TER-9'!H9+1 -> 40007 | C9: =$B9+1 -> 40008 | D9: =$C9+1 -> 40009 | E9: =$D9+1 -> 40010 | F9: =$E9+1 -> 40011 | G9: =$F9+1 -> 40012 | H9: =$G9+1 -> 40013
A10: WORKING CITY/COUNTRY
A11: =CONCATENATE("BUSINESS MILES or KM'S RATE=", 'Set Up'!B21," ¢/ML/KM") -> BUSINESS MILES or KM'S RATE=0.461 ¢/ML/KM | I11: =SUM(B11:H11) -> 0 | J11: =+I11 -> 0
A12: HOTEL | I12: =SUM(B12:H12) -> 0 | J12: =ROUND(I12/$B$6,2) -> 0
A13: LAUNDRY & CLEANING | I13: =SUM(B13:H13) -> 0 | J13: =ROUND(I13/$B$6,2) -> 0
A14: MEALS | I14: =SUM(B14:H14) -> 0 | J14: =ROUND(I14/$B$6,2) -> 0
A15: BUSINESS MEALS | I15: =SUM(B15:H15) -> 0 | J15: =ROUND(I15/$B$6,2) -> 0
A16: TIPS | I16: =SUM(B16:H16) -> 0 | J16: =ROUND(I16/$B$6,2) -> 0
A17: ENTERTAINMENT | I17: =SUM(B17:H17) -> 0 | J17: =ROUND(I17/$B$6,2) -> 0
A18: MILEAGE ALLOWANCE | B18: =+B11*'Set Up'!$B$21 -> 0 | C18: =+C11*'Set Up'!$B$21 -> 0 | D18: =+D11*'Set Up'!$B$21 -> 0 | E18: =+E11*'Set Up'!$B$21 -> 0 | F18: =+F11*'Set Up'!$B$21 -> 0 | G18: =+G11*'Set Up'!$B$21 -> 0 | H18: =+H11*'Set Up'!$B$21 -> 0 | I18: =SUM(B18:H18) -> 0 | J18: =ROUND(I18/$B$6,2) -> 0
A19: COMPANY AUTOMOBILE | I19: =SUM(B19:H19) -> 0 | J19: =ROUND(I19/$B$6,2) -> 0
A20: PARKING & TOLLS | I20: =SUM(B20:H20) -> 0 | J20: =ROUND(I20/$B$6,2) -> 0
A21: CABS or RENTAL CAR | I21: =SUM(B21:H21) -> 0 | J21: =ROUND(I21/$B$6,2) -> 0
A22: TELECOMMUNICATIONS | I22: =SUM(B22:H22) -> 0 | J22: =ROUND(I22/$B$6,2) -> 0
A23: AIRFARES | I23: =SUM(B23:H23) -> 0 | J23: =ROUND(I23/$B$6,2) -> 0
A24: COURIER | I24: =SUM(B24:H24) -> 0 | J24: =ROUND(I24/$B$6,2) -> 0
A25: OFFICE SUPPLIES | I25: =SUM(B25:H25) -> 0 | J25: =ROUND(I25/$B$6,2) -> 0
A26: POSTAGE | I26: =SUM(B26:H26) -> 0 | J26: =ROUND(I26/$B$6,2) -> 0
A27: MISCELLANEOUS | I27: =SUM(B27:H27) -> 0 | J27: =ROUND(I27/$B$6,2) -> 0
A28: OTHER | I28: =SUM(B28:H28) -> 0 | J28: =ROUND(I28/$B$6,2) -> 0
A29: OTHER | I29: =SUM(B29:H29) -> 0 | J29: =ROUND(I29/$B$6,2) -> 0
A30: TOTALS (LOCAL CURRENCY) | B30: =SUM(B12:B29) -> 0 | C30: =SUM(C12:C29) -> 0 | D30: =SUM(D12:D29) -> 0 | E30: =SUM(E12:E29) -> 0 | F30: =SUM(F12:F29) -> 0 | G30: =SUM(G12:G29) -> 0 | H30: =SUM(H12:H29) -> 0 | I30: =SUM(B30:H30) -> 0
A31: =CONCATENATE("TOTAL ",+'Set Up'!B14) -> TOTAL USD | B31: =B30/$B6 -> 0 | C31: =C30/$B6 -> 0 | D31: =D30/$B6 -> 0 | E31: =E30/$B6 -> 0 | F31: =F30/$B6 -> 0 | G31: =G30/$B6 -> 0 | H31: =H30/$B6 -> 0 | J31: =SUM(SUM(J12:J29)) -> 0

Sheet TER-10B
A1: WEEKLY CALL, BUSINESS MEALS AND ENTERTAINMENT REPORT
A2: COMPANY NAME | B2: CITY | C2: PERSON CONTACTED (TITLE) | F2: REMARKS | I2: RESTAURANT | J2: AMOUNT
A27: PURPOSE OF TRIP | G27: MISCELLANEOUS EXPENSES
A28: Trip Reference No:
A29: Customer:
A30: Trip Purpose:
